Workbook

Sheet Resumen
A1: MINISTERIO DE SALUD
A2: SERVICIO DE SALUD COQUIMBO
A3: DEPARTAMENTO DE GESTIÓN, PLANIFICACIÓN Y CONTROL
A4: SUBDEPTO. DE ESTADÍSTICAS Y GESTIÓN DE LA INFORMACIÓN
A5: AÑO 2023
B8: COMUNA | C8: Mejoramiento del Acceso | L8: Odontológico Integral | S8: Sembrando Sonrisas | W8: GES Odontológico
C10: Endodoncias Odontólogo General en APS | D10: Endodoncia Especialistas | E10: Prótesis Odontólogo General en APS | F10: Prótesis Especialistas | G10: Periodoncia Especialistas | H10: Apoyo odontológico CECOF | I10: Morbilidad | J10: Clínica Dental Móvil | K10: Resultado | L10: Enseñanza Media | M10: Altas Hombres de Escasos Recursos (90%) | N10: Auditorías Hombres de Escasos Recursos (10%) | O10: Altas más sonrisas para Chile (90%) | P10: Auditorías más sonrisas (10%) | Q10: Altas en Domicilio | R10: Resultado | S10: Set de Higiene Entregados | T10: Exámenes de Salud | U10: Aplicaciones de Fluor | V10: Resultado | W10: Adultos de 60 años | X10: Resultado
B12: Peso | C12: 0.25 | H12: 0.25 | I12: 0.25 | J12: 0.25 | L12: 0.3 | M12: 0.3 | O12: 0.3 | Q12: 0.1 | S12: 0.33 | T12: 0.33 | U12: 0.34 | W12: 1
B13: 04101-LA SERENA | C13: 0.29714286 | D13: 0.21866667 | E13: 0.10777778 | F13: 0 | G13: 0.094520548 | H13: 10.723238 | I13: 0.88177083 | J13: 1 | K13: 3.3307791 | L13: 0.58339198 | M13: 1.05 | N13: 0.21 | O13: 0.6956962 | P13: 0.21 | Q13: 1.6852207 | R13: 0.99324853 | S13: 1.6068461 | T13: 1.1573011 | U13: 0.59685398 | V13: 1.1150989 | W13: 0.50930233 | X13: 0.50930233
B14: 04104-LA HIGUERA | C14: 0 | D14: 0 | E14: 0.2 | F14: 0 | G14: 0 | H14: 0 | I14: 0.62395833 | J14: 1 | K14: 0.45598958 | L14: 0 | M14: 0.45 | N14: 0 | O14: 0.468 | P14: 0 | Q14: 1 | R14: 0.3754 | S14: 1.53 | T14: 1.54 | U14: 0.69 | V14: 1.2477 | W14: 0 | X14: 0
B15: 04102-COQUIMBO | C15: 0.54727273 | D15: 0.44 | E15: 0.49125 | F15: 0.125 | G15: 0.32142857 | H15: 332.95455 | I15: 1.4457465 | J15: 1 | K15: 84.331311 | L15: 0.80545455 | M15: 0.6950495 | N15: 0.14 | O15: 0.25116279 | P15: 0.097142857 | Q15: 0.69393939 | R15: 0.66603685 | S15: 0.94254902 | T15: 0.9427451 | U15: 0.67558824 | V15: 0.85184706 | W15: 0.58823529 | X15: 0.58823529
B16: 04106-VICUÑA | C16: 0.36 | D16: 0 | E16: 0.4 | F16: 0 | G16: 0 | H16: 0 | I16: 0.9140625 | J16: 1 | K16: 0.66851562 | L16: 0 | M16: 0.9 | N16: 0 | O16: 0.91666667 | P16: 0 | Q16: 0.58333333 | R16: 0.60333333 | S16: 1.5259259 | T16: 1.112963 | U16: 0.55648148 | V16: 1.060037 | W16: 0.83333333 | X16: 0.83333333
B17: 04105-PAIHUANO | C17: 0.23333333 | D17: 0 | E17: 0.4 | F17: 0 | G17: 0 | H17: 0 | I17: 1.0510417 | J17: 1 | K17: 0.67109375 | L17: 1 | M17: 0.975 | N17: 0 | O17: 0.92608696 | P17: 0 | Q17: 1.3571429 | R17: 1.0060404 | S17: 2.11 | T17: 2.11 | U17: 1.005 | V17: 1.7343 | W17: 0.125 | X17: 0.125
B18: 04301-OVALLE | C18: 0.4 | D18: 0.4 | E18: 0.4 | F18: 0.4 | G18: 0.1375 | H18: 2.2856357 | I18: 0.60143229 | J18: 1 | K18: 1.406142 | L18: 1 | M18: 0.9 | N18: 0.1 | O18: 0.40067454 | P18: 0.1 | Q18: 1 | R18: 0.85020236 | S18: 0.87770492 | T18: 0.87770492 | U18: 0.72196721 | V18: 0.8247541 | W18: 1 | X18: 1
B19: 04305-RIO HURTADO | C19: 0 | D19: 0 | E19: 0.2 | F19: 0 | G19: 0 | H19: 0 | I19: 0.75833333 | J19: 1 | K19: 0.48958333 | L19: 0.23076923 | M19: 0.45 | N19: 0.1 | O19: 0.59240506 | P19: 0.1 | Q19: 0.57142857 | R19: 0.49909515 | S19: 0.66 | T19: 0.66 | U19: 0.65 | V19: 0.6566 | W19: 0.41176471 | X19: 0.41176471
B20: 04303-MONTE PATRIA | C20: 0 | D20: 0 | E20: 0 | F20: 0 | G20: 0 | H20: 0 | I20: 0.66493056 | J20: 1 | K20: 0.41623264 | L20: 1.2222222 | M20: 0.84 | N20: 0.15 | O20: 0.89170507 | P20: 0.1 | Q20: 1 | R20: 1.0611782 | S20: 0.92099448 | T20: 0.92099448 | U20: 0.92099448 | V20: 0.92099448 | W20: 0.68253968 | X20: 0.68253968
B21: 04304-PUNITAQUI | C21: 0.08 | D21: 0 | E21: 0 | F21: 0 | G21: 0 | H21: 0 | I21: 0.89583333 | J21: 1 | K21: 0.49395833 | L21: 0.085714286 | M21: 0.06 | N21: 0 | O21: 0.13728814 | P21: 0 | Q21: 0.54 | R21: 0.13890073 | S21: 0.027586207 | T21: 0.027586207 | U21: 0.013793103 | V21: 0.022896552 | W21: 0.2 | X21: 0.2
B22: 04302-COMBARBALÁ | C22: 0.061538462 | D22: 0 | E22: 0 | F22: 0 | G22: 0 | H22: 0 | I22: 0.10833333 | J22: 1 | K22: 0.29246795 | L22: 0 | M22: 0.24 | N22: 0 | O22: 0.41818182 | P22: 0 | Q22: 1.0428571 | R22: 0.30174026 | S22: 1.16 | T22: 1.83 | U22: 0.915 | V22: 1.2978 | W22: 0.6 | X22: 0.6
B23: 04201-ILLAPEL | C23: 0.41142857 | D23: 0 | E23: 0.46153846 | F23: 0 | G23: 0 | H23: 0 | I23: 1.3432292 | J23: 1 | K23: 0.80404905 | L23: 1.06 | M23: 0.9 | N23: 0 | O23: 0.78711864 | P23: 0.20666667 | Q23: 0.92 | R23: 0.97813559 | S23: 1.1185185 | T23: 1.1185185 | U23: 0.89074074 | V23: 1.0410741 | W23: 0.67272727 | X23: 0.67272727
B24: 04204-SALAMANCA | C24: 0.4 | D24: 0 | E24: 0.49777778 | F24: 0 | G24: 0 | H24: 0 | I24: 1.0036458 | J24: 1 | K24: 0.7253559 | L24: 0 | M24: 1.1142857 | N24: 0.15 | O24: 1.0083333 | P24: 0.1 | Q24: 1 | R24: 0.81178571 | S24: 1.05 | T24: 1.0518519 | U24: 0.82962963 | V24: 0.97568519 | W24: 1.0857143 | X24: 1.0857143
... B26: 04202-CANELA | C26: 0 | D26: 0 | E26: 0.4 | F26: 0 | G26: 0 | H26: 0 | I26: 1.00625 | J26: 1 | K26: 0.6015625 | L26: 1 | M26: 0.828 | N26: 0.1 | O26: 0.7983871 | P26: 0.1 | Q26: 0.19047619 | R26: 0.86696375 | S26: 1.35 | T26: 1.35 | U26: 0.6725 | V26: 1.11965 | W26: 1 | X26: 1

Sheet Mejoram comp 2
I1: Mes | J1: (Todas)
A2: Establecimiento | B2: Establecimiento | C2: Comuna | D2: Mes | E2: Total | F2: Posición
A3: 105012 | B3: =IFERROR(VLOOKUP(A3,'[1]Establecimiento 2023'!$A$1:$E$183,3,FALSE),0) -> 105012-Clínica Dental Móvil Triple. Pat. PW4100 (Monte Patria) | C3: =IFERROR(VLOOKUP(A3,'[1]Establecimiento 2023'!$A$1:$E$183,5,FALSE),0) -> 04303-Monte Patria | D3: 1 | E3: 429 | F3: 4 | I3: Etiquetas de fila | J3: Suma de Total
A4: 105012 | B4: =IFERROR(VLOOKUP(A4,'[1]Establecimiento 2023'!$A$1:$E$183,3,FALSE),0) -> 105012-Clínica Dental Móvil Triple. Pat. PW4100 (Monte Patria) | C4: =IFERROR(VLOOKUP(A4,'[1]Establecimiento 2023'!$A$1:$E$183,5,FALSE),0) -> 04303-Monte Patria | D4: 2 | E4: 297 | F4: 4 | I4: 105012-Clínica Dental Móvil | J4: 2865
A5: 105012 | B5: =IFERROR(VLOOKUP(A5,'[1]Establecimiento 2023'!$A$1:$E$183,3,FALSE),0) -> 105012-Clínica Dental Móvil Triple. Pat. PW4100 (Monte Patria) | C5: =IFERROR(VLOOKUP(A5,'[1]Establecimiento 2023'!$A$1:$E$183,5,FALSE),0) -> 04303-Monte Patria | D5: 3 | E5: 669 | F5: 4 | I5: 105100-Hospital San Juan de Dios (La Serena) | J5: 1960
A6: 105012 | B6: =IFERROR(VLOOKUP(A6,'[1]Establecimiento 2023'!$A$1:$E$183,3,FALSE),0) -> 105012-Clínica Dental Móvil Triple. Pat. PW4100 (Monte Patria) | C6: =IFERROR(VLOOKUP(A6,'[1]Establecimiento 2023'!$A$1:$E$183,5,FALSE),0) -> 04303-Monte Patria | D6: 4 | E6: 687 | F6: 4 | I6: 105102-Hospital Dr. Antonio Tirado Lanas de Ovalle | J6: 837
A7: 105012 | B7: =IFERROR(VLOOKUP(A7,'[1]Establecimiento 2023'!$A$1:$E$183,3,FALSE),0) -> 105012-Clínica Dental Móvil Triple. Pat. PW4100 (Monte Patria) | C7: =IFERROR(VLOOKUP(A7,'[1]Establecimiento 2023'!$A$1:$E$183,5,FALSE),0) -> 04303-Monte Patria | D7: 5 | E7: 783 | F7: 4 | I7: 105103-Hospital Dr. Humberto Elorza Cortés (Illapel) | J7: 1211
A8: 105100 | B8: =IFERROR(VLOOKUP(A8,'[1]Establecimiento 2023'!$A$1:$E$183,3,FALSE),0) -> 105100-Hospital San Juan de Dios (La Serena) | C8: =IFERROR(VLOOKUP(A8,'[1]Establecimiento 2023'!$A$1:$E$183,5,FALSE),0) -> 105100-Hospital La Serena | D8: 1 | E8: 371 | F8: 4 | I8: 105104-Hospital de Salamanca | J8: 12060
A9: 105100 | B9: =IFERROR(VLOOKUP(A9,'[1]Establecimiento 2023'!$A$1:$E$183,3,FALSE),0) -> 105100-Hospital San Juan de Dios (La Serena) | C9: =IFERROR(VLOOKUP(A9,'[1]Establecimiento 2023'!$A$1:$E$183,5,FALSE),0) -> 105100-Hospital La Serena | D9: 2 | E9: 299 | F9: 4 | I9: 105105-Hospital San Juan de Dios (Combarbalá) | J9: 5107
A10: 105100 | B10: =IFERROR(VLOOKUP(A10,'[1]Establecimiento 2023'!$A$1:$E$183,3,FALSE),0) -> 105100-Hospital San Juan de Dios (La Serena) | C10: =IFERROR(VLOOKUP(A10,'[1]Establecimiento 2023'!$A$1:$E$183,5,FALSE),0) -> 105100-Hospital La Serena | D10: 3 | E10: 422 | F10: 4 | I10: 105106-Hospital Dr. José Arraño (Andacollo) | J10: 7512
A11: 105100 | B11: =IFERROR(VLOOKUP(A11,'[1]Establecimiento 2023'!$A$1:$E$183,3,FALSE),0) -> 105100-Hospital San Juan de Dios (La Serena) | C11: =IFERROR(VLOOKUP(A11,'[1]Establecimiento 2023'!$A$1:$E$183,5,FALSE),0) -> 105100-Hospital La Serena | D11: 4 | E11: 352 | F11: 4 | I11: 105107-Hospital San Juan de Dios (Vicuña) | J11: 6129
A12: 105100 | B12: =IFERROR(VLOOKUP(A12,'[1]Establecimiento 2023'!$A$1:$E$183,3,FALSE),0) -> 105100-Hospital San Juan de Dios (La Serena) | C12: =IFERROR(VLOOKUP(A12,'[1]Establecimiento 2023'!$A$1:$E$183,5,FALSE),0) -> 105100-Hospital La Serena | D12: 5 | E12: 516 | F12: 4 | I12: 105108-Hospital San Pedro (Los Vilos) | J12: 8926
A13: 105102 | B13: =IFERROR(VLOOKUP(A13,'[1]Establecimiento 2023'!$A$1:$E$183,3,FALSE),0) -> 105102-Hospital Dr. Antonio Tirado Lanas de Ovalle | C13: =IFERROR(VLOOKUP(A13,'[1]Establecimiento 2023'!$A$1:$E$183,5,FALSE),0) -> 105102-Hospital Ovalle | D13: 1 | E13: 111 | F13: 4 | I13: 105300-Centro de Salud Familiar Cardenal Caro | J13: 13845
A14: 105102 | B14: =IFERROR(VLOOKUP(A14,'[1]Establecimiento 2023'!$A$1:$E$183,3,FALSE),0) -> 105102-Hospital Dr. Antonio Tirado Lanas de Ovalle | C14: =IFERROR(VLOOKUP(A14,'[1]Establecimiento 2023'!$A$1:$E$183,5,FALSE),0) -> 105102-Hospital Ovalle | D14: 2 | E14: 93 | F14: 4 | I14: 105301-Centro de Salud Familiar Las Compañías | J14: 10321
A15: 105102 | B15: =IFERROR(VLOOKUP(A15,'[1]Establecimiento 2023'!$A$1:$E$183,3,FALSE),0) -> 105102-Hospital Dr. Antonio Tirado Lanas de Ovalle | C15: =IFERROR(VLOOKUP(A15,'[1]Establecimiento 2023'!$A$1:$E$183,5,FALSE),0) -> 105102-Hospital Ovalle | D15: 3 | E15: 229 | F15: 4 | I15: 105302-Centro de Salud Familiar Pedro Aguirre Cerda | J15: 14314
... A139: 105319 | B139: =IFERROR(VLOOKUP(A139,'[1]Establecimiento 2023'!$A$1:$E$183,3,FALSE),0) -> 105319-Centro de Salud Familiar Cardenal Raúl Silva Henríquez de La Serena | C139: =IFERROR(VLOOKUP(A139,'[1]Establecimiento 2023'!$A$1:$E$183,5,FALSE),0) -> 04101-La Serena | D139: 2 | E139: 2520 | F139: 4 | I139: Total general | J139: 365436
A140: 105319 | B140: =IFERROR(VLOOKUP(A140,'[1]Establecimiento 2023'!$A$1:$E$183,3,FALSE),0) -> 105319-Centro de Salud Familiar Cardenal Raúl Silva Henríquez de La Serena | C140: =IFERROR(VLOOKUP(A140,'[1]Establecimiento 2023'!$A$1:$E$183,5,FALSE),0) -> 04101-La Serena | D140: 3 | E140: 2117 | F140: 4
A141: 105319 | B141: =IFERROR(VLOOKUP(A141,'[1]Establecimiento 2023'!$A$1:$E$183,3,FALSE),0) -> 105319-Centro de Salud Familiar Cardenal Raúl Silva Henríquez de La Serena | C141: =IFERROR(VLOOKUP(A141,'[1]Establecimiento 2023'!$A$1:$E$183,5,FALSE),0) -> 04101-La Serena | D141: 4 | E141: 1978 | F141: 4
A142: 105319 | B142: =IFERROR(VLOOKUP(A142,'[1]Establecimiento 2023'!$A$1:$E$183,3,FALSE),0) -> 105319-Centro de Salud Familiar Cardenal Raúl Silva Henríquez de La Serena | C142: =IFERROR(VLOOKUP(A142,'[1]Establecimiento 2023'!$A$1:$E$183,5,FALSE),0) -> 04101-La Serena | D142: 5 | E142: 3232 | F142: 4
A143: 105321 | B143: =IFERROR(VLOOKUP(A143,'[1]Establecimiento 2023'!$A$1:$E$183,3,FALSE),0) -> 105321-Centro de Salud Familiar Tongoy | C143: =IFERROR(VLOOKUP(A143,'[1]Establecimiento 2023'!$A$1:$E$183,5,FALSE),0) -> 04102-Coquimbo | D143: 1 | E143: 686 | F143: 4
A144: 105321 | B144: =IFERROR(VLOOKUP(A144,'[1]Establecimiento 2023'!$A$1:$E$183,3,FALSE),0) -> 105321-Centro de Salud Familiar Tongoy | C144: =IFERROR(VLOOKUP(A144,'[1]Establecimiento 2023'!$A$1:$E$183,5,FALSE),0) -> 04102-Coquimbo | D144: 2 | E144: 686 | F144: 4
A145: 105321 | B145: =IFERROR(VLOOKUP(A145,'[1]Establecimiento 2023'!$A$1:$E$183,3,FALSE),0) -> 105321-Centro de Salud Familiar Tongoy | C145: =IFERROR(VLOOKUP(A145,'[1]Establecimiento 2023'!$A$1:$E$183,5,FALSE),0) -> 04102-Coquimbo | D145: 3 | E145: 726 | F145: 4
A146: 105321 | B146: =IFERROR(VLOOKUP(A146,'[1]Establecimiento 2023'!$A$1:$E$183,3,FALSE),0) -> 105321-Centro de Salud Familiar Tongoy | C146: =IFERROR(VLOOKUP(A146,'[1]Establecimiento 2023'!$A$1:$E$183,5,FALSE),0) -> 04102-Coquimbo | D146: 4 | E146: 651 | F146: 4
A147: 105321 | B147: =IFERROR(VLOOKUP(A147,'[1]Establecimiento 2023'!$A$1:$E$183,3,FALSE),0) -> 105321-Centro de Salud Familiar Tongoy | C147: =IFERROR(VLOOKUP(A147,'[1]Establecimiento 2023'!$A$1:$E$183,5,FALSE),0) -> 04102-Coquimbo | D147: 5 | E147: 913 | F147: 4
A148: 105322 | B148: =IFERROR(VLOOKUP(A148,'[1]Establecimiento 2023'!$A$1:$E$183,3,FALSE),0) -> 105322-Centro de Salud Familiar Marcos Macuada | C148: =IFERROR(VLOOKUP(A148,'[1]Establecimiento 2023'!$A$1:$E$183,5,FALSE),0) -> 04301-Ovalle | D148: 1 | E148: 2828 | F148: 4
A149: 105322 | B149: =IFERROR(VLOOKUP(A149,'[1]Establecimiento 2023'!$A$1:$E$183,3,FALSE),0) -> 105322-Centro de Salud Familiar Marcos Macuada | C149: =IFERROR(VLOOKUP(A149,'[1]Establecimiento 2023'!$A$1:$E$183,5,FALSE),0) -> 04301-Ovalle | D149: 2 | E149: 1252 | F149: 4
A150: 105322 | B150: =IFERROR(VLOOKUP(A150,'[1]Establecimiento 2023'!$A$1:$E$183,3,FALSE),0) -> 105322-Centro de Salud Familiar Marcos Macuada | C150: =IFERROR(VLOOKUP(A150,'[1]Establecimiento 2023'!$A$1:$E$183,5,FALSE),0) -> 04301-Ovalle | D150: 3 | E150: 2309 | F150: 4
A151: 105322 | B151: =IFERROR(VLOOKUP(A151,'[1]Establecimiento 2023'!$A$1:$E$183,3,FALSE),0) -> 105322-Centro de Salud Familiar Marcos Macuada | C151: =IFERROR(VLOOKUP(A151,'[1]Establecimiento 2023'!$A$1:$E$183,5,FALSE),0) -> 04301-Ovalle | D151: 4 | E151: 1943 | F151: 4
... A574: 200607 | B574: =IFERROR(VLOOKUP(A574,'[1]Establecimiento 2023'!$A$1:$E$183,3,FALSE),0) -> 200607-Centro de Salud Familiar Lila Cortés Godoy | C574: =IFERROR(VLOOKUP(A574,'[1]Establecimiento 2023'!$A$1:$E$183,5,FALSE),0) -> 04102-Coquimbo | D574: 5 | E574: 1647 | F574: 4

Sheet Mejoramiento del Acceso
A1: MINISTERIO DE SALUD
A2: SERVICIO DE SALUD COQUIMBO
A3: DEPARTAMENTO DE GESTIÓN, PLANIFICACIÓN Y CONTROL
A4: SUBDEPTO. DE ESTADÍSTICAS Y GESTIÓN DE LA INFORMACIÓN
A5: AÑO 2022
B6: Programa Mejoramiento del Acceso
B8: COMUNA | C8: COMPONENTE 1 | R8: COMPONENTE 2 | U8: COMPONENTE 3 | X8: COMPONENTE 4
C9: Endodoncia en dientes anteriores, premolares y molares | I9: Protesis en APS | O9: Tratamiento periodontal | R9: Clínicas Móviles Dentales | U9: Control Odontologico en Poblacion de Cero a Nueve Años (Programa CERO) | X9: Número de consultas de morbilidad en extensión horaria
C10: ODONTOLOGO GRAL | F10: ENDODONCISTA ESPECIALISTA | I10: PROTESIS GRAL | L10: PROTESIS ESPECIALISTA
C11: N° total endodoncias en dientes anteriores, premolares y molares realizadas en APS | D11: N° total de endodoncias comprometidas en APS | E11: Indicador | F11: N° total endodoncias en dientes anteriores, premolares y molares realizadas en APS | G11: N° total de endodoncias comprometidas en APS | H11: Indicador | I11: N° total de prótesis removibles realizadas en APS | J11: N° total de prótesis removibles comprometidas en APS | K11: Indicador | L11: N° total de prótesis removibles realizadas en APS | M11: N° total de prótesis removibles comprometidas en APS | N11: Indicador | O11: N° total de personas con tratamiento periodontal realizado en APS | P11: N° total de personas con tratamiento periodontal comprometidas | Q11: Indicador | R11: N° total de actividades recuperativas realizadas en clínica dental móvil año actual | S11: N° total de consultas de morbilidad comprometidas | T11: Indicador | U11: N° total de aplicaciones de pauta de riesgo del Programa CERO en niños(as) de 0 a 9 años | V11: Población de 0 a 9 años asignada de CECOSF en año actual | W11: Indicador | X11: N° total de actividades recuperativas realizadas en extensión horaria | Y11: N° total de consultas de morbilidad comprometidas en extensión horaria | Z11: Indicador
B13: 04101-LA SERENA | C13: =IFERROR(VLOOKUP($B13,'M.A Datos'!$H$5:$Q$156,2,FALSE),0) -> 90 | D13: 280 | E13: 0.74285714 | F13: =IFERROR(VLOOKUP($B13,'M.A Datos'!$H$5:$Q$156,3,FALSE),0) -> 31 | G13: 80 | H13: 0.54666667 | I13: =IFERROR(VLOOKUP($B13,'M.A Datos'!H5:Q156,4,FALSE),0) -> 24 | J13: 360 | K13: 0.26944444 | L13: =IFERROR(VLOOKUP($B13,'M.A Datos'!$H$5:$Q$156,5,FALSE),0) -> 13 | M13: 55 | N13: 0 | O13: =IFERROR(VLOOKUP($B13,'M.A Datos'!$H$5:$Q$156,6,FALSE),0) -> 149 | P13: 170 | Q13: 0.47260274 | T13: 0 | U13: =IFERROR(VLOOKUP($B13,'M.A Datos'!$H$5:$Q$156,8,FALSE),0) -> 7405 | V13: 3 | W13: 10.723238 | X13: =IFERROR(VLOOKUP($B13,'M.A Datos'!$H$5:$Q$156,9,FALSE),0) -> 1953 | Y13: 11520 | Z13: 0.88177083
B14: 105701-Centro Comunitario de Salud Familiar Villa Alemania | U14: =IFERROR(VLOOKUP($B14,'M.A Datos'!$H$5:$Q$156,8,FALSE),0) -> 74 | V14: 85
B15: 105700-Centro Comunitario de Salud Familiar Villa el Indio | U15: =IFERROR(VLOOKUP($B15,'M.A Datos'!$H$5:$Q$156,8,FALSE),0) -> 43 | V15: 112
B16: 105499-Posta de Salud Rural Lambert | U16: =IFERROR(VLOOKUP($B16,'M.A Datos'!$H$5:$Q$156,8,FALSE),0) -> 8 | V16: 163
B17: 04104-LA HIGUERA | C17: =IFERROR(VLOOKUP($B17,'M.A Datos'!$H$5:$Q$156,2,FALSE),0) -> 0 | D17: 15 | E17: 0 | F17: =IFERROR(VLOOKUP($B17,'M.A Datos'!$H$5:$Q$156,3,FALSE),0) -> 0 | H17: 0 | I17: =IFERROR(VLOOKUP($B17,'M.A Datos'!H9:Q160,4,FALSE),0) -> 0 | J17: 20 | K17: 0.5 | L17: =IFERROR(VLOOKUP($B17,'M.A Datos'!$H$5:$Q$156,5,FALSE),0) -> 0 | N17: 0 | O17: =IFERROR(VLOOKUP($B17,'M.A Datos'!$H$5:$Q$156,6,FALSE),0) -> 0 | Q17: 0 | T17: 0 | U17: =IFERROR(VLOOKUP($B17,'M.A Datos'!$H$5:$Q$156,8,FALSE),0) -> 272 | W17: 0 | X17: =IFERROR(VLOOKUP($B17,'M.A Datos'!$H$5:$Q$156,9,FALSE),0) -> 226 | Y17: 1920 | Z17: 0.62395833
B18: 04102-COQUIMBO | C18: =IFERROR(VLOOKUP($B18,'M.A Datos'!$H$5:$Q$156,2,FALSE),0) -> 121 | D18: 220 | E18: 1.3681818 | F18: =IFERROR(VLOOKUP($B18,'M.A Datos'!$H$5:$Q$156,3,FALSE),0) -> 17 | G18: 90 | H18: 1.1 | I18: =IFERROR(VLOOKUP($B18,'M.A Datos'!H10:Q161,4,FALSE),0) -> 9 | J18: 321 | K18: 1.228125 | L18: =IFERROR(VLOOKUP($B18,'M.A Datos'!$H$5:$Q$156,5,FALSE),0) -> 0 | M18: 50 | N18: 0.3125 | O18: =IFERROR(VLOOKUP($B18,'M.A Datos'!$H$5:$Q$156,6,FALSE),0) -> 214 | P18: 170 | Q18: 1.6071429 | T18: 0 | U18: =IFERROR(VLOOKUP($B18,'M.A Datos'!$H$5:$Q$156,8,FALSE),0) -> 5804 | V18: 1 | W18: 332.95455 | X18: =IFERROR(VLOOKUP($B18,'M.A Datos'!$H$5:$Q$156,9,FALSE),0) -> 1030 | Y18: 11520 | Z18: 1.4457465
B19: 04106-VICUÑA | C19: =IFERROR(VLOOKUP($B19,'M.A Datos'!$H$5:$Q$156,2,FALSE),0) -> 0 | D19: 20 | E19: 0.9 | F19: =IFERROR(VLOOKUP($B19,'M.A Datos'!$H$5:$Q$156,3,FALSE),0) -> 0 | H19: 0 | I19: =IFERROR(VLOOKUP($B19,'M.A Datos'!H12:Q163,4,FALSE),0) -> 0 | J19: 35 | K19: 1 | L19: =IFERROR(VLOOKUP($B19,'M.A Datos'!$H$5:$Q$156,5,FALSE),0) -> 0 | N19: 0 | O19: =IFERROR(VLOOKUP($B19,'M.A Datos'!$H$5:$Q$156,6,FALSE),0) -> 0 | Q19: 0 | T19: 0 | U19: =IFERROR(VLOOKUP($B19,'M.A Datos'!$H$5:$Q$156,8,FALSE),0) -> 478 | W19: 0 | X19: =IFERROR(VLOOKUP($B19,'M.A Datos'!$H$5:$Q$156,9,FALSE),0) -> 829 | Y19: 3840 | Z19: 0.9140625
B20: 04105-PAIHUANO | C20: =IFERROR(VLOOKUP($B20,'M.A Datos'!$H$5:$Q$156,2,FALSE),0) -> 6 | D20: 15 | E20: 0.58333333 | F20: =IFERROR(VLOOKUP($B20,'M.A Datos'!$H$5:$Q$156,3,FALSE),0) -> 0 | H20: 0 | I20: =IFERROR(VLOOKUP($B20,'M.A Datos'!H13:Q164,4,FALSE),0) -> 0 | J20: 20 | K20: 1 | L20: =IFERROR(VLOOKUP($B20,'M.A Datos'!$H$5:$Q$156,5,FALSE),0) -> 0 | N20: 0 | O20: =IFERROR(VLOOKUP($B20,'M.A Datos'!$H$5:$Q$156,6,FALSE),0) -> 0 | Q20: 0 | T20: 0 | U20: =IFERROR(VLOOKUP($B20,'M.A Datos'!$H$5:$Q$156,8,FALSE),0) -> 230 | W20: 0 | X20: =IFERROR(VLOOKUP($B20,'M.A Datos'!$H$5:$Q$156,9,FALSE),0) -> 709 | Y20: 1920 | Z20: 1.0510417
B21: 04301-OVALLE | C21: =IFERROR(VLOOKUP($B21,'M.A Datos'!$H$5:$Q$156,2,FALSE),0) -> 27 | D21: 70 | E21: 1 | F21: =IFERROR(VLOOKUP($B21,'M.A Datos'!$H$5:$Q$156,3,FALSE),0) -> 10 | G21: 40 | H21: 1 | I21: =IFERROR(VLOOKUP($B21,'M.A Datos'!H14:Q165,4,FALSE),0) -> 0 | J21: 265 | K21: 1 | L21: =IFERROR(VLOOKUP($B21,'M.A Datos'!$H$5:$Q$156,5,FALSE),0) -> 0 | M21: 35 | N21: 1 | O21: =IFERROR(VLOOKUP($B21,'M.A Datos'!$H$5:$Q$156,6,FALSE),0) -> 0 | P21: 119 | Q21: 0.6875 | T21: 0 | U21: =IFERROR(VLOOKUP($B21,'M.A Datos'!$H$5:$Q$156,8,FALSE),0) -> 3240 | V21: 2 | W21: 2.2856357 | X21: =IFERROR(VLOOKUP($B21,'M.A Datos'!$H$5:$Q$156,9,FALSE),0) -> 497 | Y21: 7680 | Z21: 0.60143229
B22: San José de la Dehesa | U22: =IFERROR(VLOOKUP($B22,'M.A Datos'!$H$5:$Q$156,8,FALSE),0) -> 0 | V22: 318
B23: Limarí | U23: =IFERROR(VLOOKUP($B23,'M.A Datos'!$H$5:$Q$156,8,FALSE),0) -> 0 | V23: 182
B24: 04305-RIO HURTADO | C24: =IFERROR(VLOOKUP($B24,'M.A Datos'!$H$5:$Q$156,2,FALSE),0) -> 3 | D24: 15 | E24: 0 | F24: =IFERROR(VLOOKUP($B24,'M.A Datos'!$H$5:$Q$156,3,FALSE),0) -> 0 | H24: 0 | I24: =IFERROR(VLOOKUP($B24,'M.A Datos'!H17:Q168,4,FALSE),0) -> 0 | J24: 20 | K24: 0.5 | L24: =IFERROR(VLOOKUP($B24,'M.A Datos'!$H$5:$Q$156,5,FALSE),0) -> 0 | N24: 0 | O24: =IFERROR(VLOOKUP($B24,'M.A Datos'!$H$5:$Q$156,6,FALSE),0) -> 0 | Q24: 0 | T24: 0 | U24: =IFERROR(VLOOKUP($B24,'M.A Datos'!$H$5:$Q$156,8,FALSE),0) -> 206 | W24: 0 | X24: =IFERROR(VLOOKUP($B24,'M.A Datos'!$H$5:$Q$156,9,FALSE),0) -> 567 | Y24: 1920 | Z24: 0.75833333
B25: 04303-MONTE PATRIA | C25: =IFERROR(VLOOKUP($B25,'M.A Datos'!$H$5:$Q$156,2,FALSE),0) -> 0 | D25: 40 | E25: 0 | F25: =IFERROR(VLOOKUP($B25,'M.A Datos'!$H$5:$Q$156,3,FALSE),0) -> 0 | H25: 0 | I25: =IFERROR(VLOOKUP($B25,'M.A Datos'!H18:Q169,4,FALSE),0) -> 0 | J25: 90 | K25: 0 | L25: =IFERROR(VLOOKUP($B25,'M.A Datos'!$H$5:$Q$156,5,FALSE),0) -> 0 | N25: 0 | O25: =IFERROR(VLOOKUP($B25,'M.A Datos'!$H$5:$Q$156,6,FALSE),0) -> 0 | Q25: 0 | T25: 0 | U25: =IFERROR(VLOOKUP($B25,'M.A Datos'!$H$5:$Q$156,8,FALSE),0) -> 1379 | W25: 0 | X25: =IFERROR(VLOOKUP($B25,'M.A Datos'!$H$5:$Q$156,9,FALSE),0) -> 519 | Y25: 5760 | Z25: 0.66493056
B26: 04304-PUNITAQUI | C26: =IFERROR(VLOOKUP($B26,'M.A Datos'!$H$5:$Q$156,2,FALSE),0) -> 0 | D26: 20 | E26: 0.2 | F26: =IFERROR(VLOOKUP($B26,'M.A Datos'!$H$5:$Q$156,3,FALSE),0) -> 0 | H26: 0 | I26: =IFERROR(VLOOKUP($B26,'M.A Datos'!H19:Q170,4,FALSE),0) -> 0 | J26: 35 | K26: 0 | L26: =IFERROR(VLOOKUP($B26,'M.A Datos'!$H$5:$Q$156,5,FALSE),0) -> 0 | N26: 0 | O26: =IFERROR(VLOOKUP($B26,'M.A Datos'!$H$5:$Q$156,6,FALSE),0) -> 0 | Q26: 0 | T26: 0 | U26: =IFERROR(VLOOKUP($B26,'M.A Datos'!$H$5:$Q$156,8,FALSE),0) -> 427 | W26: 0 | X26: =IFERROR(VLOOKUP($B26,'M.A Datos'!$H$5:$Q$156,9,FALSE),0) -> 163 | Y26: 1920 | Z26: 0.89583333
B27: 04302-COMBARBALÁ | C27: =IFERROR(VLOOKUP($B27,'M.A Datos'!$H$5:$Q$156,2,FALSE),0) -> 0 | D27: 16 | E27: 0.15384615 | F27: =IFERROR(VLOOKUP($B27,'M.A Datos'!$H$5:$Q$156,3,FALSE),0) -> 0 | H27: 0 | I27: =IFERROR(VLOOKUP($B27,'M.A Datos'!H20:Q171,4,FALSE),0) -> 0 | J27: 30 | K27: 0 | L27: =IFERROR(VLOOKUP($B27,'M.A Datos'!$H$5:$Q$156,5,FALSE),0) -> 0 | N27: 0 | O27: =IFERROR(VLOOKUP($B27,'M.A Datos'!$H$5:$Q$156,6,FALSE),0) -> 0 | Q27: 0 | T27: 0 | U27: =IFERROR(VLOOKUP($B27,'M.A Datos'!$H$5:$Q$156,8,FALSE),0) -> 178 | W27: 0 | X27: =IFERROR(VLOOKUP($B27,'M.A Datos'!$H$5:$Q$156,9,FALSE),0) -> 0 | Y27: 1920 | Z27: 0.10833333
B28: 04201-ILLAPEL | C28: =IFERROR(VLOOKUP($B28,'M.A Datos'!$H$5:$Q$156,2,FALSE),0) -> 36 | D28: 70 | E28: 1.0285714 | F28: =IFERROR(VLOOKUP($B28,'M.A Datos'!$H$5:$Q$156,3,FALSE),0) -> 0 | H28: 0 | I28: =IFERROR(VLOOKUP($B28,'M.A Datos'!H21:Q172,4,FALSE),0) -> 71 | J28: 130 | K28: 1.1538462 | L28: =IFERROR(VLOOKUP($B28,'M.A Datos'!$H$5:$Q$156,5,FALSE),0) -> 0 | N28: 0 | O28: =IFERROR(VLOOKUP($B28,'M.A Datos'!$H$5:$Q$156,6,FALSE),0) -> 0 | Q28: 0 | T28: 0 | U28: =IFERROR(VLOOKUP($B28,'M.A Datos'!$H$5:$Q$156,8,FALSE),0) -> 946 | W28: 0 | X28: =IFERROR(VLOOKUP($B28,'M.A Datos'!$H$5:$Q$156,9,FALSE),0) -> 2422 | Y28: 5760 | Z28: 1.3432292
B29: 04204-SALAMANCA | C29: =IFERROR(VLOOKUP($B29,'M.A Datos'!$H$5:$Q$156,2,FALSE),0) -> 14 | D29: 30 | E29: 1 | F29: =IFERROR(VLOOKUP($B29,'M.A Datos'!$H$5:$Q$156,3,FALSE),0) -> 0 | H29: 0 | I29: =IFERROR(VLOOKUP($B29,'M.A Datos'!H22:Q173,4,FALSE),0) -> 49 | J29: 45 | K29: 1.2444444 | L29: =IFERROR(VLOOKUP($B29,'M.A Datos'!$H$5:$Q$156,5,FALSE),0) -> 0 | N29: 0 | O29: =IFERROR(VLOOKUP($B29,'M.A Datos'!$H$5:$Q$156,6,FALSE),0) -> 0 | Q29: 0 | T29: 0 | U29: =IFERROR(VLOOKUP($B29,'M.A Datos'!$H$5:$Q$156,8,FALSE),0) -> 422 | W29: 0 | X29: =IFERROR(VLOOKUP($B29,'M.A Datos'!$H$5:$Q$156,9,FALSE),0) -> 211 | Y29: 1920 | Z29: 1.0036458
B30: 04203-LOS VILOS | C30: =IFERROR(VLOOKUP($B30,'M.A Datos'!$H$5:$Q$156,2,FALSE),0) -> 6 | D30: 15 | E30: 0 | F30: =IFERROR(VLOOKUP($B30,'M.A Datos'!$H$5:$Q$156,3,FALSE),0) -> 0 | H30: 0 | I30: =IFERROR(VLOOKUP($B30,'M.A Datos'!H23:Q174,4,FALSE),0) -> 0 | J30: 30 | K30: 1 | L30: =IFERROR(VLOOKUP($B30,'M.A Datos'!$H$5:$Q$156,5,FALSE),0) -> 0 | N30: 0 | O30: =IFERROR(VLOOKUP($B30,'M.A Datos'!$H$5:$Q$156,6,FALSE),0) -> 0 | Q30: 0 | T30: 0 | U30: =IFERROR(VLOOKUP($B30,'M.A Datos'!$H$5:$Q$156,8,FALSE),0) -> 216 | W30: 0 | X30: =IFERROR(VLOOKUP($B30,'M.A Datos'!$H$5:$Q$156,9,FALSE),0) -> 256 | Y30: 1920 | Z30: 1
B31: 04202-CANELA | C31: =IFERROR(VLOOKUP($B31,'M.A Datos'!$H$5:$Q$156,2,FALSE),0) -> 0 | D31: 20 | E31: 0 | F31: =IFERROR(VLOOKUP($B31,'M.A Datos'!$H$5:$Q$156,3,FALSE),0) -> 0 | H31: 0 | I31: =IFERROR(VLOOKUP($B31,'M.A Datos'!H24:Q175,4,FALSE),0) -> 0 | J31: 30 | K31: 1 | L31: =IFERROR(VLOOKUP($B31,'M.A Datos'!$H$5:$Q$156,5,FALSE),0) -> 0 | N31: 0 | O31: =IFERROR(VLOOKUP($B31,'M.A Datos'!$H$5:$Q$156,6,FALSE),0) -> 0 | Q31: 0 | T31: 0 | U31: =IFERROR(VLOOKUP($B31,'M.A Datos'!$H$5:$Q$156,8,FALSE),0) -> 139 | W31: 0 | X31: =IFERROR(VLOOKUP($B31,'M.A Datos'!$H$5:$Q$156,9,FALSE),0) -> 958 | Y31: 3840 | Z31: 1.00625
B32: 105012-Clínica Dental Móvil | R32: =IFERROR(VLOOKUP($B32,'M.A Datos'!$H$5:$Q$156,7,FALSE),0) -> 0 | S32: 3840 | T32: 0 | U32: =IFERROR(VLOOKUP($B32,'M.A Datos'!$H$5:$Q$156,8,FALSE),0) -> 0
B33: HOSPITAL
B34: 105104-HOSPITAL SALAMANCA | C34: =IFERROR(VLOOKUP($B34,'M.A Datos'!$H$5:$Q$156,2,FALSE),0) -> 0 | E34: #DIV/0! | F34: =IFERROR(VLOOKUP($B34,'M.A Datos'!$H$5:$Q$156,3,FALSE),0) -> 0 | H34: #DIV/0! | I34: =IFERROR(VLOOKUP($B34,'M.A Datos'!H27:Q178,4,FALSE),0) -> 0 | K34: #DIV/0! | L34: =IFERROR(VLOOKUP($B34,'M.A Datos'!$H$5:$Q$156,5,FALSE),0) -> 0 | N34: #DIV/0! | O34: =IFERROR(VLOOKUP($B34,'M.A Datos'!$H$5:$Q$156,6,FALSE),0) -> 0 | Q34: #DIV/0! | R34: =IFERROR(VLOOKUP($B34,#REF!,5,FALSE),0) -> 0 | T34: #DIV/0! | U34: =IFERROR(VLOOKUP($B34,'M.A Datos'!$H$5:$Q$156,7,FALSE),0) -> 0 | X34: =IFERROR(VLOOKUP($B34,'M.A Datos'!$H$5:$Q$156,9,FALSE),0) -> 0 | Z34: #DIV/0!
B35: 105105-HOSPITAL COMBARBALÁ | C35: =IFERROR(VLOOKUP($B35,'M.A Datos'!$H$5:$Q$156,2,FALSE),0) -> 0 | E35: #DIV/0! | F35: =IFERROR(VLOOKUP($B35,'M.A Datos'!$H$5:$Q$156,3,FALSE),0) -> 0 | H35: #DIV/0! | I35: =IFERROR(VLOOKUP($B35,'M.A Datos'!H28:Q179,4,FALSE),0) -> 0 | K35: #DIV/0! | L35: =IFERROR(VLOOKUP($B35,'M.A Datos'!$H$5:$Q$156,5,FALSE),0) -> 0 | N35: #DIV/0! | O35: =IFERROR(VLOOKUP($B35,'M.A Datos'!$H$5:$Q$156,6,FALSE),0) -> 0 | Q35: #DIV/0! | R35: =IFERROR(VLOOKUP($B35,#REF!,5,FALSE),0) -> 0 | T35: #DIV/0! | U35: =IFERROR(VLOOKUP($B35,'M.A Datos'!$H$5:$Q$156,7,FALSE),0) -> 0 | X35: =IFERROR(VLOOKUP($B35,'M.A Datos'!$H$5:$Q$156,9,FALSE),0) -> 0 | Z35: #DIV/0!
B36: 105106-HOSPITAL ANDACOLLO | C36: =IFERROR(VLOOKUP($B36,'M.A Datos'!$H$5:$Q$156,2,FALSE),0) -> 0 | D36: 8 | E36: #DIV/0! | F36: =IFERROR(VLOOKUP($B36,'M.A Datos'!$H$5:$Q$156,3,FALSE),0) -> 0 | H36: #DIV/0! | I36: =IFERROR(VLOOKUP($B36,'M.A Datos'!H29:Q180,4,FALSE),0) -> 0 | K36: #DIV/0! | L36: =IFERROR(VLOOKUP($B36,'M.A Datos'!$H$5:$Q$156,5,FALSE),0) -> 0 | N36: #DIV/0! | O36: =IFERROR(VLOOKUP($B36,'M.A Datos'!$H$5:$Q$156,6,FALSE),0) -> 0 | Q36: #DIV/0! | R36: =IFERROR(VLOOKUP($B36,#REF!,5,FALSE),0) -> 0 | T36: #DIV/0! | U36: =IFERROR(VLOOKUP($B36,'M.A Datos'!$H$5:$Q$156,7,FALSE),0) -> 261 | X36: =IFERROR(VLOOKUP($B36,'M.A Datos'!$H$5:$Q$156,9,FALSE),0) -> 71 | Z36: #DIV/0!
B37: 105107-HOSPITAL VICUÑA | C37: =IFERROR(VLOOKUP($B37,'M.A Datos'!$H$5:$Q$156,2,FALSE),0) -> 0 | E37: #DIV/0! | F37: =IFERROR(VLOOKUP($B37,'M.A Datos'!$H$5:$Q$156,3,FALSE),0) -> 0 | H37: #DIV/0! | I37: =IFERROR(VLOOKUP($B37,'M.A Datos'!H30:Q181,4,FALSE),0) -> 0 | K37: #DIV/0! | L37: =IFERROR(VLOOKUP($B37,'M.A Datos'!$H$5:$Q$156,5,FALSE),0) -> 0 | N37: #DIV/0! | O37: =IFERROR(VLOOKUP($B37,'M.A Datos'!$H$5:$Q$156,6,FALSE),0) -> 0 | Q37: #DIV/0! | R37: =IFERROR(VLOOKUP($B37,#REF!,5,FALSE),0) -> 0 | T37: #DIV/0! | U37: =IFERROR(VLOOKUP($B37,'M.A Datos'!$H$5:$Q$156,7,FALSE),0) -> 0 | X37: =IFERROR(VLOOKUP($B37,'M.A Datos'!$H$5:$Q$156,9,FALSE),0) -> 0 | Z37: #DIV/0!
B38: 105108-HOSPITAL LOS VILOS | C38: =IFERROR(VLOOKUP($B38,'M.A Datos'!$H$5:$Q$156,2,FALSE),0) -> 0 | E38: #DIV/0! | F38: =IFERROR(VLOOKUP($B38,'M.A Datos'!$H$5:$Q$156,3,FALSE),0) -> 0 | H38: #DIV/0! | I38: =IFERROR(VLOOKUP($B38,'M.A Datos'!H31:Q182,4,FALSE),0) -> 0 | K38: #DIV/0! | L38: =IFERROR(VLOOKUP($B38,'M.A Datos'!$H$5:$Q$156,5,FALSE),0) -> 0 | N38: #DIV/0! | O38: =IFERROR(VLOOKUP($B38,'M.A Datos'!$H$5:$Q$156,6,FALSE),0) -> 0 | Q38: #DIV/0! | R38: =IFERROR(VLOOKUP($B38,#REF!,5,FALSE),0) -> 0 | T38: #DIV/0! | U38: =IFERROR(VLOOKUP($B38,'M.A Datos'!$H$5:$Q$156,7,FALSE),0) -> 0 | X38: =IFERROR(VLOOKUP($B38,'M.A Datos'!$H$5:$Q$156,9,FALSE),0) -> 0 | Z38: #DIV/0!
B39: Fuente: REM A09

Sheet Odont Integral
A1: Idestablecimiento | B1: Comuna | C1: Mes | D1: Total | E1: Posición
A2: 105105 | B2: =IFERROR(VLOOKUP(A2,'[1]Establecimiento 2023'!$A$1:$E$183,5,FALSE),0) -> 105105-Hospital Combarbalá | C2: 1 | D2: 2 | E2: 1
A3: 105105 | B3: =IFERROR(VLOOKUP(A3,'[1]Establecimiento 2023'!$A$1:$E$183,5,FALSE),0) -> 105105-Hospital Combarbalá | C3: 4 | D3: 1 | E3: 1 | G3: Mes | H3: (Todas)
A4: 105106 | B4: =IFERROR(VLOOKUP(A4,'[1]Establecimiento 2023'!$A$1:$E$183,5,FALSE),0) -> 105106-Hospital Andacollo | C4: 2 | D4: 2 | E4: 1
A5: 105106 | B5: =IFERROR(VLOOKUP(A5,'[1]Establecimiento 2023'!$A$1:$E$183,5,FALSE),0) -> 105106-Hospital Andacollo | C5: 3 | D5: 2 | E5: 1 | G5: Suma de Total | H5: Etiquetas de columna
A6: 105106 | B6: =IFERROR(VLOOKUP(A6,'[1]Establecimiento 2023'!$A$1:$E$183,5,FALSE),0) -> 105106-Hospital Andacollo | C6: 4 | D6: 2 | E6: 1 | G6: Etiquetas de fila | H6: 1 | I6: 3 | J6: 5 | K6: 6 | L6: Total general
A7: 105108 | B7: =IFERROR(VLOOKUP(A7,'[1]Establecimiento 2023'!$A$1:$E$183,5,FALSE),0) -> 105108-Hospital Los Vilos | C7: 1 | D7: 3 | E7: 1 | G7: 04101-La Serena | H7: 71 | I7: 229 | J7: 229 | K7: 77 | L7: 606
A8: 105108 | B8: =IFERROR(VLOOKUP(A8,'[1]Establecimiento 2023'!$A$1:$E$183,5,FALSE),0) -> 105108-Hospital Los Vilos | C8: 3 | D8: 1 | E8: 1 | G8: 04102-Coquimbo | K8: 146 | L8: 146
A9: 105108 | B9: =IFERROR(VLOOKUP(A9,'[1]Establecimiento 2023'!$A$1:$E$183,5,FALSE),0) -> 105108-Hospital Los Vilos | C9: 4 | D9: 6 | E9: 1 | G9: 04105-Paihuano | K9: 12 | L9: 12
A10: 105108 | B10: =IFERROR(VLOOKUP(A10,'[1]Establecimiento 2023'!$A$1:$E$183,5,FALSE),0) -> 105108-Hospital Los Vilos | C10: 5 | D10: 6 | E10: 1 | G10: 04201-Illapel | H10: 9 | I10: 52 | J10: 52 | K10: 59 | L10: 172
A11: 105313 | B11: =IFERROR(VLOOKUP(A11,'[1]Establecimiento 2023'!$A$1:$E$183,5,FALSE),0) -> 04101-La Serena | C11: 3 | D11: 25 | E11: 1 | G11: 04203-Los Vilos | K11: 31 | L11: 31
A12: 105313 | B12: =IFERROR(VLOOKUP(A12,'[1]Establecimiento 2023'!$A$1:$E$183,5,FALSE),0) -> 04101-La Serena | C12: 4 | D12: 20 | E12: 1 | G12: 04204-Salamanca | H12: 14 | I12: 30 | J12: 30 | L12: 74
A13: 105313 | B13: =IFERROR(VLOOKUP(A13,'[1]Establecimiento 2023'!$A$1:$E$183,5,FALSE),0) -> 04101-La Serena | C13: 5 | D13: 26 | E13: 1 | G13: 04301-Ovalle | K13: 191 | L13: 191
A14: 105326 | B14: =IFERROR(VLOOKUP(A14,'[1]Establecimiento 2023'!$A$1:$E$183,5,FALSE),0) -> 04201-Illapel | C14: 3 | D14: 1 | E14: 1 | G14: 105104-Hospital Salamanca | I14: 2 | J14: 2 | K14: 36 | L14: 40
A15: 105452 | B15: =IFERROR(VLOOKUP(A15,'[1]Establecimiento 2023'!$A$1:$E$183,5,FALSE),0) -> 04204-Salamanca | C15: 5 | D15: 14 | E15: 1 | G15: 105105-Hospital Combarbalá | H15: 3 | I15: 24 | J15: 24 | K15: 2 | L15: 53
A16: 200366 | B16: =IFERROR(VLOOKUP(A16,'[1]Establecimiento 2023'!$A$1:$E$183,5,FALSE),0) -> 04201-Illapel | C16: 4 | D16: 6 | E16: 1 | G16: 105106-Hospital Andacollo | H16: 6 | I16: 47 | J16: 47 | K16: 8 | L16: 108
A17: 200366 | B17: =IFERROR(VLOOKUP(A17,'[1]Establecimiento 2023'!$A$1:$E$183,5,FALSE),0) -> 04201-Illapel | C17: 5 | D17: 2 | E17: 1 | G17: 105107-Hospital Vicuña | I17: 30 | J17: 30 | L17: 60
A18: 105104 | B18: =IFERROR(VLOOKUP(A18,'[1]Establecimiento 2023'!$A$1:$E$183,5,FALSE),0) -> 105104-Hospital Salamanca | C18: 5 | D18: 2 | E18: 3 | G18: 105108-Hospital Los Vilos | H18: 16 | I18: 36 | J18: 36 | L18: 88
A19: 105105 | B19: =IFERROR(VLOOKUP(A19,'[1]Establecimiento 2023'!$A$1:$E$183,5,FALSE),0) -> 105105-Hospital Combarbalá | C19: 1 | D19: 24 | E19: 3 | G19: Total general | H19: 119 | I19: 450 | J19: 450 | K19: 562 | L19: 1581
A20: 105106 | B20: =IFERROR(VLOOKUP(A20,'[1]Establecimiento 2023'!$A$1:$E$183,5,FALSE),0) -> 105106-Hospital Andacollo | C20: 2 | D20: 18 | E20: 3
A21: 105106 | B21: =IFERROR(VLOOKUP(A21,'[1]Establecimiento 2023'!$A$1:$E$183,5,FALSE),0) -> 105106-Hospital Andacollo | C21: 3 | D21: 10 | E21: 3
A22: 105106 | B22: =IFERROR(VLOOKUP(A22,'[1]Establecimiento 2023'!$A$1:$E$183,5,FALSE),0) -> 105106-Hospital Andacollo | C22: 4 | D22: 10 | E22: 3
A23: 105106 | B23: =IFERROR(VLOOKUP(A23,'[1]Establecimiento 2023'!$A$1:$E$183,5,FALSE),0) -> 105106-Hospital Andacollo | C23: 5 | D23: 9 | E23: 3
A24: 105107 | B24: =IFERROR(VLOOKUP(A24,'[1]Establecimiento 2023'!$A$1:$E$183,5,FALSE),0) -> 105107-Hospital Vicuña | C24: 1 | D24: 8 | E24: 3
A25: 105107 | B25: =IFERROR(VLOOKUP(A25,'[1]Establecimiento 2023'!$A$1:$E$183,5,FALSE),0) -> 105107-Hospital Vicuña | C25: 2 | D25: 4 | E25: 3
A26: 105107 | B26: =IFERROR(VLOOKUP(A26,'[1]Establecimiento 2023'!$A$1:$E$183,5,FALSE),0) -> 105107-Hospital Vicuña | C26: 3 | D26: 5 | E26: 3
A27: 105107 | B27: =IFERROR(VLOOKUP(A27,'[1]Establecimiento 2023'!$A$1:$E$183,5,FALSE),0) -> 105107-Hospital Vicuña | C27: 4 | D27: 6 | E27: 3
A28: 105107 | B28: =IFERROR(VLOOKUP(A28,'[1]Establecimiento 2023'!$A$1:$E$183,5,FALSE),0) -> 105107-Hospital Vicuña | C28: 5 | D28: 7 | E28: 3
A29: 105108 | B29: =IFERROR(VLOOKUP(A29,'[1]Establecimiento 2023'!$A$1:$E$183,5,FALSE),0) -> 105108-Hospital Los Vilos | C29: 1 | D29: 11 | E29: 3
A30: 105108 | B30: =IFERROR(VLOOKUP(A30,'[1]Establecimiento 2023'!$A$1:$E$183,5,FALSE),0) -> 105108-Hospital Los Vilos | C30: 2 | D30: 4 | E30: 3
A31: 105108 | B31: =IFERROR(VLOOKUP(A31,'[1]Establecimiento 2023'!$A$1:$E$183,5,FALSE),0) -> 105108-Hospital Los Vilos | C31: 3 | D31: 7 | E31: 3
... A98: 200569 | B98: =IFERROR(VLOOKUP(A98,'[1]Establecimiento 2023'!$A$1:$E$183,5,FALSE),0) -> 04301-Ovalle | C98: 5 | D98: 61 | E98: 6

Sheet M.A Datos
A2: Idestablecimiento | B2: Establecimiento | C2: Comuna | D2: Mes | E2: Total | F2: COMP
A3: 105300 | B3: =IFERROR(VLOOKUP($A3,'[2]Establecimiento 2023'!$A$1:$E$183,3,FALSE),0) -> 105300-Centro de Salud Familiar Cardenal Caro | C3: =IFERROR(VLOOKUP($A3,'[2]Establecimiento 2023'!$A$1:$E$183,5,FALSE),0) -> 04101-La Serena | D3: 4 | E3: 1 | F3: 1.1 | H3: Mes | I3: (Todas)
A4: 105300 | B4: =IFERROR(VLOOKUP($A4,'[2]Establecimiento 2023'!$A$1:$E$183,3,FALSE),0) -> 105300-Centro de Salud Familiar Cardenal Caro | C4: =IFERROR(VLOOKUP($A4,'[2]Establecimiento 2023'!$A$1:$E$183,5,FALSE),0) -> 04101-La Serena | D4: 5 | E4: 2 | F4: 1.1
A5: 105300 | B5: =IFERROR(VLOOKUP($A5,'[2]Establecimiento 2023'!$A$1:$E$183,3,FALSE),0) -> 105300-Centro de Salud Familiar Cardenal Caro | C5: =IFERROR(VLOOKUP($A5,'[2]Establecimiento 2023'!$A$1:$E$183,5,FALSE),0) -> 04101-La Serena | D5: 7 | E5: 1 | F5: 1.1 | H5: Suma de Total | I5: Etiquetas de columna
A6: 105301 | B6: =IFERROR(VLOOKUP($A6,'[2]Establecimiento 2023'!$A$1:$E$183,3,FALSE),0) -> 105301-Centro de Salud Familiar Las Compañías | C6: =IFERROR(VLOOKUP($A6,'[2]Establecimiento 2023'!$A$1:$E$183,5,FALSE),0) -> 04101-La Serena | D6: 4 | E6: 5 | F6: 1.1 | H6: Etiquetas de fila | I6: 1.1 | J6: 1.2 | K6: 1.3 | L6: 1.4 | M6: 1.5 | N6: 2 | O6: 3 | P6: 4 | Q6: Total general
A7: 105301 | B7: =IFERROR(VLOOKUP($A7,'[2]Establecimiento 2023'!$A$1:$E$183,3,FALSE),0) -> 105301-Centro de Salud Familiar Las Compañías | C7: =IFERROR(VLOOKUP($A7,'[2]Establecimiento 2023'!$A$1:$E$183,5,FALSE),0) -> 04101-La Serena | D7: 5 | E7: 2 | F7: 1.1 | H7: 04101-La Serena | I7: 90 | J7: 31 | K7: 24 | L7: 13 | M7: 149 | N7: 5688 | O7: 7405 | P7: 1953 | Q7: 15353
A8: 105302 | B8: =IFERROR(VLOOKUP($A8,'[2]Establecimiento 2023'!$A$1:$E$183,3,FALSE),0) -> 105302-Centro de Salud Familiar Pedro Aguirre Cerda | C8: =IFERROR(VLOOKUP($A8,'[2]Establecimiento 2023'!$A$1:$E$183,5,FALSE),0) -> 04101-La Serena | D8: 4 | E8: 6 | F8: 1.1 | H8: 105300-Centro de Salud Familiar Cardenal Caro | I8: 4 | N8: 1074 | O8: 1007 | P8: 359 | Q8: 2444
A9: 105302 | B9: =IFERROR(VLOOKUP($A9,'[2]Establecimiento 2023'!$A$1:$E$183,3,FALSE),0) -> 105302-Centro de Salud Familiar Pedro Aguirre Cerda | C9: =IFERROR(VLOOKUP($A9,'[2]Establecimiento 2023'!$A$1:$E$183,5,FALSE),0) -> 04101-La Serena | D9: 5 | E9: 4 | F9: 1.1 | H9: 105301-Centro de Salud Familiar Las Compañías | I9: 7 | K9: 9 | N9: 459 | O9: 1115 | P9: 148 | Q9: 1738
A10: 105302 | B10: =IFERROR(VLOOKUP($A10,'[2]Establecimiento 2023'!$A$1:$E$183,3,FALSE),0) -> 105302-Centro de Salud Familiar Pedro Aguirre Cerda | C10: =IFERROR(VLOOKUP($A10,'[2]Establecimiento 2023'!$A$1:$E$183,5,FALSE),0) -> 04101-La Serena | D10: 7 | E10: 1 | F10: 1.1 | H10: 105302-Centro de Salud Familiar Pedro Aguirre Cerda | I10: 11 | L10: 13 | N10: 1019 | O10: 825 | P10: 351 | Q10: 2219
A11: 105306 | B11: =IFERROR(VLOOKUP($A11,'[2]Establecimiento 2023'!$A$1:$E$183,3,FALSE),0) -> 105306-Centro de Salud Familiar Paihuano | C11: =IFERROR(VLOOKUP($A11,'[2]Establecimiento 2023'!$A$1:$E$183,5,FALSE),0) -> 04105-Paiguano | D11: 7 | E11: 6 | F11: 1.1 | H11: 105313-Centro de Salud Familiar Dr. Emilio Schaffhauser | I11: 37 | J11: 31 | K11: 6 | M11: 149 | N11: 809 | O11: 2112 | P11: 301 | Q11: 3445
A12: 105310 | B12: =IFERROR(VLOOKUP($A12,'[2]Establecimiento 2023'!$A$1:$E$183,3,FALSE),0) -> 105310-Centro de Salud Familiar Pichasca | C12: =IFERROR(VLOOKUP($A12,'[2]Establecimiento 2023'!$A$1:$E$183,5,FALSE),0) -> 04305-Río Hurtado | D12: 7 | E12: 3 | F12: 1.1 | H12: 105319-Centro de Salud Familiar Cardenal Raúl Silva Henríquez de La Serena | I12: 9 | K12: 4 | N12: 1069 | O12: 912 | P12: 377 | Q12: 2371
A13: 105313 | B13: =IFERROR(VLOOKUP($A13,'[2]Establecimiento 2023'!$A$1:$E$183,3,FALSE),0) -> 105313-Centro de Salud Familiar Dr. Emilio Schaffhauser | C13: =IFERROR(VLOOKUP($A13,'[2]Establecimiento 2023'!$A$1:$E$183,5,FALSE),0) -> 04101-La Serena | D13: 4 | E13: 1 | F13: 1.1 | H13: 105325-Centro de Salud Familiar Juan Pablo II (La Serena) | I13: 22 | K13: 5 | N13: 1258 | O13: 986 | P13: 417 | Q13: 2688
A14: 105313 | B14: =IFERROR(VLOOKUP($A14,'[2]Establecimiento 2023'!$A$1:$E$183,3,FALSE),0) -> 105313-Centro de Salud Familiar Dr. Emilio Schaffhauser | C14: =IFERROR(VLOOKUP($A14,'[2]Establecimiento 2023'!$A$1:$E$183,5,FALSE),0) -> 04101-La Serena | D14: 5 | E14: 9 | F14: 1.1 | H14: 105400-Posta de Salud Rural Algarrobito | O14: 22 | Q14: 22
A15: 105313 | B15: =IFERROR(VLOOKUP($A15,'[2]Establecimiento 2023'!$A$1:$E$183,3,FALSE),0) -> 105313-Centro de Salud Familiar Dr. Emilio Schaffhauser | C15: =IFERROR(VLOOKUP($A15,'[2]Establecimiento 2023'!$A$1:$E$183,5,FALSE),0) -> 04101-La Serena | D15: 6 | E15: 22 | F15: 1.1 | H15: 105401-Posta de Salud Rural Las Rojas | O15: 28 | Q15: 28
A16: 105313 | B16: =IFERROR(VLOOKUP($A16,'[2]Establecimiento 2023'!$A$1:$E$183,3,FALSE),0) -> 105313-Centro de Salud Familiar Dr. Emilio Schaffhauser | C16: =IFERROR(VLOOKUP($A16,'[2]Establecimiento 2023'!$A$1:$E$183,5,FALSE),0) -> 04101-La Serena | D16: 7 | E16: 5 | F16: 1.1 | H16: 105402-Posta de Salud Rural El Romero | O16: 36 | Q16: 36
A17: 105319 | B17: =IFERROR(VLOOKUP($A17,'[2]Establecimiento 2023'!$A$1:$E$183,3,FALSE),0) -> 105319-Centro de Salud Familiar Cardenal Raúl Silva Henríquez de La Serena | C17: =IFERROR(VLOOKUP($A17,'[2]Establecimiento 2023'!$A$1:$E$183,5,FALSE),0) -> 04101-La Serena | D17: 4 | E17: 3 | F17: 1.1 | H17: 105499-Posta de Salud Rural Lambert | O17: 8 | Q17: 8
A18: 105319 | B18: =IFERROR(VLOOKUP($A18,'[2]Establecimiento 2023'!$A$1:$E$183,3,FALSE),0) -> 105319-Centro de Salud Familiar Cardenal Raúl Silva Henríquez de La Serena | C18: =IFERROR(VLOOKUP($A18,'[2]Establecimiento 2023'!$A$1:$E$183,5,FALSE),0) -> 04101-La Serena | D18: 5 | E18: 3 | F18: 1.1 | H18: 105700-Centro Comunitario de Salud Familiar Villa el Indio | O18: 43 | Q18: 43
A19: 105319 | B19: =IFERROR(VLOOKUP($A19,'[2]Establecimiento 2023'!$A$1:$E$183,3,FALSE),0) -> 105319-Centro de Salud Familiar Cardenal Raúl Silva Henríquez de La Serena | C19: =IFERROR(VLOOKUP($A19,'[2]Establecimiento 2023'!$A$1:$E$183,5,FALSE),0) -> 04101-La Serena | D19: 7 | E19: 3 | F19: 1.1 | H19: 105701-Centro Comunitario de Salud Familiar Villa Alemania | O19: 74 | Q19: 74
A20: 105323 | B20: =IFERROR(VLOOKUP($A20,'[2]Establecimiento 2023'!$A$1:$E$183,3,FALSE),0) -> 105323-Centro de Salud Familiar Dr. Sergio Aguilar Delgado | C20: =IFERROR(VLOOKUP($A20,'[2]Establecimiento 2023'!$A$1:$E$183,5,FALSE),0) -> 04102-Coquimbo | D20: 2 | E20: 14 | F20: 1.1 | H20: 105702-Centro Comunitario de Salud Familiar Lambert | O20: 78 | Q20: 78
A21: 105323 | B21: =IFERROR(VLOOKUP($A21,'[2]Establecimiento 2023'!$A$1:$E$183,3,FALSE),0) -> 105323-Centro de Salud Familiar Dr. Sergio Aguilar Delgado | C21: =IFERROR(VLOOKUP($A21,'[2]Establecimiento 2023'!$A$1:$E$183,5,FALSE),0) -> 04102-Coquimbo | D21: 3 | E21: 38 | F21: 1.1 | H21: 200402-Centro Comunitario de Salud Familiar Arcos de Pinamar | O21: 159 | Q21: 159
A22: 105323 | B22: =IFERROR(VLOOKUP($A22,'[2]Establecimiento 2023'!$A$1:$E$183,3,FALSE),0) -> 105323-Centro de Salud Familiar Dr. Sergio Aguilar Delgado | C22: =IFERROR(VLOOKUP($A22,'[2]Establecimiento 2023'!$A$1:$E$183,5,FALSE),0) -> 04102-Coquimbo | D22: 4 | E22: 22 | F22: 1.1 | H22: 04102-Coquimbo | I22: 121 | J22: 17 | K22: 9 | M22: 214 | N22: 3802 | O22: 5804 | P22: 1030 | Q22: 10997
A23: 105323 | B23: =IFERROR(VLOOKUP($A23,'[2]Establecimiento 2023'!$A$1:$E$183,3,FALSE),0) -> 105323-Centro de Salud Familiar Dr. Sergio Aguilar Delgado | C23: =IFERROR(VLOOKUP($A23,'[2]Establecimiento 2023'!$A$1:$E$183,5,FALSE),0) -> 04102-Coquimbo | D23: 5 | E23: 16 | F23: 1.1 | H23: 105303-Centro de Salud Familiar San Juan | O23: 916 | Q23: 916
A24: 105323 | B24: =IFERROR(VLOOKUP($A24,'[2]Establecimiento 2023'!$A$1:$E$183,3,FALSE),0) -> 105323-Centro de Salud Familiar Dr. Sergio Aguilar Delgado | C24: =IFERROR(VLOOKUP($A24,'[2]Establecimiento 2023'!$A$1:$E$183,5,FALSE),0) -> 04102-Coquimbo | D24: 6 | E24: 8 | F24: 1.1 | H24: 105304-Centro de Salud Familiar Santa Cecilia | K24: 8 | N24: 923 | O24: 655 | P24: 162 | Q24: 1748
A25: 105323 | B25: =IFERROR(VLOOKUP($A25,'[2]Establecimiento 2023'!$A$1:$E$183,3,FALSE),0) -> 105323-Centro de Salud Familiar Dr. Sergio Aguilar Delgado | C25: =IFERROR(VLOOKUP($A25,'[2]Establecimiento 2023'!$A$1:$E$183,5,FALSE),0) -> 04102-Coquimbo | D25: 7 | E25: 23 | F25: 1.1 | H25: 105305-Centro de Salud Familiar Tierras Blancas | N25: 101 | O25: 977 | P25: 102 | Q25: 1180
A26: 105325 | B26: =IFERROR(VLOOKUP($A26,'[2]Establecimiento 2023'!$A$1:$E$183,3,FALSE),0) -> 105325-Centro de Salud Familiar Juan Pablo II (La Serena) | C26: =IFERROR(VLOOKUP($A26,'[2]Establecimiento 2023'!$A$1:$E$183,5,FALSE),0) -> 04101-La Serena | D26: 4 | E26: 4 | F26: 1.1 | H26: 105321-Centro de Salud Familiar Tongoy | N26: 48 | O26: 327 | P26: 74 | Q26: 449
A27: 105325 | B27: =IFERROR(VLOOKUP($A27,'[2]Establecimiento 2023'!$A$1:$E$183,3,FALSE),0) -> 105325-Centro de Salud Familiar Juan Pablo II (La Serena) | C27: =IFERROR(VLOOKUP($A27,'[2]Establecimiento 2023'!$A$1:$E$183,5,FALSE),0) -> 04101-La Serena | D27: 5 | E27: 12 | F27: 1.1 | H27: 105323-Centro de Salud Familiar Dr. Sergio Aguilar Delgado | I27: 121 | J27: 17 | M27: 114 | N27: 96 | O27: 1053 | P27: 22 | Q27: 1423
A28: 105325 | B28: =IFERROR(VLOOKUP($A28,'[2]Establecimiento 2023'!$A$1:$E$183,3,FALSE),0) -> 105325-Centro de Salud Familiar Juan Pablo II (La Serena) | C28: =IFERROR(VLOOKUP($A28,'[2]Establecimiento 2023'!$A$1:$E$183,5,FALSE),0) -> 04101-La Serena | D28: 7 | E28: 6 | F28: 1.1 | H28: 105405-Posta de Salud Rural Guanaqueros | N28: 6 | O28: 118 | P28: 6 | Q28: 130
A29: 105452 | B29: =IFERROR(VLOOKUP($A29,'[2]Establecimiento 2023'!$A$1:$E$183,3,FALSE),0) -> 105452-Posta de Salud Rural Cuncumén(Salamanca) | C29: =IFERROR(VLOOKUP($A29,'[2]Establecimiento 2023'!$A$1:$E$183,5,FALSE),0) -> 04204-Salamanca | D29: 5 | E29: 8 | F29: 1.1 | H29: 105803-SAPU San Juan | O29: 70 | Q29: 70
A30: 105452 | B30: =IFERROR(VLOOKUP($A30,'[2]Establecimiento 2023'!$A$1:$E$183,3,FALSE),0) -> 105452-Posta de Salud Rural Cuncumén(Salamanca) | C30: =IFERROR(VLOOKUP($A30,'[2]Establecimiento 2023'!$A$1:$E$183,5,FALSE),0) -> 04204-Salamanca | D30: 7 | E30: 6 | F30: 1.1 | H30: 200273-Centro Comunitario de Salud Familiar Punta Mira | O30: 120 | Q30: 120
A31: 105478 | B31: =IFERROR(VLOOKUP($A31,'[2]Establecimiento 2023'!$A$1:$E$183,3,FALSE),0) -> 105478-Posta de Salud Rural Caimanes | C31: =IFERROR(VLOOKUP($A31,'[2]Establecimiento 2023'!$A$1:$E$183,5,FALSE),0) -> 04203-Los Vilos | D31: 7 | E31: 3 | F31: 1.1 | H31: 200494-Centro de Salud Familiar El Sauce | K31: 1 | N31: 1909 | O31: 485 | P31: 503 | Q31: 2898
A32: 105480 | B32: =IFERROR(VLOOKUP($A32,'[2]Establecimiento 2023'!$A$1:$E$183,3,FALSE),0) -> 105480-Posta de Salud Rural Quilimarí | C32: =IFERROR(VLOOKUP($A32,'[2]Establecimiento 2023'!$A$1:$E$183,5,FALSE),0) -> 04203-Los Vilos | D32: 7 | E32: 3 | F32: 1.1 | H32: 200499-Centro de Salud Familiar Rural Pan de Azúcar | N32: 719 | O32: 548 | P32: 161 | Q32: 1428
A33: 200366 | B33: =IFERROR(VLOOKUP($A33,'[2]Establecimiento 2023'!$A$1:$E$183,3,FALSE),0) -> 200366-Centro de Salud Familiar Urbano de Illapel | C33: =IFERROR(VLOOKUP($A33,'[2]Establecimiento 2023'!$A$1:$E$183,5,FALSE),0) -> 04201-Illapel | D33: 2 | E33: 8 | F33: 1.1 | H33: 200607-Centro de Salud Familiar Lila Cortés Godoy | M33: 100 | O33: 535 | Q33: 635
A34: 200366 | B34: =IFERROR(VLOOKUP($A34,'[2]Establecimiento 2023'!$A$1:$E$183,3,FALSE),0) -> 200366-Centro de Salud Familiar Urbano de Illapel | C34: =IFERROR(VLOOKUP($A34,'[2]Establecimiento 2023'!$A$1:$E$183,5,FALSE),0) -> 04201-Illapel | D34: 3 | E34: 7 | F34: 1.1 | H34: 04104-La Higuera | N34: 482 | O34: 272 | P34: 226 | Q34: 980
A35: 200366 | B35: =IFERROR(VLOOKUP($A35,'[2]Establecimiento 2023'!$A$1:$E$183,3,FALSE),0) -> 200366-Centro de Salud Familiar Urbano de Illapel | C35: =IFERROR(VLOOKUP($A35,'[2]Establecimiento 2023'!$A$1:$E$183,5,FALSE),0) -> 04201-Illapel | D35: 4 | E35: 3 | F35: 1.1 | H35: 105314-Centro de Salud Familiar La Higuera | N35: 482 | O35: 121 | P35: 226 | Q35: 829
A36: 200366 | B36: =IFERROR(VLOOKUP($A36,'[2]Establecimiento 2023'!$A$1:$E$183,3,FALSE),0) -> 200366-Centro de Salud Familiar Urbano de Illapel | C36: =IFERROR(VLOOKUP($A36,'[2]Establecimiento 2023'!$A$1:$E$183,5,FALSE),0) -> 04201-Illapel | D36: 5 | E36: 10 | F36: 1.1 | H36: 105500-Posta de Salud Rural Caleta Hornos | O36: 70 | Q36: 70
A37: 200366 | B37: =IFERROR(VLOOKUP($A37,'[2]Establecimiento 2023'!$A$1:$E$183,3,FALSE),0) -> 200366-Centro de Salud Familiar Urbano de Illapel | C37: =IFERROR(VLOOKUP($A37,'[2]Establecimiento 2023'!$A$1:$E$183,5,FALSE),0) -> 04201-Illapel | D37: 6 | E37: 5 | F37: 1.1 | H37: 105505-Posta de Salud Rural Los Choros | O37: 52 | Q37: 52
A38: 200366 | B38: =IFERROR(VLOOKUP($A38,'[2]Establecimiento 2023'!$A$1:$E$183,3,FALSE),0) -> 200366-Centro de Salud Familiar Urbano de Illapel | C38: =IFERROR(VLOOKUP($A38,'[2]Establecimiento 2023'!$A$1:$E$183,5,FALSE),0) -> 04201-Illapel | D38: 7 | E38: 3 | F38: 1.1 | H38: 105506-Posta de Salud Rural El Trapiche | O38: 29 | Q38: 29
A39: 200569 | B39: =IFERROR(VLOOKUP($A39,'[2]Establecimiento 2023'!$A$1:$E$183,3,FALSE),0) -> 200569-Centro de Salud Familiar Fray Jorge | C39: =IFERROR(VLOOKUP($A39,'[2]Establecimiento 2023'!$A$1:$E$183,5,FALSE),0) -> 04301-Ovalle | D39: 7 | E39: 27 | F39: 1.1 | H39: 04105-Paihuano | I39: 6 | N39: 2567 | O39: 230 | P39: 709 | Q39: 3512
A40: 105313 | B40: =IFERROR(VLOOKUP($A40,'[2]Establecimiento 2023'!$A$1:$E$183,3,FALSE),0) -> 105313-Centro de Salud Familiar Dr. Emilio Schaffhauser | C40: =IFERROR(VLOOKUP($A40,'[2]Establecimiento 2023'!$A$1:$E$183,5,FALSE),0) -> 04101-La Serena | D40: 4 | E40: 10 | F40: 1.2 | H40: 105306-Centro de Salud Familiar Paihuano | I40: 6 | N40: 2567 | O40: 123 | P40: 709 | Q40: 3405
A41: 105313 | B41: =IFERROR(VLOOKUP($A41,'[2]Establecimiento 2023'!$A$1:$E$183,3,FALSE),0) -> 105313-Centro de Salud Familiar Dr. Emilio Schaffhauser | C41: =IFERROR(VLOOKUP($A41,'[2]Establecimiento 2023'!$A$1:$E$183,5,FALSE),0) -> 04101-La Serena | D41: 5 | E41: 5 | F41: 1.2 | H41: 105475-Posta de Salud Rural Horcón (Paiguano) | O41: 35 | Q41: 35
...

Sheet Odontológico Integral
A1: MINISTERIO DE SALUD
A2: SERVICIO DE SALUD COQUIMBO
A3: DEPARTAMENTO DE GESTIÓN, PLANIFICACIÓN Y CONTROL
A4: SUBDEPTO. DE ESTADÍSTICAS Y GESTIÓN DE LA INFORMACIÓN
A5: AÑO 2022
B6: Programa Odontológico Integral
B8: COMUNA | C8: COMPONENTE 1 | I8: COMPONENTE 2 | O8: COMPONENTE 3 | R8: COMPONENTE 4
C9: Altas odontologicas integrales en hombres. | F9: Auditoría clínicas al menos al 5% de las altas odontológicas integrales en Hombres | I9: Atención odontológica integral en mujeres "Más Sonrisas para Chile" | L9: Auditoría clínicas al 5% de las altas odontológicas integrales "Más Sonrisas para Chile" | O9: Alta odontológicas integral a estudiantes de enseñanza media | R9: Alta odontológica a beneficiarios del "Programa de atención domiciliaria a personas con dependencia severa" y/o sus cuidadores
C10: N° total de altas odontológicas integrales Hombres realizadas" | D10: N° total de altas integrales en Hombres comprometidas | E10: Indicador | F10: N° total de auditorías a altas integrales Hombres realizadas | G10: N° Total de auditorías a altas integrales Hombres comprometidas | H10: Indicador | I10: N° total de altas odontológicas integrales en mujeres "Más Sonrisas para Chile" | J10: N° total de altas integrales "Más Sonrisas para Chile" comprometidas | K10: Indicador | L10: N° total de auditorías a altas integrales "Más Sonrisas para Chile realizadas > de 20 años | M10: N° total de auditorías a altas integrales "Más Sonrisas para Chile" comprometidas | N10: Indicador | O10: N° total de altas odontológicas integrales en estudiantes de enseñanza media y/o su equivalente | P10: N° de altas odontológicas integrales en estudiantes de enseñanza media y/o su equivalente comprometida | Q10: Indicador | R10: N° total de altas odontológicas a beneficiarios del "Programa de atención domiciliaria a personas con dependencia severa" y sus cuidadores | S10: N° total de altas odontológicas a beneficiarios del "Programa de atención domiciliaria a personas con dependencia severa" comprometidas | T10: Indicador
B12: 04101-LA SERENA | C12: =IFERROR(VLOOKUP($B12,'POI Datos'!$H$3:$M$61,2,FALSE),0) -> 139 | D12: 276 | E12: 1.1666667 | F12: 0 | G12: 11 | H12: 2.1 | I12: =IFERROR(VLOOKUP($B12,'Odont Integral'!$G$5:$L$19,2,FALSE),0) -> 71 | J12: 800 | K12: 0.77299578 | L12: 0 | M12: 60 | N12: 2.1 | O12: =IFERROR(VLOOKUP($B12,'Odont Integral'!$G$5:$L$19,3,FALSE),0) -> 229 | P12: 1010 | Q12: 0.58339198 | R12: =IFERROR(VLOOKUP($B12,'Odont Integral'!$G$5:$L$19,5,FALSE),0) -> 77 | S12: 500 | T12: 1.6852207
B13: 04104-LA HIGUERA | C13: =IFERROR(VLOOKUP($B13,'POI Datos'!$H$3:$M$61,2,FALSE),0) -> 0 | D13: 15 | E13: 0.5 | F13: 0 | G13: 1 | H13: 0 | I13: =IFERROR(VLOOKUP($B13,'Odont Integral'!$G$5:$L$19,2,FALSE),0) -> 0 | J13: 43 | K13: 0.52 | L13: 0 | M13: 3 | N13: 0 | O13: =IFERROR(VLOOKUP($B13,'Odont Integral'!$G$5:$L$19,3,FALSE),0) -> 0 | P13: 50 | Q13: 0 | R13: =IFERROR(VLOOKUP($B13,'Odont Integral'!$G$5:$L$19,5,FALSE),0) -> 0 | S13: 12 | T13: 1
B14: 04102-COQUIMBO | C14: =IFERROR(VLOOKUP($B14,'POI Datos'!$H$3:$M$61,2,FALSE),0) -> 2 | D14: 180 | E14: 0.77227723 | F14: 0 | G14: 5 | H14: 1.4 | I14: =IFERROR(VLOOKUP($B14,'Odont Integral'!$G$5:$L$19,2,FALSE),0) -> 0 | J14: 541 | K14: 0.27906977 | L14: 0 | M14: 35 | N14: 0.97142857 | O14: =IFERROR(VLOOKUP($B14,'Odont Integral'!$G$5:$L$19,3,FALSE),0) -> 0 | P14: 700 | Q14: 0.80545455 | R14: =IFERROR(VLOOKUP($B14,'Odont Integral'!$G$5:$L$19,5,FALSE),0) -> 146 | S14: 300 | T14: 0.69393939
B15: 04106-VICUÑA | C15: =IFERROR(VLOOKUP($B15,'POI Datos'!$H$3:$M$61,2,FALSE),0) -> 14 | D15: 32 | E15: 1 | F15: 0 | G15: 2 | H15: 0 | I15: =IFERROR(VLOOKUP($B15,'Odont Integral'!$G$5:$L$19,2,FALSE),0) -> 0 | J15: 97 | K15: 1.0185185 | L15: 0 | M15: 5 | N15: 0 | O15: =IFERROR(VLOOKUP($B15,'Odont Integral'!$G$5:$L$19,3,FALSE),0) -> 0 | P15: 0 | Q15: 0 | R15: =IFERROR(VLOOKUP($B15,'Odont Integral'!$G$5:$L$19,5,FALSE),0) -> 0 | S15: 46 | T15: 0.58333333
B16: 04105-PAIHUANO | C16: =IFERROR(VLOOKUP($B16,'POI Datos'!$H$3:$M$61,2,FALSE),0) -> 0 | D16: 20 | E16: 1.0833333 | F16: 0 | G16: 1 | H16: 0 | I16: =IFERROR(VLOOKUP($B16,'Odont Integral'!$G$5:$L$19,2,FALSE),0) -> 0 | J16: 61 | K16: 1.0289855 | L16: 0 | M16: 3 | N16: 0 | O16: =IFERROR(VLOOKUP($B16,'Odont Integral'!$G$5:$L$19,3,FALSE),0) -> 0 | P16: 100 | Q16: 1 | R16: =IFERROR(VLOOKUP($B16,'Odont Integral'!$G$5:$L$19,5,FALSE),0) -> 12 | S16: 14 | T16: 1.3571429
B17: 04301-OVALLE | C17: =IFERROR(VLOOKUP($B17,'POI Datos'!$H$3:$M$61,2,FALSE),0) -> 74 | D17: 145 | E17: 1 | F17: 0 | G17: 4 | H17: 1 | I17: =IFERROR(VLOOKUP($B17,'Odont Integral'!$G$5:$L$19,2,FALSE),0) -> 0 | J17: 435 | K17: 0.44519393 | L17: 0 | M17: 30 | N17: 1 | O17: =IFERROR(VLOOKUP($B17,'Odont Integral'!$G$5:$L$19,3,FALSE),0) -> 0 | P17: 500 | Q17: 1 | R17: =IFERROR(VLOOKUP($B17,'Odont Integral'!$G$5:$L$19,5,FALSE),0) -> 191 | S17: 250 | T17: 1
B18: 04305-RIO HURTADO | C18: =IFERROR(VLOOKUP($B18,'POI Datos'!$H$3:$M$61,2,FALSE),0) -> 0 | D18: 23 | E18: 0.5 | F18: 0 | G18: 1 | H18: 1 | I18: =IFERROR(VLOOKUP($B18,'Odont Integral'!$G$5:$L$19,2,FALSE),0) -> 0 | J18: 68 | K18: 0.65822785 | L18: 0 | M18: 4 | N18: 1 | O18: =IFERROR(VLOOKUP($B18,'Odont Integral'!$G$5:$L$19,3,FALSE),0) -> 0 | P18: 26 | Q18: 0.23076923 | R18: =IFERROR(VLOOKUP($B18,'Odont Integral'!$G$5:$L$19,5,FALSE),0) -> 0 | S18: 14 | T18: 0.57142857
B19: 04303-MONTE PATRIA | C19: =IFERROR(VLOOKUP($B19,'POI Datos'!$H$3:$M$61,2,FALSE),0) -> 0 | D19: 84 | E19: 0.93333333 | F19: 0 | G19: 3 | H19: 1.5 | I19: =IFERROR(VLOOKUP($B19,'Odont Integral'!$G$5:$L$19,2,FALSE),0) -> 0 | J19: 270 | K19: 0.99078341 | L19: 0 | M19: 16 | N19: 1 | O19: =IFERROR(VLOOKUP($B19,'Odont Integral'!$G$5:$L$19,3,FALSE),0) -> 0 | P19: 180 | Q19: 1.2222222 | R19: =IFERROR(VLOOKUP($B19,'Odont Integral'!$G$5:$L$19,5,FALSE),0) -> 0 | S19: 72 | T19: 1
B20: 04304-PUNITAQUI | C20: =IFERROR(VLOOKUP($B20,'POI Datos'!$H$3:$M$61,2,FALSE),0) -> 8 | D20: 29 | E20: 0.066666667 | F20: 0 | G20: 1 | H20: 0 | I20: =IFERROR(VLOOKUP($B20,'Odont Integral'!$G$5:$L$19,2,FALSE),0) -> 0 | J20: 86 | K20: 0.15254237 | L20: 0 | M20: 7 | N20: 0 | O20: =IFERROR(VLOOKUP($B20,'Odont Integral'!$G$5:$L$19,3,FALSE),0) -> 0 | P20: 35 | Q20: 0.085714286 | R20: =IFERROR(VLOOKUP($B20,'Odont Integral'!$G$5:$L$19,5,FALSE),0) -> 0 | S20: 50 | T20: 0.54
B21: 04302-COMBARBALÁ | C21: =IFERROR(VLOOKUP($B21,'POI Datos'!$H$3:$M$61,2,FALSE),0) -> 0 | D21: 24 | E21: 0.26666667 | F21: 0 | G21: 1 | H21: 0 | I21: =IFERROR(VLOOKUP($B21,'Odont Integral'!$G$5:$L$19,2,FALSE),0) -> 0 | J21: 71 | K21: 0.46464646 | L21: 0 | M21: 5 | N21: 0 | O21: =IFERROR(VLOOKUP($B21,'Odont Integral'!$G$5:$L$19,3,FALSE),0) -> 0 | P21: 0 | Q21: 0 | R21: =IFERROR(VLOOKUP($B21,'Odont Integral'!$G$5:$L$19,5,FALSE),0) -> 0 | S21: 70 | T21: 1.0428571
B22: 04201-ILLAPEL | C22: =IFERROR(VLOOKUP($B22,'POI Datos'!$H$3:$M$61,2,FALSE),0) -> 19 | D22: 71 | E22: 1 | F22: 0 | G22: 2 | H22: 0 | I22: =IFERROR(VLOOKUP($B22,'Odont Integral'!$G$5:$L$19,2,FALSE),0) -> 9 | J22: 214 | K22: 0.87457627 | L22: 0 | M22: 15 | N22: 2.0666667 | O22: =IFERROR(VLOOKUP($B22,'Odont Integral'!$G$5:$L$19,3,FALSE),0) -> 52 | P22: 150 | Q22: 1.06 | R22: =IFERROR(VLOOKUP($B22,'Odont Integral'!$G$5:$L$19,5,FALSE),0) -> 59 | S22: 75 | T22: 0.92
B23: 04204-SALAMANCA | C23: =IFERROR(VLOOKUP($B23,'POI Datos'!$H$3:$M$61,2,FALSE),0) -> 28 | D23: 32 | E23: 1.2380952 | F23: 0 | G23: 2 | H23: 1.5 | I23: =IFERROR(VLOOKUP($B23,'Odont Integral'!$G$5:$L$19,2,FALSE),0) -> 14 | J23: 97 | K23: 1.1203704 | L23: 0 | M23: 6 | N23: 1 | O23: =IFERROR(VLOOKUP($B23,'Odont Integral'!$G$5:$L$19,3,FALSE),0) -> 30 | P23: 0 | Q23: 0 | R23: =IFERROR(VLOOKUP($B23,'Odont Integral'!$G$5:$L$19,5,FALSE),0) -> 0 | S23: 46 | T23: 1
... B25: 04202-CANELA | C25: =IFERROR(VLOOKUP($B25,'POI Datos'!$H$3:$M$61,2,FALSE),0) -> 18 | D25: 49 | E25: 0.92 | F25: 0 | G25: 2 | H25: 1 | I25: =IFERROR(VLOOKUP($B25,'Odont Integral'!$G$5:$L$19,2,FALSE),0) -> 0 | J25: 146 | K25: 0.88709677 | L25: 0 | M25: 10 | N25: 1 | O25: =IFERROR(VLOOKUP($B25,'Odont Integral'!$G$5:$L$19,3,FALSE),0) -> 0 | P25: 75 | Q25: 1 | R25: =IFERROR(VLOOKUP($B25,'Odont Integral'!$G$5:$L$19,5,FALSE),0) -> 0 | S25: 42 | T25: 0.19047619
B26: HOSPITAL
B27: 105104-HOSPITAL SALAMANCA | C27: =IFERROR(VLOOKUP($B27,'POI Datos'!$H$3:$M$61,2,FALSE),0) -> 0 | D27: 29 | E27: #DIV/0! | F27: 0 | G27: 10 | H27: #DIV/0! | I27: =IFERROR(VLOOKUP($B27,'Odont Integral'!$G$5:$L$19,2,FALSE),0) -> 0 | J27: 210 | K27: #DIV/0! | L27: 0 | M27: 14 | N27: #DIV/0! | O27: =IFERROR(VLOOKUP($B27,'Odont Integral'!$G$5:$L$19,3,FALSE),0) -> 2 | P27: 60 | Q27: #DIV/0! | R27: =IFERROR(VLOOKUP($B27,'Odont Integral'!$G$5:$L$19,5,FALSE),0) -> 36 | S27: 5 | T27: #DIV/0!
B28: 105105-HOSPITAL COMBARBALÁ | C28: =IFERROR(VLOOKUP($B28,'POI Datos'!$H$3:$M$61,2,FALSE),0) -> 12 | D28: 16 | E28: #DIV/0! | F28: 0 | G28: 4 | H28: #DIV/0! | I28: =IFERROR(VLOOKUP($B28,'Odont Integral'!$G$5:$L$19,2,FALSE),0) -> 3 | J28: 95 | K28: #DIV/0! | L28: 0 | M28: 6 | N28: #DIV/0! | O28: =IFERROR(VLOOKUP($B28,'Odont Integral'!$G$5:$L$19,3,FALSE),0) -> 24 | P28: 80 | Q28: #DIV/0! | R28: =IFERROR(VLOOKUP($B28,'Odont Integral'!$G$5:$L$19,5,FALSE),0) -> 2 | S28: 8 | T28: #DIV/0!
B29: 105106-HOSPITAL ANDACOLLO | C29: =IFERROR(VLOOKUP($B29,'POI Datos'!$H$3:$M$61,2,FALSE),0) -> 6 | D29: 24 | E29: #DIV/0! | F29: 0 | G29: 6 | H29: #DIV/0! | I29: =IFERROR(VLOOKUP($B29,'Odont Integral'!$G$5:$L$19,2,FALSE),0) -> 6 | J29: 149 | K29: #DIV/0! | L29: 0 | M29: 10 | N29: #DIV/0! | O29: =IFERROR(VLOOKUP($B29,'Odont Integral'!$G$5:$L$19,3,FALSE),0) -> 47 | P29: 65 | Q29: #DIV/0! | R29: =IFERROR(VLOOKUP($B29,'Odont Integral'!$G$5:$L$19,5,FALSE),0) -> 8 | S29: 11 | T29: #DIV/0!
B30: 105107-HOSPITAL VICUÑA | C30: =IFERROR(VLOOKUP($B30,'POI Datos'!$H$3:$M$61,2,FALSE),0) -> 0 | D30: 29 | E30: #DIV/0! | F30: 0 | G30: 6 | H30: #DIV/0! | I30: =IFERROR(VLOOKUP($B30,'Odont Integral'!$G$5:$L$19,2,FALSE),0) -> 0 | J30: 184 | K30: #DIV/0! | L30: 0 | M30: 12 | N30: #DIV/0! | O30: =IFERROR(VLOOKUP($B30,'Odont Integral'!$G$5:$L$19,3,FALSE),0) -> 30 | P30: 65 | Q30: #DIV/0! | R30: =IFERROR(VLOOKUP($B30,'Odont Integral'!$G$5:$L$19,5,FALSE),0) -> 0 | S30: 7 | T30: #DIV/0!
B31: 105108-HOSPITAL LOS VILOS | C31: =IFERROR(VLOOKUP($B31,'POI Datos'!$H$3:$M$61,2,FALSE),0) -> 29 | D31: 22 | E31: #DIV/0! | F31: 0 | G31: 8 | H31: #DIV/0! | I31: =IFERROR(VLOOKUP($B31,'Odont Integral'!$G$5:$L$19,2,FALSE),0) -> 16 | J31: 210 | K31: #DIV/0! | L31: 0 | M31: 14 | N31: #DIV/0! | O31: =IFERROR(VLOOKUP($B31,'Odont Integral'!$G$5:$L$19,3,FALSE),0) -> 36 | P31: 30 | Q31: #DIV/0! | R31: =IFERROR(VLOOKUP($B31,'Odont Integral'!$G$5:$L$19,5,FALSE),0) -> 0 | S31: 11 | T31: #DIV/0!
B32: Fuente: REM A09

Sheet Sembrando Sonrisas
A1: MINISTERIO DE SALUD
A2: SERVICIO DE SALUD COQUIMBO
A3: DEPARTAMENTO DE GESTIÓN, PLANIFICACIÓN Y CONTROL
A4: SUBDEPTO. DE ESTADÍSTICAS Y GESTIÓN DE LA INFORMACIÓN
A5: AÑO 2023
B6: Programa Sembrando Sonrisas
B8: COMUNA | C8: COMPONENTE 1
C9: N° de sets de higiene oral entregados | F9: N° de niños(as) con exámen de salud bucal | I9: Aplicaciones de flúor barniz
