Workbook

Sheet Resumen
A1: MINISTERIO DE SALUD
A2: SERVICIO DE SALUD COQUIMBO
A3: DEPARTAMENTO DE GESTIÓN, PLANIFICACIÓN Y CONTROL
A4: SUBDEPTO. DE ESTADÍSTICAS Y GESTIÓN DE LA INFORMACIÓN
A5: AÑO 2023
B8: COMUNA | C8: Mejoramiento del Acceso | L8: Odontológico Integral | S8: Sembrando Sonrisas | W8: GES Odontológico
C10: Endodoncias Odontólogo General en APS | D10: Endodoncia Especialistas | E10: Prótesis Odontólogo General en APS | F10: Prótesis Especialistas | G10: Periodoncia Especialistas | H10: Apoyo odontológico CECOF | I10: Morbilidad | J10: Clínica Dental Móvil | K10: Resultado | L10: Enseñanza Media | M10: Altas Hombres de Escasos Recursos (90%) | N10: Auditorías Hombres de Escasos Recursos (10%) | O10: Altas más sonrisas para Chile (90%) | P10: Auditorías más sonrisas (10%) | Q10: Altas en Domicilio | R10: Resultado | S10: Set de Higiene Entregados | T10: Exámenes de Salud | U10: Aplicaciones de Fluor | V10: Resultado | W10: Adultos de 60 años | X10: Resultado
B12: Peso | C12: 0.25 | H12: 0.25 | I12: 0.25 | J12: 0.25 | L12: 0.3 | M12: 0.3 | O12: 0.3 | Q12: 0.1 | S12: 0.33 | T12: 0.33 | U12: 0.34 | W12: 1
B13: 04101-LA SERENA | C13: 0.29714286 | D13: 0.21866667 | E13: 0.10777778 | F13: 0 | G13: 0.094520548 | H13: 10.723238 | I13: 0.88177083 | J13: 1 | K13: 3.3307791 | L13: 0.58339198 | M13: 1.05 | N13: 0.21 | O13: 0.6956962 | P13: 0.21 | Q13: 1.6852207 | R13: 0.99324853 | S13: 1.6068461 | T13: 1.1573011 | U13: 0.59685398 | V13: 1.1150989 | W13: 0.50930233 | X13: 0.50930233
B14: 04104-LA HIGUERA | C14: 0 | D14: 0 | E14: 0.2 | F14: 0 | G14: 0 | H14: 0 | I14: 0.62395833 | J14: 1 | K14: 0.45598958 | L14: 0 | M14: 0.45 | N14: 0 | O14: 0.468 | P14: 0 | Q14: 1 | R14: 0.3754 | S14: 1.53 | T14: 1.54 | U14: 0.69 | V14: 1.2477 | W14: 0 | X14: 0
B15: 04102-COQUIMBO | C15: 0.54727273 | D15: 0.44 | E15: 0.49125 | F15: 0.125 | G15: 0.32142857 | H15: 332.95455 | I15: 1.4457465 | J15: 1 | K15: 84.331311 | L15: 0.80545455 | M15: 0.6950495 | N15: 0.14 | O15: 0.25116279 | P15: 0.097142857 | Q15: 0.69393939 | R15: 0.66603685 | S15: 0.94254902 | T15: 0.9427451 | U15: 0.67558824 | V15: 0.85184706 | W15: 0.58823529 | X15: 0.58823529
B16: 04106-VICUÑA | C16: 0.36 | D16: 0 | E16: 0.4 | F16: 0 | G16: 0 | H16: 0 | I16: 0.9140625 | J16: 1 | K16: 0.66851562 | L16: 0 | M16: 0.9 | N16: 0 | O16: 0.91666667 | P16: 0 | Q16: 0.58333333 | R16: 0.60333333 | S16: 1.5259259 | T16: 1.112963 | U16: 0.55648148 | V16: 1.060037 | W16: 0.83333333 | X16: 0.83333333
B17: 04105-PAIHUANO | C17: 0.23333333 | D17: 0 | E17: 0.4 | F17: 0 | G17: 0 | H17: 0 | I17: 1.0510417 | J17: 1 | K17: 0.67109375 | L17: 1 | M17: 0.975 | N17: 0 | O17: 0.92608696 | P17: 0 | Q17: 1.3571429 | R17: 1.0060404 | S17: 2.11 | T17: 2.11 | U17: 1.005 | V17: 1.7343 | W17: 0.125 | X17: 0.125
B18: 04301-OVALLE | C18: 0.4 | D18: 0.4 | E18: 0.4 | F18: 0.4 | G18: 0.1375 | H18: 2.2856357 | I18: 0.60143229 | J18: 1 | K18: 1.406142 | L18: 1 | M18: 0.9 | N18: 0.1 | O18: 0.40067454 | P18: 0.1 | Q18: 1 | R18: 0.85020236 | S18: 0.87770492 | T18: 0.87770492 | U18: 0.72196721 | V18: 0.8247541 | W18: 1 | X18: 1
B19: 04305-RIO HURTADO | C19: 0 | D19: 0 | E19: 0.2 | F19: 0 | G19: 0 | H19: 0 | I19: 0.75833333 | J19: 1 | K19: 0.48958333 | L19: 0.23076923 | M19: 0.45 | N19: 0.1 | O19: 0.59240506 | P19: 0.1 | Q19: 0.57142857 | R19: 0.49909515 | S19: 0.66 | T19: 0.66 | U19: 0.65 | V19: 0.6566 | W19: 0.41176471 | X19: 0.41176471
B20: 04303-MONTE PATRIA | C20: 0 | D20: 0 | E20: 0 | F20: 0 | G20: 0 | H20: 0 | I20: 0.66493056 | J20: 1 | K20: 0.41623264 | L20: 1.2222222 | M20: 0.84 | N20: 0.15 | O20: 0.89170507 | P20: 0.1 | Q20: 1 | R20: 1.0611782 | S20: 0.92099448 | T20: 0.92099448 | U20: 0.92099448 | V20: 0.92099448 | W20: 0.68253968 | X20: 0.68253968
B21: 04304-PUNITAQUI | C21: 0.08 | D21: 0 | E21: 0 | F21: 0 | G21: 0 | H21: 0 | I21: 0.89583333 | J21: 1 | K21: 0.49395833 | L21: 0.085714286 | M21: 0.06 | N21: 0 | O21: 0.13728814 | P21: 0 | Q21: 0.54 | R21: 0.13890073 | S21: 0.027586207 | T21: 0.027586207 | U21: 0.013793103 | V21: 0.022896552 | W21: 0.2 | X21: 0.2
B22: 04302-COMBARBALÁ | C22: 0.061538462 | D22: 0 | E22: 0 | F22: 0 | G22: 0 | H22: 0 | I22: 0.10833333 | J22: 1 | K22: 0.29246795 | L22: 0 | M22: 0.24 | N22: 0 | O22: 0.41818182 | P22: 0 | Q22: 1.0428571 | R22: 0.30174026 | S22: 1.16 | T22: 1.83 | U22: 0.915 | V22: 1.2978 | W22: 0.6 | X22: 0.6
B23: 04201-ILLAPEL | C23: 0.41142857 | D23: 0 | E23: 0.46153846 | F23: 0 | G23: 0 | H23: 0 | I23: 1.3432292 | J23: 1 | K23: 0.80404905 | L23: 1.06 | M23: 0.9 | N23: 0 | O23: 0.78711864 | P23: 0.20666667 | Q23: 0.92 | R23: 0.97813559 | S23: 1.1185185 | T23: 1.1185185 | U23: 0.89074074 | V23: 1.0410741 | W23: 0.67272727 | X23: 0.67272727
B24: 04204-SALAMANCA | C24: 0.4 | D24: 0 | E24: 0.49777778 | F24: 0 | G24: 0 | H24: 0 | I24: 1.0036458 | J24: 1 | K24: 0.7253559 | L24: 0 | M24: 1.1142857 | N24: 0.15 | O24: 1.0083333 | P24: 0.1 | Q24: 1 | R24: 0.81178571 | S24: 1.05 | T24: 1.0518519 | U24: 0.82962963 | V24: 0.97568519 | W24: 1.0857143 | X24: 1.0857143
... B26: 04202-CANELA | C26: 0 | D26: 0 | E26: 0.4 | F26: 0 | G26: 0 | H26: 0 | I26: 1.00625 | J26: 1 | K26: 0.6015625 | L26: 1 | M26: 0.828 | N26: 0.1 | O26: 0.7983871 | P26: 0.1 | Q26: 0.19047619 | R26: 0.86696375 | S26: 1.35 | T26: 1.35 | U26: 0.6725 | V26: 1.11965 | W26: 1 | X26: 1

Sheet Mejoram comp 2
I1: Mes | J1: (Todas)
A2: Establecimiento | B2: Establecimiento | C2: Comuna | D2: Mes | E2: Total | F2: Posición
A3: 105012 | B3: =IFERROR(VLOOKUP(A3,'[1]Establecimiento 2023'!$A$1:$E$183,3,FALSE),0) -> 105012-Clínica Dental Móvil Triple. Pat. PW4100 (Monte Patria) | C3: =IFERROR(VLOOKUP(A3,'[1]Establecimiento 2023'!$A$1:$E$183,5,FALSE),0) -> 04303-Monte Patria | D3: 1 | E3: 429 | F3: 4 | I3: Etiquetas de fila | J3: Suma de Total
A4: 105012 | B4: =IFERROR(VLOOKUP(A4,'[1]Establecimiento 2023'!$A$1:$E$183,3,FALSE),0) -> 105012-Clínica Dental Móvil Triple. Pat. PW4100 (Monte Patria) | C4: =IFERROR(VLOOKUP(A4,'[1]Establecimiento 2023'!$A$1:$E$183,5,FALSE),0) -> 04303-Monte Patria | D4: 2 | E4: 297 | F4: 4 | I4: 105012-Clínica Dental Móvil | J4: 2865
A5: 105012 | B5: =IFERROR(VLOOKUP(A5,'[1]Establecimiento 2023'!$A$1:$E$183,3,FALSE),0) -> 105012-Clínica Dental Móvil Triple. Pat. PW4100 (Monte Patria) | C5: =IFERROR(VLOOKUP(A5,'[1]Establecimiento 2023'!$A$1:$E$183,5,FALSE),0) -> 04303-Monte Patria | D5: 3 | E5: 669 | F5: 4 | I5: 105100-Hospital San Juan de Dios (La Serena) | J5: 1960
A6: 105012 | B6: =IFERROR(VLOOKUP(A6,'[1]Establecimiento 2023'!$A$1:$E$183,3,FALSE),0) -> 105012-Clínica Dental Móvil Triple. Pat. PW4100 (Monte Patria) | C6: =IFERROR(VLOOKUP(A6,'[1]Establecimiento 2023'!$A$1:$E$183,5,FALSE),0) -> 04303-Monte Patria | D6: 4 | E6: 687 | F6: 4 | I6: 105102-Hospital Dr. Antonio Tirado Lanas de Ovalle | J6: 837
A7: 105012 | B7: =IFERROR(VLOOKUP(A7,'[1]Establecimiento 2023'!$A$1:$E$183,3,FALSE),0) -> 105012-Clínica Dental Móvil Triple. Pat. PW4100 (Monte Patria) | C7: =IFERROR(VLOOKUP(A7,'[1]Establecimiento 2023'!$A$1:$E$183,5,FALSE),0) -> 04303-Monte Patria | D7: 5 | E7: 783 | F7: 4 | I7: 105103-Hospital Dr. Humberto Elorza Cortés (Illapel) | J7: 1211
A8: 105100 | B8: =IFERROR(VLOOKUP(A8,'[1]Establecimiento 2023'!$A$1:$E$183,3,FALSE),0) -> 105100-Hospital San Juan de Dios (La Serena) | C8: =IFERROR(VLOOKUP(A8,'[1]Establecimiento 2023'!$A$1:$E$183,5,FALSE),0) -> 105100-Hospital La Serena | D8: 1 | E8: 371 | F8: 4 | I8: 105104-Hospital de Salamanca | J8: 12060
A9: 105100 | B9: =IFERROR(VLOOKUP(A9,'[1]Establecimiento 2023'!$A$1:$E$183,3,FALSE),0) -> 105100-Hospital San Juan de Dios (La Serena) | C9: =IFERROR(VLOOKUP(A9,'[1]Establecimiento 2023'!$A$1:$E$183,5,FALSE),0) -> 105100-Hospital La Serena | D9: 2 | E9: 299 | F9: 4 | I9: 105105-Hospital San Juan de Dios (Combarbalá) | J9: 5107
A10: 105100 | B10: =IFERROR(VLOOKUP(A10,'[1]Establecimiento 2023'!$A$1:$E$183,3,FALSE),0) -> 105100-Hospital San Juan de Dios (La Serena) | C10: =IFERROR(VLOOKUP(A10,'[1]Establecimiento 2023'!$A$1:$E$183,5,FALSE),0) -> 105100-Hospital La Serena | D10: 3 | E10: 422 | F10: 4 | I10: 105106-Hospital Dr. José Arraño (Andacollo) | J10: 7512
A11: 105100 | B11: =IFERROR(VLOOKUP(A11,'[1]Establecimiento 2023'!$A$1:$E$183,3,FALSE),0) -> 105100-Hospital San Juan de Dios (La Serena) | C11: =IFERROR(VLOOKUP(A11,'[1]Establecimiento 2023'!$A$1:$E$183,5,FALSE),0) -> 105100-Hospital La Serena | D11: 4 | E11: 352 | F11: 4 | I11: 105107-Hospital San Juan de Dios (Vicuña) | J11: 6129
A12: 105100 | B12: =IFERROR(VLOOKUP(A12,'[1]Establecimiento 2023'!$A$1:$E$183,3,FALSE),0) -> 105100-Hospital San Juan de Dios (La Serena) | C12: =IFERROR(VLOOKUP(A12,'[1]Establecimiento 2023'!$A$1:$E$183,5,FALSE),0) -> 105100-Hospital La Serena | D12: 5 | E12: 516 | F12: 4 | I12: 105108-Hospital San Pedro (Los Vilos) | J12: 8926
A13: 105102 | B13: =IFERROR(VLOOKUP(A13,'[1]Establecimiento 2023'!$A$1:$E$183,3,FALSE),0) -> 105102-Hospital Dr. Antonio Tirado Lanas de Ovalle | C13: =IFERROR(VLOOKUP(A13,'[1]Establecimiento 2023'!$A$1:$E$183,5,FALSE),0) -> 105102-Hospital Ovalle | D13: 1 | E13: 111 | F13: 4 | I13: 105300-Centro de Salud Familiar Cardenal Caro | J13: 13845
A14: 105102 | B14: =IFERROR(VLOOKUP(A14,'[1]Establecimiento 2023'!$A$1:$E$183,3,FALSE),0) -> 105102-Hospital Dr. Antonio Tirado Lanas de Ovalle | C14: =IFERROR(VLOOKUP(A14,'[1]Establecimiento 2023'!$A$1:$E$183,5,FALSE),0) -> 105102-Hospital Ovalle | D14: 2 | E14: 93 | F14: 4 | I14: 105301-Centro de Salud Familiar Las Compañías | J14: 10321
A15: 105102 | B15: =IFERROR(VLOOKUP(A15,'[1]Establecimiento 2023'!$A$1:$E$183,3,FALSE),0) -> 105102-Hospital Dr. Antonio Tirado Lanas de Ovalle | C15: =IFERROR(VLOOKUP(A15,'[1]Establecimiento 2023'!$A$1:$E$183,5,FALSE),0) -> 105102-Hospital Ovalle | D15: 3 | E15: 229 | F15: 4 | I15: 105302-Centro de Salud Familiar Pedro Aguirre Cerda | J15: 14314
... A139: 105319 | B139: =IFERROR(VLOOKUP(A139,'[1]Establecimiento 2023'!$A$1:$E$183,3,FALSE),0) -> 105319-Centro de Salud Familiar Cardenal Raúl Silva Henríquez de La Serena | C139: =IFERROR(VLOOKUP(A139,'[1]Establecimiento 2023'!$A$1:$E$183,5,FALSE),0) -> 04101-La Serena | D139: 2 | E139: 2520 | F139: 4 | I139: Total general | J139: 365436
A140: 105319 | B140: =IFERROR(VLOOKUP(A140,'[1]Establecimiento 2023'!$A$1:$E$183,3,FALSE),0) -> 105319-Centro de Salud Familiar Cardenal Raúl Silva Henríquez de La Serena | C140: =IFERROR(VLOOKUP(A140,'[1]Establecimiento 2023'!$A$1:$E$183,5,FALSE),0) -> 04101-La Serena | D140: 3 | E140: 2117 | F140: 4
A141: 105319 | B141: =IFERROR(VLOOKUP(A141,'[1]Establecimiento 2023'!$A$1:$E$183,3,FALSE),0) -> 105319-Centro de Salud Familiar Cardenal Raúl Silva Henríquez de La Serena | C141: =IFERROR(VLOOKUP(A141,'[1]Establecimiento 2023'!$A$1:$E$183,5,FALSE),0) -> 04101-La Serena | D141: 4 | E141: 1978 | F141: 4
A142: 105319 | B142: =IFERROR(VLOOKUP(A142,'[1]Establecimiento 2023'!$A$1:$E$183,3,FALSE),0) -> 105319-Centro de Salud Familiar Cardenal Raúl Silva Henríquez de La Serena | C142: =IFERROR(VLOOKUP(A142,'[1]Establecimiento 2023'!$A$1:$E$183,5,FALSE),0) -> 04101-La Serena | D142: 5 | E142: 3232 | F142: 4
A143: 105321 | B143: =IFERROR(VLOOKUP(A143,'[1]Establecimiento 2023'!$A$1:$E$183,3,FALSE),0) -> 105321-Centro de Salud Familiar Tongoy | C143: =IFERROR(VLOOKUP(A143,'[1]Establecimiento 2023'!$A$1:$E$183,5,FALSE),0) -> 04102-Coquimbo | D143: 1 | E143: 686 | F143: 4
A144: 105321 | B144: =IFERROR(VLOOKUP(A144,'[1]Establecimiento 2023'!$A$1:$E$183,3,FALSE),0) -> 105321-Centro de Salud Familiar Tongoy | C144: =IFERROR(VLOOKUP(A144,'[1]Establecimiento 2023'!$A$1:$E$183,5,FALSE),0) -> 04102-Coquimbo | D144: 2 | E144: 686 | F144: 4
A145: 105321 | B145: =IFERROR(VLOOKUP(A145,'[1]Establecimiento 2023'!$A$1:$E$183,3,FALSE),0) -> 105321-Centro de Salud Familiar Tongoy | C145: =IFERROR(VLOOKUP(A145,'[1]Establecimiento 2023'!$A$1:$E$183,5,FALSE),0) -> 04102-Coquimbo | D145: 3 | E145: 726 | F145: 4
A146: 105321 | B146: =IFERROR(VLOOKUP(A146,'[1]Establecimiento 2023'!$A$1:$E$183,3,FALSE),0) -> 105321-Centro de Salud Familiar Tongoy | C146: =IFERROR(VLOOKUP(A146,'[1]Establecimiento 2023'!$A$1:$E$183,5,FALSE),0) -> 04102-Coquimbo | D146: 4 | E146: 651 | F146: 4
A147: 105321 | B147: =IFERROR(VLOOKUP(A147,'[1]Establecimiento 2023'!$A$1:$E$183,3,FALSE),0) -> 105321-Centro de Salud Familiar Tongoy | C147: =IFERROR(VLOOKUP(A147,'[1]Establecimiento 2023'!$A$1:$E$183,5,FALSE),0) -> 04102-Coquimbo | D147: 5 | E147: 913 | F147: 4
A148: 105322 | B148: =IFERROR(VLOOKUP(A148,'[1]Establecimiento 2023'!$A$1:$E$183,3,FALSE),0) -> 105322-Centro de Salud Familiar Marcos Macuada | C148: =IFERROR(VLOOKUP(A148,'[1]Establecimiento 2023'!$A$1:$E$183,5,FALSE),0) -> 04301-Ovalle | D148: 1 | E148: 2828 | F148: 4
A149: 105322 | B149: =IFERROR(VLOOKUP(A149,'[1]Establecimiento 2023'!$A$1:$E$183,3,FALSE),0) -> 105322-Centro de Salud Familiar Marcos Macuada | C149: =IFERROR(VLOOKUP(A149,'[1]Establecimiento 2023'!$A$1:$E$183,5,FALSE),0) -> 04301-Ovalle | D149: 2 | E149: 1252 | F149: 4
A150: 105322 | B150: =IFERROR(VLOOKUP(A150,'[1]Establecimiento 2023'!$A$1:$E$183,3,FALSE),0) -> 105322-Centro de Salud Familiar Marcos Macuada | C150: =IFERROR(VLOOKUP(A150,'[1]Establecimiento 2023'!$A$1:$E$183,5,FALSE),0) -> 04301-Ovalle | D150: 3 | E150: 2309 | F150: 4
A151: 105322 | B151: =IFERROR(VLOOKUP(A151,'[1]Establecimiento 2023'!$A$1:$E$183,3,FALSE),0) -> 105322-Centro de Salud Familiar Marcos Macuada | C151: =IFERROR(VLOOKUP(A151,'[1]Establecimiento 2023'!$A$1:$E$183,5,FALSE),0) -> 04301-Ovalle | D151: 4 | E151: 1943 | F151: 4
... A574: 200607 | B574: =IFERROR(VLOOKUP(A574,'[1]Establecimiento 2023'!$A$1:$E$183,3,FALSE),0) -> 200607-Centro de Salud Familiar Lila Cortés Godoy | C574: =IFERROR(VLOOKUP(A574,'[1]Establecimiento 2023'!$A$1:$E$183,5,FALSE),0) -> 04102-Coquimbo | D574: 5 | E574: 1647 | F574: 4

Sheet Mejoramiento del Acceso
A1: MINISTERIO DE SALUD
A2: SERVICIO DE SALUD COQUIMBO
A3: DEPARTAMENTO DE GESTIÓN, PLANIFICACIÓN Y CONTROL
A4: SUBDEPTO. DE ESTADÍSTICAS Y GESTIÓN DE LA INFORMACIÓN
A5: AÑO 2022
B6: Programa Mejoramiento del Acceso
B8: COMUNA | C8: COMPONENTE 1 | R8: COMPONENTE 2 | U8: COMPONENTE 3 | X8: COMPONENTE 4
C9: Endodoncia en dientes anteriores, premolares y molares | I9: Protesis en APS | O9: Tratamiento periodontal | R9: Clínicas Móviles Dentales | U9: Control Odontologico en Poblacion de Cero a Nueve Años (Programa CERO) | X9: Número de consultas de morbilidad en extensión horaria
C10: ODONTOLOGO GRAL | F10: ENDODONCISTA ESPECIALISTA | I10: PROTESIS GRAL | L10: PROTESIS ESPECIALISTA
C11: N° total endodoncias en dientes anteriores, premolares y molares realizadas en APS | D11: N° total de endodoncias comprometidas en APS | E11: Indicador | F11: N° total endodoncias en dientes anteriores, premolares y molares realizadas en APS | G11: N° total de endodoncias comprometidas en APS | H11: Indicador | I11: N° total de prótesis removibles realizadas en APS | J11: N° total de prótesis removibles comprometidas en APS | K11: Indicador | L11: N° total de prótesis removibles realizadas en APS | M11: N° total de prótesis removibles comprometidas en APS | N11: Indicador | O11: N° total de personas con tratamiento periodontal realizado en APS | P11: N° total de personas con tratamiento periodontal comprometidas | Q11: Indicador | R11: N° total de actividades recuperativas realizadas en clínica dental móvil año actual | S11: N° total de consultas de morbilidad comprometidas | T11: Indicador | U11: N° total de aplicaciones de pauta de riesgo del Programa CERO en niños(as) de 0 a 9 años | V11: Población de 0 a 9 años asignada de CECOSF en año actual | W11: Indicador | X11: N° total de actividades recuperativas realizadas en extensión horaria | Y11: N° total de consultas de morbilidad comprometidas en extensión horaria | Z11: Indicador
B13: 04101-LA SERENA | C13: =IFERROR(VLOOKUP($B13,'M.A Datos'!$H$5:$Q$156,2,FALSE),0) -> 90 | D13: 280 | E13: 0.74285714 | F13: =IFERROR(VLOOKUP($B13,'M.A Datos'!$H$5:$Q$156,3,FALSE),0) -> 31 | G13: 80 | H13: 0.54666667 | I13: =IFERROR(VLOOKUP($B13,'M.A Datos'!H5:Q156,4,FALSE),0) -> 24 | J13: 360 | K13: 0.26944444 | L13: =IFERROR(VLOOKUP($B13,'M.A Datos'!$H$5:$Q$156,5,FALSE),0) -> 13 | M13: 55 | N13: 0 | O13: =IFERROR(VLOOKUP($B13,'M.A Datos'!$H$5:$Q$156,6,FALSE),0) -> 149 | P13: 170 | Q13: 0.47260274 | T13: 0 | U13: =IFERROR(VLOOKUP($B13,'M.A Datos'!$H$5:$Q$156,8,FALSE),0) -> 7405 | V13: 3 | W13: 10.723238 | X13: =IFERROR(VLOOKUP($B13,'M.A Datos'!$H$5:$Q$156,9,FALSE),0) -> 1953 | Y13: 11520 | Z13: 0.88177083
B14: 105701-Centro Comunitario de Salud Familiar Villa Alemania | U14: =IFERROR(VLOOKUP($B14,'M.A Datos'!$H$5:$Q$156,8,FALSE),0) -> 74 | V14: 85
B15: 105700-Centro Comunitario de Salud Familiar Villa el Indio | U15: =IFERROR(VLOOKUP($B15,'M.A Datos'!$H$5:$Q$156,8,FALSE),0) -> 43 | V15: 112
B16: 105499-Posta de Salud Rural Lambert | U16: =IFERROR(VLOOKUP($B16,'M.A Datos'!$H$5:$Q$156,8,FALSE),0) -> 8 | V16: 163
B17: 04104-LA HIGUERA | C17: =IFERROR(VLOOKUP($B17,'M.A Datos'!$H$5:$Q$156,2,FALSE),0) -> 0 | D17: 15 | E17: 0 | F17: =IFERROR(VLOOKUP($B17,'M.A Datos'!$H$5:$Q$156,3,FALSE),0) -> 0 | H17: 0 | I17: =IFERROR(VLOOKUP($B17,'M.A Datos'!H9:Q160,4,FALSE),0) -> 0 | J17: 20 | K17: 0.5 | L17: =IFERROR(VLOOKUP($B17,'M.A Datos'!$H$5:$Q$156,5,FALSE),0) -> 0 | N17: 0 | O17: =IFERROR(VLOOKUP($B17,'M.A Datos'!$H$5:$Q$156,6,FALSE),0) -> 0 | Q17: 0 | T17: 0 | U17: =IFERROR(VLOOKUP($B17,'M.A Datos'!$H$5:$Q$156,8,FALSE),0) -> 272 | W17: 0 | X17: =IFERROR(VLOOKUP($B17,'M.A Datos'!$H$5:$Q$156,9,FALSE),0) -> 226 | Y17: 1920 | Z17: 0.62395833
B18: 04102-COQUIMBO | C18: =IFERROR(VLOOKUP($B18,'M.A Datos'!$H$5:$Q$156,2,FALSE),0) -> 121 | D18: 220 | E18: 1.3681818 | F18: =IFERROR(VLOOKUP($B18,'M.A Datos'!$H$5:$Q$156,3,FALSE),0) -> 17 | G18: 90 | H18: 1.1 | I18: =IFERROR(VLOOKUP($B18,'M.A Datos'!H10:Q161,4,FALSE),0) -> 9 | J18: 321 | K18: 1.228125 | L18: =IFERROR(VLOOKUP($B18,'M.A Datos'!$H$5:$Q$156,5,FALSE),0) -> 0 | M18: 50 | N18: 0.3125 | O18: =IFERROR(VLOOKUP($B18,'M.A Datos'!$H$5:$Q$156,6,FALSE),0) -> 214 | P18: 170 | Q18: 1.6071429 | T18: 0 | U18: =IFERROR(VLOOKUP($B18,'M.A Datos'!$H$5:$Q$156,8,FALSE),0) -> 5804 | V18: 1 | W18: 332.95455 | X18: =IFERROR(VLOOKUP($B18,'M.A Datos'!$H$5:$Q$156,9,FALSE),0) -> 1030 | Y18: 11520 | Z18: 1.4457465
B19: 04106-VICUÑA | C19: =IFERROR(VLOOKUP($B19,'M.A Datos'!$H$5:$Q$156,2,FALSE),0) -> 0 | D19: 20 | E19: 0.9 | F19: =IFERROR(VLOOKUP($B19,'M.A Datos'!$H$5:$Q$156,3,FALSE),0) -> 0 | H19: 0 | I19: =IFERROR(VLOOKUP($B19,'M.A Datos'!H12:Q163,4,FALSE),0) -> 0 | J19: 35 | K19: 1 | L19: =IFERROR(VLOOKUP($B19,'M.A Datos'!$H$5:$Q$156,5,FALSE),0) -> 0 | N19: 0 | O19: =IFERROR(VLOOKUP($B19,'M.A Datos'!$H$5:$Q$156,6,FALSE),0) -> 0 | Q19: 0 | T19: 0 | U19: =IFERROR(VLOOKUP($B19,'M.A Datos'!$H$5:$Q$156,8,FALSE),0) -> 478 | W19: 0 | X19: =IFERROR(VLOOKUP($B19,'M.A Datos'!$H$5:$Q$156,9,FALSE),0) -> 829 | Y19: 3840 | Z19: 0.9140625
B20: 04105-PAIHUANO | C20: =IFERROR(VLOOKUP($B20,'M.A Datos'!$H$5:$Q$156,2,FALSE),0) -> 6 | D20: 15 | E20: 0.58333333 | F20: =IFERROR(VLOOKUP($B20,'M.A Datos'!$H$5:$Q$156,3,FALSE),0) -> 0 | H20: 0 | I20: =IFERROR(VLOOKUP($B20,'M.A Datos'!H13:Q164,4,FALSE),0) -> 0 | J20: 20 | K20: 1 | L20: =IFERROR(VLOOKUP($B20,'M.A Datos'!$H$5:$Q$156,5,FALSE),0) -> 0 | N20: 0 | O20: =IFERROR(VLOOKUP($B20,'M.A Datos'!$H$5:$Q$156,6,FALSE),0) -> 0 | Q20: 0 | T20: 0 | U20: =IFERROR(VLOOKUP($B20,'M.A Datos'!$H$5:$Q$156,8,FALSE),0) -> 230 | W20: 0 | X20: =IFERROR(VLOOKUP($B20,'M.A Datos'!$H$5:$Q$156,9,FALSE),0) -> 709 | Y20: 1920 | Z20: 1.0510417
B21: 04301-OVALLE | C21: =IFERROR(VLOOKUP($B21,'M.A Datos'!$H$5:$Q$156,2,FALSE),0) -> 27 | D21: 70 | E21: 1 | F21: =IFERROR(VLOOKUP($B21,'M.A Datos'!$H$5:$Q$156,3,FALSE),0) -> 10 | G21: 40 | H21: 1 | I21: =IFERROR(VLOOKUP($B21,'M.A Datos'!H14:Q165,4,FALSE),0) -> 0 | J21: 265 | K21: 1 | L21: =IFERROR(VLOOKUP($B21,'M.A Datos'!$H$5:$Q$156,5,FALSE),0) -> 0 | M21: 35 | N21: 1 | O21: =IFERROR(VLOOKUP($B21,'M.A Datos'!$H$5:$Q$156,6,FALSE),0) -> 0 | P21: 119 | Q21: 0.6875 | T21: 0 | U21: =IFERROR(VLOOKUP($B21,'M.A Datos'!$H$5:$Q$156,8,FALSE),0) -> 3240 | V21: 2 | W21: 2.2856357 | X21: =IFERROR(VLOOKUP($B21,'M.A Datos'!$H$5:$Q$156,9,FALSE),0) -> 497 | Y21: 7680 | Z21: 0.60143229
B22: San José de la Dehesa | U22: =IFERROR(VLOOKUP($B22,'M.A Datos'!$H$5:$Q$156,8,FALSE),0) -> 0 | V22: 318
B23: Limarí | U23: =IFERROR(VLOOKUP($B23,'M.A Datos'!$H$5:$Q$156,8,FALSE),0) -> 0 | V23: 182
B24: 04305-RIO HURTADO | C24: =IFERROR(VLOOKUP($B24,'M.A Datos'!$H$5:$Q$156,2,FALSE),0) -> 3 | D24: 15 | E24: 0 | F24: =IFERROR(VLOOKUP($B24,'M.A Datos'!$H$5:$Q$156,3,FALSE),0) -> 0 | H24: 0 | I24: =IFERROR(VLOOKUP($B24,'M.A Datos'!H17:Q168,4,FALSE),0) -> 0 | J24: 20 | K24: 0.5 | L24: =IFERROR(VLOOKUP($B24,'M.A Datos'!$H$5:$Q$156,5,FALSE),0) -> 0 | N24: 0 | O24: =IFERROR(VLOOKUP($B24,'M.A Datos'!$H$5:$Q$156,6,FALSE),0) -> 0 | Q24: 0 | T24: 0 | U24: =IFERROR(VLOOKUP($B24,'M.A Datos'!$H$5:$Q$156,8,FALSE),0) -> 206 | W24: 0 | X24: =IFERROR(VLOOKUP($B24,'M.A Datos'!$H$5:$Q$156,9,FALSE),0) -> 567 | Y24: 1920 | Z24: 0.75833333
B25: 04303-MONTE PATRIA | C25: =IFERROR(VLOOKUP($B25,'M.A Datos'!$H$5:$Q$156,2,FALSE),0) -> 0 | D25: 40 | E25: 0 | F25: =IFERROR(VLOOKUP($B25,'M.A Datos'!$H$5:$Q$156,3,FALSE),0) -> 0 | H25: 0 | I25: =IFERROR(VLOOKUP($B25,'M.A Datos'!H18:Q169,4,FALSE),0) -> 0 | J25: 90 | K25: 0 | L25: =IFERROR(VLOOKUP($B25,'M.A Datos'!$H$5:$Q$156,5,FALSE),0) -> 0 | N25: 0 | O25: =IFERROR(VLOOKUP($B25,'M.A Datos'!$H$5:$Q$156,6,FALSE),0) -> 0 | Q25: 0 | T25: 0 | U25: =IFERROR(VLOOKUP($B25,'M.A Datos'!$H$5:$Q$156,8,FALSE),0) -> 1379 | W25: 0 | X25: =IFERROR(VLOOKUP($B25,'M.A Datos'!$H$5:$Q$156,9,FALSE),0) -> 519 | Y25: 5760 | Z25: 0.66493056
B26: 04304-PUNITAQUI | C26: =IFERROR(VLOOKUP($B26,'M.A Datos'!$H$5:$Q$156,2,FALSE),0) -> 0 | D26: 20 | E26: 0.2 | F26: =IFERROR(VLOOKUP($B26,'M.A Datos'!$H$5:$Q$156,3,FALSE),0) -> 0 | H26: 0 | I26: =IFERROR(VLOOKUP($B26,'M.A Datos'!H19:Q170,4,FALSE),0) -> 0 | J26: 35 | K26: 0 | L26: =IFERROR(VLOOKUP($B26,'M.A Datos'!$H$5:$Q$156,5,FALSE),0) -> 0 | N26: 0 | O26: =IFERROR(VLOOKUP($B26,'M.A Datos'!$H$5:$Q$156,6,FALSE),0) -> 0 | Q26: 0 | T26: 0 | U26: =IFERROR(VLOOKUP($B26,'M.A Datos'!$H$5:$Q$156,8,FALSE),0) -> 427 | W26: 0 | X26: =IFERROR(VLOOKUP($B26,'M.A Datos'!$H$5:$Q$156,9,FALSE),0) -> 163 | Y26: 1920 | Z26: 0.89583333
B27: 04302-COMBARBALÁ | C27: =IFERROR(VLOOKUP($B27,'M.A Datos'!$H$5:$Q$156,2,FALSE),0) -> 0 | D27: 16 | E27: 0.15384615 | F27: =IFERROR(VLOOKUP($B27,'M.A Datos'!$H$5:$Q$156,3,FALSE),0) -> 0 | H27: 0 | I27: =IFERROR(VLOOKUP($B27,'M.A Datos'!H20:Q171,4,FALSE),0) -> 0 | J27: 30 | K27: 0 | L27: =IFERROR(VLOOKUP($B27,'M.A Datos'!$H$5:$Q$156,5,FALSE),0) -> 0 | N27: 0 | O27: =IFERROR(VLOOKUP($B27,'M.A Datos'!$H$5:$Q$156,6,FALSE),0) -> 0 | Q27: 0 | T27: 0 | U27: =IFERROR(VLOOKUP($B27,'M.A Datos'!$H$5:$Q$156,8,FALSE),0) -> 178 | W27: 0 | X27: =IFERROR(VLOOKUP($B27,'M.A Datos'!$H$5:$Q$156,9,FALSE),0) -> 0 | Y27: 1920 | Z27: 0.10833333
B28: 04201-ILLAPEL | C28: =IFERROR(VLOOKUP($B28,'M.A Datos'!$H$5:$Q$156,2,FALSE),0) -> 36 | D28: 70 | E28: 1.0285714 | F28: =IFERROR(VLOOKUP($B28,'M.A Datos'!$H$5:$Q$156,3,FALSE),0) -> 0 | H28: 0 | I28: =IFERROR(VLOOKUP($B28,'M.A Datos'!H21:Q172,4,FALSE),0) -> 71 | J28: 130 | K28: 1.1538462 | L28: =IFERROR(VLOOKUP($B28,'M.A Datos'!$H$5:$Q$156,5,FALSE),0) -> 0 | N28: 0 | O28: =IFERROR(VLOOKUP($B28,'M.A Datos'!$H$5:$Q$156,6,FALSE),0) -> 0 | Q28: 0 | T28: 0 | U28: =IFERROR(VLOOKUP($B28,'M.A Datos'!$H$5:$Q$156,8,FALSE),0) -> 946 | W28: 0 | X28: =IFERROR(VLOOKUP($B28,'M.A Datos'!$H$5:$Q$156,9,FALSE),0) -> 2422 | Y28: 5760 | Z28: 1.3432292
B29: 04204-SALAMANCA | C29: =IFERROR(VLOOKUP($B29,'M.A Datos'!$H$5:$Q$156,2,FALSE),0) -> 14 | D29: 30 | E29: 1 | F29: =IFERROR(VLOOKUP($B29,'M.A Datos'!$H$5:$Q$156,3,FALSE),0) -> 0 | H29: 0 | I29: =IFERROR(VLOOKUP($B29,'M.A Datos'!H22:Q173,4,FALSE),0) -> 49 | J29: 45 | K29: 1.2444444 | L29: =IFERROR(VLOOKUP($B29,'M.A Datos'!$H$5:$Q$156,5,FALSE),0) -> 0 | N29: 0 | O29: =IFERROR(VLOOKUP($B29,'M.A Datos'!$H$5:$Q$156,6,FALSE),0) -> 0 | Q29: 0 | T29: 0 | U29: =IFERROR(VLOOKUP($B29,'M.A Datos'!$H$5:$Q$156,8,FALSE),0) -> 422 | W29: 0 | X29: =IFERROR(VLOOKUP($B29,'M.A Datos'!$H$5:$Q$156,9,FALSE),0) -> 211 | Y29: 1920 | Z29: 1.0036458
B30: 04203-LOS VILOS | C30: =IFERROR(VLOOKUP($B30,'M.A Datos'!$H$5:$Q$156,2,FALSE),0) -> 6 | D30: 15 | E30: 0 | F30: =IFERROR(VLOOKUP($B30,'M.A Datos'!$H$5:$Q$156,3,FALSE),0) -> 0 | H30: 0 | I30: =IFERROR(VLOOKUP($B30,'M.A Datos'!H23:Q174,4,FALSE),0) -> 0 | J30: 30 | K30: 1 | L30: =IFERROR(VLOOKUP($B30,'M.A Datos'!$H$5:$Q$156,5,FALSE),0) -> 0 | N30: 0 | O30: =IFERROR(VLOOKUP($B30,'M.A Datos'!$H$5:$Q$156,6,FALSE),0) -> 0 | Q30: 0 | T30: 0 | U30: =IFERROR(VLOOKUP($B30,'M.A Datos'!$H$5:$Q$156,8,FALSE),0) -> 216 | W30: 0 | X30: =IFERROR(VLOOKUP($B30,'M.A Datos'!$H$5:$Q$156,9,FALSE),0) -> 256 | Y30: 1920 | Z30: 1
B31: 04202-CANELA | C31: =IFERROR(VLOOKUP($B31,'M.A Datos'!$H$5:$Q$156,2,FALSE),0) -> 0 | D31: 20 | E31: 0 | F31: =IFERROR(VLOOKUP($B31,'M.A Datos'!$H$5:$Q$156,3,FALSE),0) -> 0 | H31: 0 | I31: =IFERROR(VLOOKUP($B31,'M.A Datos'!H24:Q175,4,FALSE),0) -> 0 | J31: 30 | K31: 1 | L31: =IFERROR(VLOOKUP($B31,'M.A Datos'!$H$5:$Q$156,5,FALSE),0) -> 0 | N31: 0 | O31: =IFERROR(VLOOKUP($B31,'M.A Datos'!$H$5:$Q$156,6,FALSE),0) -> 0 | Q31: 0 | T31: 0 | U31: =IFERROR(VLOOKUP($B31,'M.A Datos'!$H$5:$Q$156,8,FALSE),0) -> 139 | W31: 0 | X31: =IFERROR(VLOOKUP($B31,'M.A Datos'!$H$5:$Q$156,9,FALSE),0) -> 958 | Y31: 3840 | Z31: 1.00625
B32: 105012-Clínica Dental Móvil | R32: =IFERROR(VLOOKUP($B32,'M.A Datos'!$H$5:$Q$156,7,FALSE),0) -> 0 | S32: 3840 | T32: 0 | U32: =IFERROR(VLOOKUP($B32,'M.A Datos'!$H$5:$Q$156,8,FALSE),0) -> 0
B33: HOSPITAL
B34: 105104-HOSPITAL SALAMANCA | C34: =IFERROR(VLOOKUP($B34,'M.A Datos'!$H$5:$Q$156,2,FALSE),0) -> 0 | E34: #DIV/0! | F34: =IFERROR(VLOOKUP($B34,'M.A Datos'!$H$5:$Q$156,3,FALSE),0) -> 0 | H34: #DIV/0! | I34: =IFERROR(VLOOKUP($B34,'M.A Datos'!H27:Q178,4,FALSE),0) -> 0 | K34: #DIV/0! | L34: =IFERROR(VLOOKUP($B34,'M.A Datos'!$H$5:$Q$156,5,FALSE),0) -> 0 | N34: #DIV/0! | O34: =IFERROR(VLOOKUP($B34,'M.A Datos'!$H$5:$Q$156,6,FALSE),0) -> 0 | Q34: #DIV/0! | R34: =IFERROR(VLOOKUP($B34,#REF!,5,FALSE),0) -> 0 | T34: #DIV/0! | U34: =IFERROR(VLOOKUP($B34,'M.A Datos'!$H$5:$Q$156,7,FALSE),0) -> 0 | X34: =IFERROR(VLOOKUP($B34,'M.A Datos'!$H$5:$Q$156,9,FALSE),0) -> 0 | Z34: #DIV/0!
B35: 105105-HOSPITAL COMBARBALÁ | C35: =IFERROR(VLOOKUP($B35,'M.A Datos'!$H$5:$Q$156,2,FALSE),0) -> 0 | E35: #DIV/0! | F35: =IFERROR(VLOOKUP($B35,'M.A Datos'!$H$5:$Q$156,3,FALSE),0) -> 0 | H35: #DIV/0! | I35: =IFERROR(VLOOKUP($B35,'M.A Datos'!H28:Q179,4,FALSE),0) -> 0 | K35: #DIV/0! | L35: =IFERROR(VLOOKUP($B35,'M.A Datos'!$H$5:$Q$156,5,FALSE),0) -> 0 | N35: #DIV/0! | O35: =IFERROR(VLOOKUP($B35,'M.A Datos'!$H$5:$Q$156,6,FALSE),0) -> 0 | Q35: #DIV/0! | R35: =IFERROR(VLOOKUP($B35,#REF!,5,FALSE),0) -> 0 | T35: #DIV/0! | U35: =IFERROR(VLOOKUP($B35,'M.A Datos'!$H$5:$Q$156,7,FALSE),0) -> 0 | X35: =IFERROR(VLOOKUP($B35,'M.A Datos'!$H$5:$Q$156,9,FALSE),0) -> 0 | Z35: #DIV/0!
B36: 105106-HOSPITAL ANDACOLLO | C36: =IFERROR(VLOOKUP($B36,'M.A Datos'!$H$5:$Q$156,2,FALSE),0) -> 0 | D36: 8 | E36: #DIV/0! | F36: =IFERROR(VLOOKUP($B36,'M.A Datos'!$H$5:$Q$156,3,FALSE),0) -> 0 | H36: #DIV/0! | I36: =IFERROR(VLOOKUP($B36,'M.A Datos'!H29:Q180,4,FALSE),0) -> 0 | K36: #DIV/0! | L36: =IFERROR(VLOOKUP($B36,'M.A Datos'!$H$5:$Q$156,5,FALSE),0) -> 0 | N36: #DIV/0! | O36: =IFERROR(VLOOKUP($B36,'M.A Datos'!$H$5:$Q$156,6,FALSE),0) -> 0 | Q36: #DIV/0! | R36: =IFERROR(VLOOKUP($B36,#REF!,5,FALSE),0) -> 0 | T36: #DIV/0! | U36: =IFERROR(VLOOKUP($B36,'M.A Datos'!$H$5:$Q$156,7,FALSE),0) -> 261 | X36: =IFERROR(VLOOKUP($B36,'M.A Datos'!$H$5:$Q$156,9,FALSE),0) -> 71 | Z36: #DIV/0!
B37: 105107-HOSPITAL VICUÑA | C37: =IFERROR(VLOOKUP($B37,'M.A Datos'!$H$5:$Q$156,2,FALSE),0) -> 0 | E37: #DIV/0! | F37: =IFERROR(VLOOKUP($B37,'M.A Datos'!$H$5:$Q$156,3,FALSE),0) -> 0 | H37: #DIV/0! | I37: =IFERROR(VLOOKUP($B37,'M.A Datos'!H30:Q181,4,FALSE),0) -> 0 | K37: #DIV/0! | L37: =IFERROR(VLOOKUP($B37,'M.A Datos'!$H$5:$Q$156,5,FALSE),0) -> 0 | N37: #DIV/0! | O37: =IFERROR(VLOOKUP($B37,'M.A Datos'!$H$5:$Q$156,6,FALSE),0) -> 0 | Q37: #DIV/0! | R37: =IFERROR(VLOOKUP($B37,#REF!,5,FALSE),0) -> 0 | T37: #DIV/0! | U37: =IFERROR(VLOOKUP($B37,'M.A Datos'!$H$5:$Q$156,7,FALSE),0) -> 0 | X37: =IFERROR(VLOOKUP($B37,'M.A Datos'!$H$5:$Q$156,9,FALSE),0) -> 0 | Z37: #DIV/0!
B38: 105108-HOSPITAL LOS VILOS | C38: =IFERROR(VLOOKUP($B38,'M.A Datos'!$H$5:$Q$156,2,FALSE),0) -> 0 | E38: #DIV/0! | F38: =IFERROR(VLOOKUP($B38,'M.A Datos'!$H$5:$Q$156,3,FALSE),0) -> 0 | H38: #DIV/0! | I38: =IFERROR(VLOOKUP($B38,'M.A Datos'!H31:Q182,4,FALSE),0) -> 0 | K38: #DIV/0! | L38: =IFERROR(VLOOKUP($B38,'M.A Datos'!$H$5:$Q$156,5,FALSE),0) -> 0 | N38: #DIV/0! | O38: =IFERROR(VLOOKUP($B38,'M.A Datos'!$H$5:$Q$156,6,FALSE),0) -> 0 | Q38: #DIV/0! | R38: =IFERROR(VLOOKUP($B38,#REF!,5,FALSE),0) -> 0 | T38: #DIV/0! | U38: =IFERROR(VLOOKUP($B38,'M.A Datos'!$H$5:$Q$156,7,FALSE),0) -> 0 | X38: =IFERROR(VLOOKUP($B38,'M.A Datos'!$H$5:$Q$156,9,FALSE),0) -> 0 | Z38: #DIV/0!
B39: Fuente: REM A09

Sheet Odont Integral
A1: Idestablecimiento | B1: Comuna | C1: Mes | D1: Total | E1: Posición
A2: 105105 | B2: =IFERROR(VLOOKUP(A2,'[1]Establecimiento 2023'!$A$1:$E$183,5,FALSE),0) -> 105105-Hospital Combarbalá | C2: 1 | D2: 2 | E2: 1
A3: 105105 | B3: =IFERROR(VLOOKUP(A3,'[1]Establecimiento 2023'!$A$1:$E$183,5,FALSE),0) -> 105105-Hospital Combarbalá | C3: 4 | D3: 1 | E3: 1 | G3: Mes | H3: (Todas)
A4: 105106 | B4: =IFERROR(VLOOKUP(A4,'[1]Establecimiento 2023'!$A$1:$E$183,5,FALSE),0) -> 105106-Hospital Andacollo | C4: 2 | D4: 2 | E4: 1
A5: 105106 | B5: =IFERROR(VLOOKUP(A5,'[1]Establecimiento 2023'!$A$1:$E$183,5,FALSE),0) -> 105106-Hospital Andacollo | C5: 3 | D5: 2 | E5: 1 | G5: Suma de Total | H5: Etiquetas de columna
A6: 105106 | B6: =IFERROR(VLOOKUP(A6,'[1]Establecimiento 2023'!$A$1:$E$183,5,FALSE),0) -> 105106-Hospital Andacollo | C6: 4 | D6: 2 | E6: 1 | G6: Etiquetas de fila | H6: 1 | I6: 3 | J6: 5 | K6: 6 | L6: Total general
A7: 105108 | B7: =IFERROR(VLOOKUP(A7,'[1]Establecimiento 2023'!$A$1:$E$183,5,FALSE),0) -> 105108-Hospital Los Vilos | C7: 1 | D7: 3 | E7: 1 | G7: 04101-La Serena | H7: 71 | I7: 229 | J7: 229 | K7: 77 | L7: 606
A8: 105108 | B8: =IFERROR(VLOOKUP(A8,'[1]Establecimiento 2023'!$A$1:$E$183,5,FALSE),0) -> 105108-Hospital Los Vilos | C8: 3 | D8: 1 | E8: 1 | G8: 04102-Coquimbo | K8: 146 | L8: 146
A9: 105108 | B9: =IFERROR(VLOOKUP(A9,'[1]Establecimiento 2023'!$A$1:$E$183,5,FALSE),0) -> 105108-Hospital Los Vilos | C9: 4 | D9: 6 | E9: 1 | G9: 04105-Paihuano | K9: 12 | L9: 12
A10: 105108 | B10: =IFERROR(VLOOKUP(A10,'[1]Establecimiento 2023'!$A$1:$E$183,5,FALSE),0) -> 105108-Hospital Los Vilos | C10: 5 | D10: 6 | E10: 1 | G10: 04201-Illapel | H10: 9 | I10: 52 | J10: 52 | K10: 59 | L10: 172
A11: 105313 | B11: =IFERROR(VLOOKUP(A11,'[1]Establecimiento 2023'!$A$1:$E$183,5,FALSE),0) -> 04101-La Serena | C11: 3 | D11: 25 | E11: 1 | G11: 04203-Los Vilos | K11: 31 | L11: 31
A12: 105313 | B12: =IFERROR(VLOOKUP(A12,'[1]Establecimiento 2023'!$A$1:$E$183,5,FALSE),0) -> 04101-La Serena | C12: 4 | D12: 20 | E12: 1 | G12: 04204-Salamanca | H12: 14 | I12: 30 | J12: 30 | L12: 74
A13: 105313 | B13: =IFERROR(VLOOKUP(A13,'[1]Establecimiento 2023'!$A$1:$E$183,5,FALSE),0) -> 04101-La Serena | C13: 5 | D13: 26 | E13: 1 | G13: 04301-Ovalle | K13: 191 | L13: 191
A14: 105326 | B14: =IFERROR(VLOOKUP(A14,'[1]Establecimiento 2023'!$A$1:$E$183,5,FALSE),0) -> 04201-Illapel | C14: 3 | D14: 1 | E14: 1 | G14: 105104-Hospital Salamanca | I14: 2 | J14: 2 | K14: 36 | L14: 40
A15: 105452 | B15: =IFERROR(VLOOKUP(A15,'[1]Establecimiento 2023'!$A$1:$E$183,5,FALSE),0) -> 04204-Salamanca | C15: 5 | D15: 14 | E15: 1 | G15: 105105-Hospital Combarbalá | H15: 3 | I15: 24 | J15: 24 | K15: 2 | L15: 53
A16: 200366 | B16: =IFERROR(VLOOKUP(A16,'[1]Establecimiento 2023'!$A$1:$E$183,5,FALSE),0) -> 04201-Illapel | C16: 4 | D16: 6 | E16: 1 | G16: 105106-Hospital Andacollo | H16: 6 | I16: 47 | J16: 47 | K16: 8 | L16: 108
A17: 200366 | B17: =IFERROR(VLOOKUP(A17,'[1]Establecimiento 2023'!$A$1:$E$183,5,FALSE),0) -> 04201-Illapel | C17: 5 | D17: 2 | E17: 1 | G17: 105107-Hospital Vicuña | I17: 30 | J17: 30 | L17: 60
A18: 105104 | B18: =IFERROR(VLOOKUP(A18,'[1]Establecimiento 2023'!$A$1:$E$183,5,FALSE),0) -> 105104-Hospital Salamanca | C18: 5 | D18: 2 | E18: 3 | G18: 105108-Hospital Los Vilos | H18: 16 | I18: 36 | J18: 36 | L18: 88
A19: 105105 | B19: =IFERROR(VLOOKUP(A19,'[1]Establecimiento 2023'!$A$1:$E$183,5,FALSE),0) -> 105105-Hospital Combarbalá | C19: 1 | D19: 24 | E19: 3 | G19: Total general | H19: 119 | I19: 450 | J19: 450 | K19: 562 | L19: 1581
A20: 105106 | B20: =IFERROR(VLOOKUP(A20,'[1]Establecimiento 2023'!$A$1:$E$183,5,FALSE),0) -> 105106-Hospital Andacollo | C20: 2 | D20: 18 | E20: 3
A21: 105106 | B21: =IFERROR(VLOOKUP(A21,'[1]Establecimiento 2023'!$A$1:$E$183,5,FALSE),0) -> 105106-Hospital Andacollo | C21: 3 | D21: 10 | E21: 3
A22: 105106 | B22: =IFERROR(VLOOKUP(A22,'[1]Establecimiento 2023'!$A$1:$E$183,5,FALSE),0) -> 105106-Hospital Andacollo | C22: 4 | D22: 10 | E22: 3
A23: 105106 | B23: =IFERROR(VLOOKUP(A23,'[1]Establecimiento 2023'!$A$1:$E$183,5,FALSE),0) -> 105106-Hospital Andacollo | C23: 5 | D23: 9 | E23: 3
A24: 105107 | B24: =IFERROR(VLOOKUP(A24,'[1]Establecimiento 2023'!$A$1:$E$183,5,FALSE),0) -> 105107-Hospital Vicuña | C24: 1 | D24: 8 | E24: 3
A25: 105107 | B25: =IFERROR(VLOOKUP(A25,'[1]Establecimiento 2023'!$A$1:$E$183,5,FALSE),0) -> 105107-Hospital Vicuña | C25: 2 | D25: 4 | E25: 3
A26: 105107 | B26: =IFERROR(VLOOKUP(A26,'[1]Establecimiento 2023'!$A$1:$E$183,5,FALSE),0) -> 105107-Hospital Vicuña | C26: 3 | D26: 5 | E26: 3
A27: 105107 | B27: =IFERROR(VLOOKUP(A27,'[1]Establecimiento 2023'!$A$1:$E$183,5,FALSE),0) -> 105107-Hospital Vicuña | C27: 4 | D27: 6 | E27: 3
A28: 105107 | B28: =IFERROR(VLOOKUP(A28,'[1]Establecimiento 2023'!$A$1:$E$183,5,FALSE),0) -> 105107-Hospital Vicuña | C28: 5 | D28: 7 | E28: 3
A29: 105108 | B29: =IFERROR(VLOOKUP(A29,'[1]Establecimiento 2023'!$A$1:$E$183,5,FALSE),0) -> 105108-Hospital Los Vilos | C29: 1 | D29: 11 | E29: 3
A30: 105108 | B30: =IFERROR(VLOOKUP(A30,'[1]Establecimiento 2023'!$A$1:$E$183,5,FALSE),0) -> 105108-Hospital Los Vilos | C30: 2 | D30: 4 | E30: 3
A31: 105108 | B31: =IFERROR(VLOOKUP(A31,'[1]Establecimiento 2023'!$A$1:$E$183,5,FALSE),0) -> 105108-Hospital Los Vilos | C31: 3 | D31: 7 | E31: 3
... A98: 200569 | B98: =IFERROR(VLOOKUP(A98,'[1]Establecimiento 2023'!$A$1:$E$183,5,FALSE),0) -> 04301-Ovalle | C98: 5 | D98: 61 | E98: 6

Sheet M.A Datos
A2: Idestablecimiento | B2: Establecimiento | C2: Comuna | D2: Mes | E2: Total | F2: COMP
A3: 105300 | B3: =IFERROR(VLOOKUP($A3,'[2]Establecimiento 2023'!$A$1:$E$183,3,FALSE),0) -> 105300-Centro de Salud Familiar Cardenal Caro | C3: =IFERROR(VLOOKUP($A3,'[2]Establecimiento 2023'!$A$1:$E$183,5,FALSE),0) -> 04101-La Serena | D3: 4 | E3: 1 | F3: 1.1 | H3: Mes | I3: (Todas)
A4: 105300 | B4: =IFERROR(VLOOKUP($A4,'[2]Establecimiento 2023'!$A$1:$E$183,3,FALSE),0) -> 105300-Centro de Salud Familiar Cardenal Caro | C4: =IFERROR(VLOOKUP($A4,'[2]Establecimiento 2023'!$A$1:$E$183,5,FALSE),0) -> 04101-La Serena | D4: 5 | E4: 2 | F4: 1.1
A5: 105300 | B5: =IFERROR(VLOOKUP($A5,'[2]Establecimiento 2023'!$A$1:$E$183,3,FALSE),0) -> 105300-Centro de Salud Familiar Cardenal Caro | C5: =IFERROR(VLOOKUP($A5,'[2]Establecimiento 2023'!$A$1:$E$183,5,FALSE),0) -> 04101-La Serena | D5: 7 | E5: 1 | F5: 1.1 | H5: Suma de Total | I5: Etiquetas de columna
A6: 105301 | B6: =IFERROR(VLOOKUP($A6,'[2]Establecimiento 2023'!$A$1:$E$183,3,FALSE),0) -> 105301-Centro de Salud Familiar Las Compañías | C6: =IFERROR(VLOOKUP($A6,'[2]Establecimiento 2023'!$A$1:$E$183,5,FALSE),0) -> 04101-La Serena | D6: 4 | E6: 5 | F6: 1.1 | H6: Etiquetas de fila | I6: 1.1 | J6: 1.2 | K6: 1.3 | L6: 1.4 | M6: 1.5 | N6: 2 | O6: 3 | P6: 4 | Q6: Total general
A7: 105301 | B7: =IFERROR(VLOOKUP($A7,'[2]Establecimiento 2023'!$A$1:$E$183,3,FALSE),0) -> 105301-Centro de Salud Familiar Las Compañías | C7: =IFERROR(VLOOKUP($A7,'[2]Establecimiento 2023'!$A$1:$E$183,5,FALSE),0) -> 04101-La Serena | D7: 5 | E7: 2 | F7: 1.1 | H7: 04101-La Serena | I7: 90 | J7: 31 | K7: 24 | L7: 13 | M7: 149 | N7: 5688 | O7: 7405 | P7: 1953 | Q7: 15353
A8: 105302 | B8: =IFERROR(VLOOKUP($A8,'[2]Establecimiento 2023'!$A$1:$E$183,3,FALSE),0) -> 105302-Centro de Salud Familiar Pedro Aguirre Cerda | C8: =IFERROR(VLOOKUP($A8,'[2]Establecimiento 2023'!$A$1:$E$183,5,FALSE),0) -> 04101-La Serena | D8: 4 | E8: 6 | F8: 1.1 | H8: 105300-Centro de Salud Familiar Cardenal Caro | I8: 4 | N8: 1074 | O8: 1007 | P8: 359 | Q8: 2444
A9: 105302 | B9: =IFERROR(VLOOKUP($A9,'[2]Establecimiento 2023'!$A$1:$E$183,3,FALSE),0) -> 105302-Centro de Salud Familiar Pedro Aguirre Cerda | C9: =IFERROR(VLOOKUP($A9,'[2]Establecimiento 2023'!$A$1:$E$183,5,FALSE),0) -> 04101-La Serena | D9: 5 | E9: 4 | F9: 1.1 | H9: 105301-Centro de Salud Familiar Las Compañías | I9: 7 | K9: 9 | N9: 459 | O9: 1115 | P9: 148 | Q9: 1738
A10: 105302 | B10: =IFERROR(VLOOKUP($A10,'[2]Establecimiento 2023'!$A$1:$E$183,3,FALSE),0) -> 105302-Centro de Salud Familiar Pedro Aguirre Cerda | C10: =IFERROR(VLOOKUP($A10,'[2]Establecimiento 2023'!$A$1:$E$183,5,FALSE),0) -> 04101-La Serena | D10: 7 | E10: 1 | F10: 1.1 | H10: 105302-Centro de Salud Familiar Pedro Aguirre Cerda | I10: 11 | L10: 13 | N10: 1019 | O10: 825 | P10: 351 | Q10: 2219
A11: 105306 | B11: =IFERROR(VLOOKUP($A11,'[2]Establecimiento 2023'!$A$1:$E$183,3,FALSE),0) -> 105306-Centro de Salud Familiar Paihuano | C11: =IFERROR(VLOOKUP($A11,'[2]Establecimiento 2023'!$A$1:$E$183,5,FALSE),0) -> 04105-Paiguano | D11: 7 | E11: 6 | F11: 1.1 | H11: 105313-Centro de Salud Familiar Dr. Emilio Schaffhauser | I11: 37 | J11: 31 | K11: 6 | M11: 149 | N11: 809 | O11: 2112 | P11: 301 | Q11: 3445
A12: 105310 | B12: =IFERROR(VLOOKUP($A12,'[2]Establecimiento 2023'!$A$1:$E$183,3,FALSE),0) -> 105310-Centro de Salud Familiar Pichasca | C12: =IFERROR(VLOOKUP($A12,'[2]Establecimiento 2023'!$A$1:$E$183,5,FALSE),0) -> 04305-Río Hurtado | D12: 7 | E12: 3 | F12: 1.1 | H12: 105319-Centro de Salud Familiar Cardenal Raúl Silva Henríquez de La Serena | I12: 9 | K12: 4 | N12: 1069 | O12: 912 | P12: 377 | Q12: 2371
A13: 105313 | B13: =IFERROR(VLOOKUP($A13,'[2]Establecimiento 2023'!$A$1:$E$183,3,FALSE),0) -> 105313-Centro de Salud Familiar Dr. Emilio Schaffhauser | C13: =IFERROR(VLOOKUP($A13,'[2]Establecimiento 2023'!$A$1:$E$183,5,FALSE),0) -> 04101-La Serena | D13: 4 | E13: 1 | F13: 1.1 | H13: 105325-Centro de Salud Familiar Juan Pablo II (La Serena) | I13: 22 | K13: 5 | N13: 1258 | O13: 986 | P13: 417 | Q13: 2688
A14: 105313 | B14: =IFERROR(VLOOKUP($A14,'[2]Establecimiento 2023'!$A$1:$E$183,3,FALSE),0) -> 105313-Centro de Salud Familiar Dr. Emilio Schaffhauser | C14: =IFERROR(VLOOKUP($A14,'[2]Establecimiento 2023'!$A$1:$E$183,5,FALSE),0) -> 04101-La Serena | D14: 5 | E14: 9 | F14: 1.1 | H14: 105400-Posta de Salud Rural Algarrobito | O14: 22 | Q14: 22
A15: 105313 | B15: =IFERROR(VLOOKUP($A15,'[2]Establecimiento 2023'!$A$1:$E$183,3,FALSE),0) -> 105313-Centro de Salud Familiar Dr. Emilio Schaffhauser | C15: =IFERROR(VLOOKUP($A15,'[2]Establecimiento 2023'!$A$1:$E$183,5,FALSE),0) -> 04101-La Serena | D15: 6 | E15: 22 | F15: 1.1 | H15: 105401-Posta de Salud Rural Las Rojas | O15: 28 | Q15: 28
A16: 105313 | B16: =IFERROR(VLOOKUP($A16,'[2]Establecimiento 2023'!$A$1:$E$183,3,FALSE),0) -> 105313-Centro de Salud Familiar Dr. Emilio Schaffhauser | C16: =IFERROR(VLOOKUP($A16,'[2]Establecimiento 2023'!$A$1:$E$183,5,FALSE),0) -> 04101-La Serena | D16: 7 | E16: 5 | F16: 1.1 | H16: 105402-Posta de Salud Rural El Romero | O16: 36 | Q16: 36
A17: 105319 | B17: =IFERROR(VLOOKUP($A17,'[2]Establecimiento 2023'!$A$1:$E$183,3,FALSE),0) -> 105319-Centro de Salud Familiar Cardenal Raúl Silva Henríquez de La Serena | C17: =IFERROR(VLOOKUP($A17,'[2]Establecimiento 2023'!$A$1:$E$183,5,FALSE),0) -> 04101-La Serena | D17: 4 | E17: 3 | F17: 1.1 | H17: 105499-Posta de Salud Rural Lambert | O17: 8 | Q17: 8
A18: 105319 | B18: =IFERROR(VLOOKUP($A18,'[2]Establecimiento 2023'!$A$1:$E$183,3,FALSE),0) -> 105319-Centro de Salud Familiar Cardenal Raúl Silva Henríquez de La Serena | C18: =IFERROR(VLOOKUP($A18,'[2]Establecimiento 2023'!$A$1:$E$183,5,FALSE),0) -> 04101-La Serena | D18: 5 | E18: 3 | F18: 1.1 | H18: 105700-Centro Comunitario de Salud Familiar Villa el Indio | O18: 43 | Q18: 43
A19: 105319 | B19: =IFERROR(VLOOKUP($A19,'[2]Establecimiento 2023'!$A$1:$E$183,3,FALSE),0) -> 105319-Centro de Salud Familiar Cardenal Raúl Silva Henríquez de La Serena | C19: =IFERROR(VLOOKUP($A19,'[2]Establecimiento 2023'!$A$1:$E$183,5,FALSE),0) -> 04101-La Serena | D19: 7 | E19: 3 | F19: 1.1 | H19: 105701-Centro Comunitario de Salud Familiar Villa Alemania | O19: 74 | Q19: 74
A20: 105323 | B20: =IFERROR(VLOOKUP($A20,'[2]Establecimiento 2023'!$A$1:$E$183,3,FALSE),0) -> 105323-Centro de Salud Familiar Dr. Sergio Aguilar Delgado | C20: =IFERROR(VLOOKUP($A20,'[2]Establecimiento 2023'!$A$1:$E$183,5,FALSE),0) -> 04102-Coquimbo | D20: 2 | E20: 14 | F20: 1.1 | H20: 105702-Centro Comunitario de Salud Familiar Lambert | O20: 78 | Q20: 78
A21: 105323 | B21: =IFERROR(VLOOKUP($A21,'[2]Establecimiento 2023'!$A$1:$E$183,3,FALSE),0) -> 105323-Centro de Salud Familiar Dr. Sergio Aguilar Delgado | C21: =IFERROR(VLOOKUP($A21,'[2]Establecimiento 2023'!$A$1:$E$183,5,FALSE),0) -> 04102-Coquimbo | D21: 3 | E21: 38 | F21: 1.1 | H21: 200402-Centro Comunitario de Salud Familiar Arcos de Pinamar | O21: 159 | Q21: 159
A22: 105323 | B22: =IFERROR(VLOOKUP($A22,'[2]Establecimiento 2023'!$A$1:$E$183,3,FALSE),0) -> 105323-Centro de Salud Familiar Dr. Sergio Aguilar Delgado | C22: =IFERROR(VLOOKUP($A22,'[2]Establecimiento 2023'!$A$1:$E$183,5,FALSE),0) -> 04102-Coquimbo | D22: 4 | E22: 22 | F22: 1.1 | H22: 04102-Coquimbo | I22: 121 | J22: 17 | K22: 9 | M22: 214 | N22: 3802 | O22: 5804 | P22: 1030 | Q22: 10997
A23: 105323 | B23: =IFERROR(VLOOKUP($A23,'[2]Establecimiento 2023'!$A$1:$E$183,3,FALSE),0) -> 105323-Centro de Salud Familiar Dr. Sergio Aguilar Delgado | C23: =IFERROR(VLOOKUP($A23,'[2]Establecimiento 2023'!$A$1:$E$183,5,FALSE),0) -> 04102-Coquimbo | D23: 5 | E23: 16 | F23: 1.1 | H23: 105303-Centro de Salud Familiar San Juan | O23: 916 | Q23: 916
A24: 105323 | B24: =IFERROR(VLOOKUP($A24,'[2]Establecimiento 2023'!$A$1:$E$183,3,FALSE),0) -> 105323-Centro de Salud Familiar Dr. Sergio Aguilar Delgado | C24: =IFERROR(VLOOKUP($A24,'[2]Establecimiento 2023'!$A$1:$E$183,5,FALSE),0) -> 04102-Coquimbo | D24: 6 | E24: 8 | F24: 1.1 | H24: 105304-Centro de Salud Familiar Santa Cecilia | K24: 8 | N24: 923 | O24: 655 | P24: 162 | Q24: 1748
A25: 105323 | B25: =IFERROR(VLOOKUP($A25,'[2]Establecimiento 2023'!$A$1:$E$183,3,FALSE),0) -> 105323-Centro de Salud Familiar Dr. Sergio Aguilar Delgado | C25: =IFERROR(VLOOKUP($A25,'[2]Establecimiento 2023'!$A$1:$E$183,5,FALSE),0) -> 04102-Coquimbo | D25: 7 | E25: 23 | F25: 1.1 | H25: 105305-Centro de Salud Familiar Tierras Blancas | N25: 101 | O25: 977 | P25: 102 | Q25: 1180
A26: 105325 | B26: =IFERROR(VLOOKUP($A26,'[2]Establecimiento 2023'!$A$1:$E$183,3,FALSE),0) -> 105325-Centro de Salud Familiar Juan Pablo II (La Serena) | C26: =IFERROR(VLOOKUP($A26,'[2]Establecimiento 2023'!$A$1:$E$183,5,FALSE),0) -> 04101-La Serena | D26: 4 | E26: 4 | F26: 1.1 | H26: 105321-Centro de Salud Familiar Tongoy | N26: 48 | O26: 327 | P26: 74 | Q26: 449
A27: 105325 | B27: =IFERROR(VLOOKUP($A27,'[2]Establecimiento 2023'!$A$1:$E$183,3,FALSE),0) -> 105325-Centro de Salud Familiar Juan Pablo II (La Serena) | C27: =IFERROR(VLOOKUP($A27,'[2]Establecimiento 2023'!$A$1:$E$183,5,FALSE),0) -> 04101-La Serena | D27: 5 | E27: 12 | F27: 1.1 | H27: 105323-Centro de Salud Familiar Dr. Sergio Aguilar Delgado | I27: 121 | J27: 17 | M27: 114 | N27: 96 | O27: 1053 | P27: 22 | Q27: 1423
A28: 105325 | B28: =IFERROR(VLOOKUP($A28,'[2]Establecimiento 2023'!$A$1:$E$183,3,FALSE),0) -> 105325-Centro de Salud Familiar Juan Pablo II (La Serena) | C28: =IFERROR(VLOOKUP($A28,'[2]Establecimiento 2023'!$A$1:$E$183,5,FALSE),0) -> 04101-La Serena | D28: 7 | E28: 6 | F28: 1.1 | H28: 105405-Posta de Salud Rural Guanaqueros | N28: 6 | O28: 118 | P28: 6 | Q28: 130
A29: 105452 | B29: =IFERROR(VLOOKUP($A29,'[2]Establecimiento 2023'!$A$1:$E$183,3,FALSE),0) -> 105452-Posta de Salud Rural Cuncumén(Salamanca) | C29: =IFERROR(VLOOKUP($A29,'[2]Establecimiento 2023'!$A$1:$E$183,5,FALSE),0) -> 04204-Salamanca | D29: 5 | E29: 8 | F29: 1.1 | H29: 105803-SAPU San Juan | O29: 70 | Q29: 70
A30: 105452 | B30: =IFERROR(VLOOKUP($A30,'[2]Establecimiento 2023'!$A$1:$E$183,3,FALSE),0) -> 105452-Posta de Salud Rural Cuncumén(Salamanca) | C30: =IFERROR(VLOOKUP($A30,'[2]Establecimiento 2023'!$A$1:$E$183,5,FALSE),0) -> 04204-Salamanca | D30: 7 | E30: 6 | F30: 1.1 | H30: 200273-Centro Comunitario de Salud Familiar Punta Mira | O30: 120 | Q30: 120
A31: 105478 | B31: =IFERROR(VLOOKUP($A31,'[2]Establecimiento 2023'!$A$1:$E$183,3,FALSE),0) -> 105478-Posta de Salud Rural Caimanes | C31: =IFERROR(VLOOKUP($A31,'[2]Establecimiento 2023'!$A$1:$E$183,5,FALSE),0) -> 04203-Los Vilos | D31: 7 | E31: 3 | F31: 1.1 | H31: 200494-Centro de Salud Familiar El Sauce | K31: 1 | N31: 1909 | O31: 485 | P31: 503 | Q31: 2898
A32: 105480 | B32: =IFERROR(VLOOKUP($A32,'[2]Establecimiento 2023'!$A$1:$E$183,3,FALSE),0) -> 105480-Posta de Salud Rural Quilimarí | C32: =IFERROR(VLOOKUP($A32,'[2]Establecimiento 2023'!$A$1:$E$183,5,FALSE),0) -> 04203-Los Vilos | D32: 7 | E32: 3 | F32: 1.1 | H32: 200499-Centro de Salud Familiar Rural Pan de Azúcar | N32: 719 | O32: 548 | P32: 161 | Q32: 1428
A33: 200366 | B33: =IFERROR(VLOOKUP($A33,'[2]Establecimiento 2023'!$A$1:$E$183,3,FALSE),0) -> 200366-Centro de Salud Familiar Urbano de Illapel | C33: =IFERROR(VLOOKUP($A33,'[2]Establecimiento 2023'!$A$1:$E$183,5,FALSE),0) -> 04201-Illapel | D33: 2 | E33: 8 | F33: 1.1 | H33: 200607-Centro de Salud Familiar Lila Cortés Godoy | M33: 100 | O33: 535 | Q33: 635
A34: 200366 | B34: =IFERROR(VLOOKUP($A34,'[2]Establecimiento 2023'!$A$1:$E$183,3,FALSE),0) -> 200366-Centro de Salud Familiar Urbano de Illapel | C34: =IFERROR(VLOOKUP($A34,'[2]Establecimiento 2023'!$A$1:$E$183,5,FALSE),0) -> 04201-Illapel | D34: 3 | E34: 7 | F34: 1.1 | H34: 04104-La Higuera | N34: 482 | O34: 272 | P34: 226 | Q34: 980
A35: 200366 | B35: =IFERROR(VLOOKUP($A35,'[2]Establecimiento 2023'!$A$1:$E$183,3,FALSE),0) -> 200366-Centro de Salud Familiar Urbano de Illapel | C35: =IFERROR(VLOOKUP($A35,'[2]Establecimiento 2023'!$A$1:$E$183,5,FALSE),0) -> 04201-Illapel | D35: 4 | E35: 3 | F35: 1.1 | H35: 105314-Centro de Salud Familiar La Higuera | N35: 482 | O35: 121 | P35: 226 | Q35: 829
A36: 200366 | B36: =IFERROR(VLOOKUP($A36,'[2]Establecimiento 2023'!$A$1:$E$183,3,FALSE),0) -> 200366-Centro de Salud Familiar Urbano de Illapel | C36: =IFERROR(VLOOKUP($A36,'[2]Establecimiento 2023'!$A$1:$E$183,5,FALSE),0) -> 04201-Illapel | D36: 5 | E36: 10 | F36: 1.1 | H36: 105500-Posta de Salud Rural Caleta Hornos | O36: 70 | Q36: 70
A37: 200366 | B37: =IFERROR(VLOOKUP($A37,'[2]Establecimiento 2023'!$A$1:$E$183,3,FALSE),0) -> 200366-Centro de Salud Familiar Urbano de Illapel | C37: =IFERROR(VLOOKUP($A37,'[2]Establecimiento 2023'!$A$1:$E$183,5,FALSE),0) -> 04201-Illapel | D37: 6 | E37: 5 | F37: 1.1 | H37: 105505-Posta de Salud Rural Los Choros | O37: 52 | Q37: 52
A38: 200366 | B38: =IFERROR(VLOOKUP($A38,'[2]Establecimiento 2023'!$A$1:$E$183,3,FALSE),0) -> 200366-Centro de Salud Familiar Urbano de Illapel | C38: =IFERROR(VLOOKUP($A38,'[2]Establecimiento 2023'!$A$1:$E$183,5,FALSE),0) -> 04201-Illapel | D38: 7 | E38: 3 | F38: 1.1 | H38: 105506-Posta de Salud Rural El Trapiche | O38: 29 | Q38: 29
A39: 200569 | B39: =IFERROR(VLOOKUP($A39,'[2]Establecimiento 2023'!$A$1:$E$183,3,FALSE),0) -> 200569-Centro de Salud Familiar Fray Jorge | C39: =IFERROR(VLOOKUP($A39,'[2]Establecimiento 2023'!$A$1:$E$183,5,FALSE),0) -> 04301-Ovalle | D39: 7 | E39: 27 | F39: 1.1 | H39: 04105-Paihuano | I39: 6 | N39: 2567 | O39: 230 | P39: 709 | Q39: 3512
A40: 105313 | B40: =IFERROR(VLOOKUP($A40,'[2]Establecimiento 2023'!$A$1:$E$183,3,FALSE),0) -> 105313-Centro de Salud Familiar Dr. Emilio Schaffhauser | C40: =IFERROR(VLOOKUP($A40,'[2]Establecimiento 2023'!$A$1:$E$183,5,FALSE),0) -> 04101-La Serena | D40: 4 | E40: 10 | F40: 1.2 | H40: 105306-Centro de Salud Familiar Paihuano | I40: 6 | N40: 2567 | O40: 123 | P40: 709 | Q40: 3405
A41: 105313 | B41: =IFERROR(VLOOKUP($A41,'[2]Establecimiento 2023'!$A$1:$E$183,3,FALSE),0) -> 105313-Centro de Salud Familiar Dr. Emilio Schaffhauser | C41: =IFERROR(VLOOKUP($A41,'[2]Establecimiento 2023'!$A$1:$E$183,5,FALSE),0) -> 04101-La Serena | D41: 5 | E41: 5 | F41: 1.2 | H41: 105475-Posta de Salud Rural Horcón (Paiguano) | O41: 35 | Q41: 35
A42: 105313 | B42: =IFERROR(VLOOKUP($A42,'[2]Establecimiento 2023'!$A$1:$E$183,3,FALSE),0) -> 105313-Centro de Salud Familiar Dr. Emilio Schaffhauser | C42: =IFERROR(VLOOKUP($A42,'[2]Establecimiento 2023'!$A$1:$E$183,5,FALSE),0) -> 04101-La Serena | D42: 6 | E42: 8 | F42: 1.2 | H42: 105476-Posta de Salud Rural Monte Grande | O42: 24 | Q42: 24
A43: 105313 | B43: =IFERROR(VLOOKUP($A43,'[2]Establecimiento 2023'!$A$1:$E$183,3,FALSE),0) -> 105313-Centro de Salud Familiar Dr. Emilio Schaffhauser | C43: =IFERROR(VLOOKUP($A43,'[2]Establecimiento 2023'!$A$1:$E$183,5,FALSE),0) -> 04101-La Serena | D43: 7 | E43: 8 | F43: 1.2 | H43: 105477-Posta de Salud Rural Pisco Elqui | O43: 48 | Q43: 48
A44: 105323 | B44: =IFERROR(VLOOKUP($A44,'[2]Establecimiento 2023'!$A$1:$E$183,3,FALSE),0) -> 105323-Centro de Salud Familiar Dr. Sergio Aguilar Delgado | C44: =IFERROR(VLOOKUP($A44,'[2]Establecimiento 2023'!$A$1:$E$183,5,FALSE),0) -> 04102-Coquimbo | D44: 2 | E44: 1 | F44: 1.2 | H44: 04106-Vicuña | N44: 1454 | O44: 478 | P44: 829 | Q44: 2761
A45: 105323 | B45: =IFERROR(VLOOKUP($A45,'[2]Establecimiento 2023'!$A$1:$E$183,3,FALSE),0) -> 105323-Centro de Salud Familiar Dr. Sergio Aguilar Delgado | C45: =IFERROR(VLOOKUP($A45,'[2]Establecimiento 2023'!$A$1:$E$183,5,FALSE),0) -> 04102-Coquimbo | D45: 3 | E45: 2 | F45: 1.2 | H45: 105467-Posta de Salud Rural Diaguitas | N45: 334 | O45: 47 | P45: 212 | Q45: 593
A46: 105323 | B46: =IFERROR(VLOOKUP($A46,'[2]Establecimiento 2023'!$A$1:$E$183,3,FALSE),0) -> 105323-Centro de Salud Familiar Dr. Sergio Aguilar Delgado | C46: =IFERROR(VLOOKUP($A46,'[2]Establecimiento 2023'!$A$1:$E$183,5,FALSE),0) -> 04102-Coquimbo | D46: 5 | E46: 3 | F46: 1.2 | H46: 105468-Posta de Salud Rural El Molle | O46: 41 | Q46: 41
A47: 105323 | B47: =IFERROR(VLOOKUP($A47,'[2]Establecimiento 2023'!$A$1:$E$183,3,FALSE),0) -> 105323-Centro de Salud Familiar Dr. Sergio Aguilar Delgado | C47: =IFERROR(VLOOKUP($A47,'[2]Establecimiento 2023'!$A$1:$E$183,5,FALSE),0) -> 04102-Coquimbo | D47: 6 | E47: 5 | F47: 1.2 | H47: 105469-Posta de Salud Rural El Tambo (Vicuña) | N47: 331 | O47: 26 | P47: 174 | Q47: 531
A48: 105323 | B48: =IFERROR(VLOOKUP($A48,'[2]Establecimiento 2023'!$A$1:$E$183,3,FALSE),0) -> 105323-Centro de Salud Familiar Dr. Sergio Aguilar Delgado | C48: =IFERROR(VLOOKUP($A48,'[2]Establecimiento 2023'!$A$1:$E$183,5,FALSE),0) -> 04102-Coquimbo | D48: 7 | E48: 6 | F48: 1.2 | H48: 105470-Posta de Salud Rural Huanta | O48: 1 | Q48: 1
A49: 200569 | B49: =IFERROR(VLOOKUP($A49,'[2]Establecimiento 2023'!$A$1:$E$183,3,FALSE),0) -> 200569-Centro de Salud Familiar Fray Jorge | C49: =IFERROR(VLOOKUP($A49,'[2]Establecimiento 2023'!$A$1:$E$183,5,FALSE),0) -> 04301-Ovalle | D49: 7 | E49: 10 | F49: 1.2 | H49: 105471-Posta de Salud Rural Peralillo Vicuña | O49: 59 | Q49: 59
A50: 105301 | B50: =IFERROR(VLOOKUP($A50,'[2]Establecimiento 2023'!$A$1:$E$183,3,FALSE),0) -> 105301-Centro de Salud Familiar Las Compañías | C50: =IFERROR(VLOOKUP($A50,'[2]Establecimiento 2023'!$A$1:$E$183,5,FALSE),0) -> 04101-La Serena | D50: 7 | E50: 9 | F50: 1.3 | H50: 105472-Posta de Salud Rural Rivadavia | O50: 61 | Q50: 61
A51: 105304 | B51: =IFERROR(VLOOKUP($A51,'[2]Establecimiento 2023'!$A$1:$E$183,3,FALSE),0) -> 105304-Centro de Salud Familiar Santa Cecilia | C51: =IFERROR(VLOOKUP($A51,'[2]Establecimiento 2023'!$A$1:$E$183,5,FALSE),0) -> 04102-Coquimbo | D51: 6 | E51: 4 | F51: 1.3 | H51: 105473-Posta de Salud Rural Talcuna | O51: 47 | Q51: 47
A52: 105304 | B52: =IFERROR(VLOOKUP($A52,'[2]Establecimiento 2023'!$A$1:$E$183,3,FALSE),0) -> 105304-Centro de Salud Familiar Santa Cecilia | C52: =IFERROR(VLOOKUP($A52,'[2]Establecimiento 2023'!$A$1:$E$183,5,FALSE),0) -> 04102-Coquimbo | D52: 7 | E52: 4 | F52: 1.3 | H52: 105474-Posta de Salud Rural Chapilca | O52: 13 | Q52: 13
A53: 105313 | B53: =IFERROR(VLOOKUP($A53,'[2]Establecimiento 2023'!$A$1:$E$183,3,FALSE),0) -> 105313-Centro de Salud Familiar Dr. Emilio Schaffhauser | C53: =IFERROR(VLOOKUP($A53,'[2]Establecimiento 2023'!$A$1:$E$183,5,FALSE),0) -> 04101-La Serena | D53: 4 | E53: 1 | F53: 1.3 | H53: 105509-Posta de Salud Rural Gualliguaica | O53: 20 | Q53: 20
A54: 105313 | B54: =IFERROR(VLOOKUP($A54,'[2]Establecimiento 2023'!$A$1:$E$183,3,FALSE),0) -> 105313-Centro de Salud Familiar Dr. Emilio Schaffhauser | C54: =IFERROR(VLOOKUP($A54,'[2]Establecimiento 2023'!$A$1:$E$183,5,FALSE),0) -> 04101-La Serena | D54: 7 | E54: 5 | F54: 1.3 | H54: 200538-Centro de Salud Familiar San Isidro Calingasta | N54: 789 | O54: 163 | P54: 443 | Q54: 1395
A55: 105319 | B55: =IFERROR(VLOOKUP($A55,'[2]Establecimiento 2023'!$A$1:$E$183,3,FALSE),0) -> 105319-Centro de Salud Familiar Cardenal Raúl Silva Henríquez de La Serena | C55: =IFERROR(VLOOKUP($A55,'[2]Establecimiento 2023'!$A$1:$E$183,5,FALSE),0) -> 04101-La Serena | D55: 7 | E55: 4 | F55: 1.3 | H55: 04201-Illapel | I55: 36 | K55: 71 | N55: 6785 | O55: 946 | P55: 2422 | Q55: 10260
A56: 105325 | B56: =IFERROR(VLOOKUP($A56,'[2]Establecimiento 2023'!$A$1:$E$183,3,FALSE),0) -> 105325-Centro de Salud Familiar Juan Pablo II (La Serena) | C56: =IFERROR(VLOOKUP($A56,'[2]Establecimiento 2023'!$A$1:$E$183,5,FALSE),0) -> 04101-La Serena | D56: 7 | E56: 5 | F56: 1.3 | H56: 105326-Centro de Salud Familiar Villa San Rafael de Rozas | N56: 2264 | O56: 166 | P56: 967 | Q56: 3397
A57: 105452 | B57: =IFERROR(VLOOKUP($A57,'[2]Establecimiento 2023'!$A$1:$E$183,3,FALSE),0) -> 105452-Posta de Salud Rural Cuncumén(Salamanca) | C57: =IFERROR(VLOOKUP($A57,'[2]Establecimiento 2023'!$A$1:$E$183,5,FALSE),0) -> 04204-Salamanca | D57: 5 | E57: 42 | F57: 1.3 | H57: 105443-Posta de Salud Rural Cárcamo | N57: 14 | O57: 11 | P57: 6 | Q57: 31
A58: 105452 | B58: =IFERROR(VLOOKUP($A58,'[2]Establecimiento 2023'!$A$1:$E$183,3,FALSE),0) -> 105452-Posta de Salud Rural Cuncumén(Salamanca) | C58: =IFERROR(VLOOKUP($A58,'[2]Establecimiento 2023'!$A$1:$E$183,5,FALSE),0) -> 04204-Salamanca | D58: 7 | E58: 3 | F58: 1.3 | H58: 105444-Posta de Salud Rural Huintil | N58: 19 | O58: 7 | P58: 8 | Q58: 34
A59: 105455 | B59: =IFERROR(VLOOKUP($A59,'[2]Establecimiento 2023'!$A$1:$E$183,3,FALSE),0) -> 105455-CESFAM Valle Alto | C59: =IFERROR(VLOOKUP($A59,'[2]Establecimiento 2023'!$A$1:$E$183,5,FALSE),0) -> 04204-Salamanca | D59: 7 | E59: 4 | F59: 1.3 | H59: 105445-Posta de Salud Rural Limáhuida | N59: 295 | O59: 23 | P59: 83 | Q59: 401
A60: 200366 | B60: =IFERROR(VLOOKUP($A60,'[2]Establecimiento 2023'!$A$1:$E$183,3,FALSE),0) -> 200366-Centro de Salud Familiar Urbano de Illapel | C60: =IFERROR(VLOOKUP($A60,'[2]Establecimiento 2023'!$A$1:$E$183,5,FALSE),0) -> 04201-Illapel | D60: 2 | E60: 2 | F60: 1.3 | H60: 105446-Posta de Salud Rural Matancilla | N60: 19 | O60: 6 | P60: 4 | Q60: 29
A61: 200366 | B61: =IFERROR(VLOOKUP($A61,'[2]Establecimiento 2023'!$A$1:$E$183,3,FALSE),0) -> 200366-Centro de Salud Familiar Urbano de Illapel | C61: =IFERROR(VLOOKUP($A61,'[2]Establecimiento 2023'!$A$1:$E$183,5,FALSE),0) -> 04201-Illapel | D61: 3 | E61: 8 | F61: 1.3 | H61: 105447-Posta de Salud Rural Peralillo Illapel | N61: 42 | O61: 18 | P61: 13 | Q61: 73
A62: 200366 | B62: =IFERROR(VLOOKUP($A62,'[2]Establecimiento 2023'!$A$1:$E$183,3,FALSE),0) -> 200366-Centro de Salud Familiar Urbano de Illapel | C62: =IFERROR(VLOOKUP($A62,'[2]Establecimiento 2023'!$A$1:$E$183,5,FALSE),0) -> 04201-Illapel | D62: 4 | E62: 10 | F62: 1.3 | H62: 105448-Posta de Salud Rural Santa Virginia | N62: 25 | O62: 27 | P62: 7 | Q62: 59
A63: 200366 | B63: =IFERROR(VLOOKUP($A63,'[2]Establecimiento 2023'!$A$1:$E$183,3,FALSE),0) -> 200366-Centro de Salud Familiar Urbano de Illapel | C63: =IFERROR(VLOOKUP($A63,'[2]Establecimiento 2023'!$A$1:$E$183,5,FALSE),0) -> 04201-Illapel | D63: 5 | E63: 13 | F63: 1.3 | H63: 105449-Posta de Salud Rural Tunga Norte | O63: 6 | Q63: 6
A64: 200366 | B64: =IFERROR(VLOOKUP($A64,'[2]Establecimiento 2023'!$A$1:$E$183,3,FALSE),0) -> 200366-Centro de Salud Familiar Urbano de Illapel | C64: =IFERROR(VLOOKUP($A64,'[2]Establecimiento 2023'!$A$1:$E$183,5,FALSE),0) -> 04201-Illapel | D64: 6 | E64: 14 | F64: 1.3 | H64: 105485-Posta de Salud Rural Plan de Hornos | N64: 117 | O64: 8 | P64: 32 | Q64: 157
A65: 200366 | B65: =IFERROR(VLOOKUP($A65,'[2]Establecimiento 2023'!$A$1:$E$183,3,FALSE),0) -> 200366-Centro de Salud Familiar Urbano de Illapel | C65: =IFERROR(VLOOKUP($A65,'[2]Establecimiento 2023'!$A$1:$E$183,5,FALSE),0) -> 04201-Illapel | D65: 7 | E65: 24 | F65: 1.3 | H65: 105486-Posta de Salud Rural Tunga Sur | N65: 38 | O65: 9 | P65: 21 | Q65: 68
A66: 200494 | B66: =IFERROR(VLOOKUP($A66,'[2]Establecimiento 2023'!$A$1:$E$183,3,FALSE),0) -> 200494-Centro de Salud Familiar El Sauce | C66: =IFERROR(VLOOKUP($A66,'[2]Establecimiento 2023'!$A$1:$E$183,5,FALSE),0) -> 04102-Coquimbo | D66: 6 | E66: 1 | F66: 1.3 | H66: 105487-Posta de Salud Rural Cañas Uno | N66: 87 | O66: 67 | P66: 44 | Q66: 198
A67: 105302 | B67: =IFERROR(VLOOKUP($A67,'[2]Establecimiento 2023'!$A$1:$E$183,3,FALSE),0) -> 105302-Centro de Salud Familiar Pedro Aguirre Cerda | C67: =IFERROR(VLOOKUP($A67,'[2]Establecimiento 2023'!$A$1:$E$183,5,FALSE),0) -> 04101-La Serena | D67: 7 | E67: 13 | F67: 1.4 | H67: 105496-Posta de Salud Rural Pintacura Sur | O67: 10 | Q67: 10
A68: 105313 | B68: =IFERROR(VLOOKUP($A68,'[2]Establecimiento 2023'!$A$1:$E$183,3,FALSE),0) -> 105313-Centro de Salud Familiar Dr. Emilio Schaffhauser | C68: =IFERROR(VLOOKUP($A68,'[2]Establecimiento 2023'!$A$1:$E$183,5,FALSE),0) -> 04101-La Serena | D68: 1 | E68: 10 | F68: 1.5 | H68: 105504-Posta de Salud Rural Socavón | N68: 33 | O68: 10 | P68: 10 | Q68: 53
A69: 105313 | B69: =IFERROR(VLOOKUP($A69,'[2]Establecimiento 2023'!$A$1:$E$183,3,FALSE),0) -> 105313-Centro de Salud Familiar Dr. Emilio Schaffhauser | C69: =IFERROR(VLOOKUP($A69,'[2]Establecimiento 2023'!$A$1:$E$183,5,FALSE),0) -> 04101-La Serena | D69: 2 | E69: 16 | F69: 1.5 | H69: 200366-Centro de Salud Familiar Urbano de Illapel | I69: 36 | K69: 71 | N69: 3832 | O69: 578 | P69: 1227 | Q69: 5744
A70: 105313 | B70: =IFERROR(VLOOKUP($A70,'[2]Establecimiento 2023'!$A$1:$E$183,3,FALSE),0) -> 105313-Centro de Salud Familiar Dr. Emilio Schaffhauser | C70: =IFERROR(VLOOKUP($A70,'[2]Establecimiento 2023'!$A$1:$E$183,5,FALSE),0) -> 04101-La Serena | D70: 3 | E70: 40 | F70: 1.5 | H70: 04202-Canela | N70: 2718 | O70: 139 | P70: 958 | Q70: 3815
A71: 105313 | B71: =IFERROR(VLOOKUP($A71,'[2]Establecimiento 2023'!$A$1:$E$183,3,FALSE),0) -> 105313-Centro de Salud Familiar Dr. Emilio Schaffhauser | C71: =IFERROR(VLOOKUP($A71,'[2]Establecimiento 2023'!$A$1:$E$183,5,FALSE),0) -> 04101-La Serena | D71: 4 | E71: 45 | F71: 1.5 | H71: 105309-Centro de Salud Familiar Canela | N71: 2718 | O71: 139 | P71: 958 | Q71: 3815
A72: 105313 | B72: =IFERROR(VLOOKUP($A72,'[2]Establecimiento 2023'!$A$1:$E$183,3,FALSE),0) -> 105313-Centro de Salud Familiar Dr. Emilio Schaffhauser | C72: =IFERROR(VLOOKUP($A72,'[2]Establecimiento 2023'!$A$1:$E$183,5,FALSE),0) -> 04101-La Serena | D72: 5 | E72: 38 | F72: 1.5 | H72: 04203-Los Vilos | I72: 6 | N72: 890 | O72: 216 | P72: 256 | Q72: 1368
A73: 105323 | B73: =IFERROR(VLOOKUP($A73,'[2]Establecimiento 2023'!$A$1:$E$183,3,FALSE),0) -> 105323-Centro de Salud Familiar Dr. Sergio Aguilar Delgado | C73: =IFERROR(VLOOKUP($A73,'[2]Establecimiento 2023'!$A$1:$E$183,5,FALSE),0) -> 04102-Coquimbo | D73: 5 | E73: 44 | F73: 1.5 | H73: 105478-Posta de Salud Rural Caimanes | I73: 3 | N73: 161 | O73: 52 | P73: 45 | Q73: 261
A74: 105323 | B74: =IFERROR(VLOOKUP($A74,'[2]Establecimiento 2023'!$A$1:$E$183,3,FALSE),0) -> 105323-Centro de Salud Familiar Dr. Sergio Aguilar Delgado | C74: =IFERROR(VLOOKUP($A74,'[2]Establecimiento 2023'!$A$1:$E$183,5,FALSE),0) -> 04102-Coquimbo | D74: 6 | E74: 28 | F74: 1.5 | H74: 105479-Posta de Salud Rural Guangualí | O74: 17 | Q74: 17
A75: 105323 | B75: =IFERROR(VLOOKUP($A75,'[2]Establecimiento 2023'!$A$1:$E$183,3,FALSE),0) -> 105323-Centro de Salud Familiar Dr. Sergio Aguilar Delgado | C75: =IFERROR(VLOOKUP($A75,'[2]Establecimiento 2023'!$A$1:$E$183,5,FALSE),0) -> 04102-Coquimbo | D75: 7 | E75: 42 | F75: 1.5 | H75: 105480-Posta de Salud Rural Quilimarí | I75: 3 | N75: 729 | O75: 86 | P75: 211 | Q75: 1029
A76: 200607 | B76: =IFERROR(VLOOKUP($A76,'[2]Establecimiento 2023'!$A$1:$E$183,3,FALSE),0) -> 200607-Centro de Salud Familiar Lila Cortés Godoy | C76: =IFERROR(VLOOKUP($A76,'[2]Establecimiento 2023'!$A$1:$E$183,5,FALSE),0) -> 04102-Coquimbo | D76: 3 | E76: 72 | F76: 1.5 | H76: 105481-Posta de Salud Rural Tilama | O76: 21 | Q76: 21
A77: 200607 | B77: =IFERROR(VLOOKUP($A77,'[2]Establecimiento 2023'!$A$1:$E$183,3,FALSE),0) -> 200607-Centro de Salud Familiar Lila Cortés Godoy | C77: =IFERROR(VLOOKUP($A77,'[2]Establecimiento 2023'!$A$1:$E$183,5,FALSE),0) -> 04102-Coquimbo | D77: 4 | E77: 28 | F77: 1.5 | H77: 105511-Posta de Salud Rural Los Cóndores | O77: 40 | Q77: 40
A78: 105106 | B78: =IFERROR(VLOOKUP($A78,'[2]Establecimiento 2023'!$A$1:$E$183,3,FALSE),0) -> 105106-Hospital Dr. José Arraño (Andacollo) | C78: =IFERROR(VLOOKUP($A78,'[2]Establecimiento 2023'!$A$1:$E$183,5,FALSE),0) -> 105106-Hospital Andacollo | D78: 7 | E78: 261 | F78: 2 | H78: 04204-Salamanca | I78: 14 | K78: 49 | N78: 1189 | O78: 422 | P78: 211 | Q78: 1885
A79: 105300 | B79: =IFERROR(VLOOKUP($A79,'[2]Establecimiento 2023'!$A$1:$E$183,3,FALSE),0) -> 105300-Centro de Salud Familiar Cardenal Caro | C79: =IFERROR(VLOOKUP($A79,'[2]Establecimiento 2023'!$A$1:$E$183,5,FALSE),0) -> 04101-La Serena | D79: 4 | E79: 185 | F79: 2 | H79: 105452-Posta de Salud Rural Cuncumén(Salamanca) | I79: 14 | K79: 45 | O79: 20 | Q79: 79
A80: 105300 | B80: =IFERROR(VLOOKUP($A80,'[2]Establecimiento 2023'!$A$1:$E$183,3,FALSE),0) -> 105300-Centro de Salud Familiar Cardenal Caro | C80: =IFERROR(VLOOKUP($A80,'[2]Establecimiento 2023'!$A$1:$E$183,5,FALSE),0) -> 04101-La Serena | D80: 5 | E80: 330 | F80: 2 | H80: 105453-Posta de Salud Rural Tranquilla | N80: 30 | O80: 60 | P80: 5 | Q80: 95
A81: 105300 | B81: =IFERROR(VLOOKUP($A81,'[2]Establecimiento 2023'!$A$1:$E$183,3,FALSE),0) -> 105300-Centro de Salud Familiar Cardenal Caro | C81: =IFERROR(VLOOKUP($A81,'[2]Establecimiento 2023'!$A$1:$E$183,5,FALSE),0) -> 04101-La Serena | D81: 6 | E81: 279 | F81: 2 | H81: 105455-CESFAM Valle Alto | K81: 4 | N81: 388 | O81: 148 | P81: 67 | Q81: 607
A82: 105300 | B82: =IFERROR(VLOOKUP($A82,'[2]Establecimiento 2023'!$A$1:$E$183,3,FALSE),0) -> 105300-Centro de Salud Familiar Cardenal Caro | C82: =IFERROR(VLOOKUP($A82,'[2]Establecimiento 2023'!$A$1:$E$183,5,FALSE),0) -> 04101-La Serena | D82: 7 | E82: 280 | F82: 2 | H82: 105456-Posta de Salud Rural Llimpo | O82: 29 | Q82: 29
A83: 105301 | B83: =IFERROR(VLOOKUP($A83,'[2]Establecimiento 2023'!$A$1:$E$183,3,FALSE),0) -> 105301-Centro de Salud Familiar Las Compañías | C83: =IFERROR(VLOOKUP($A83,'[2]Establecimiento 2023'!$A$1:$E$183,5,FALSE),0) -> 04101-La Serena | D83: 4 | E83: 189 | F83: 2 | H83: 105457-Posta de Salud Rural San Agustín (Salamanca) | O83: 3 | Q83: 3
A84: 105301 | B84: =IFERROR(VLOOKUP($A84,'[2]Establecimiento 2023'!$A$1:$E$183,3,FALSE),0) -> 105301-Centro de Salud Familiar Las Compañías | C84: =IFERROR(VLOOKUP($A84,'[2]Establecimiento 2023'!$A$1:$E$183,5,FALSE),0) -> 04101-La Serena | D84: 5 | E84: 141 | F84: 2 | H84: 105458-Posta de Salud Rural Tahuinco | N84: 482 | O84: 53 | P84: 93 | Q84: 628
A85: 105301 | B85: =IFERROR(VLOOKUP($A85,'[2]Establecimiento 2023'!$A$1:$E$183,3,FALSE),0) -> 105301-Centro de Salud Familiar Las Compañías | C85: =IFERROR(VLOOKUP($A85,'[2]Establecimiento 2023'!$A$1:$E$183,5,FALSE),0) -> 04101-La Serena | D85: 6 | E85: 114 | F85: 2 | H85: 105491-Posta de Salud Rural Quelén Bajo | N85: 289 | O85: 60 | P85: 46 | Q85: 395
A86: 105301 | B86: =IFERROR(VLOOKUP($A86,'[2]Establecimiento 2023'!$A$1:$E$183,3,FALSE),0) -> 105301-Centro de Salud Familiar Las Compañías | C86: =IFERROR(VLOOKUP($A86,'[2]Establecimiento 2023'!$A$1:$E$183,5,FALSE),0) -> 04101-La Serena | D86: 7 | E86: 15 | F86: 2 | H86: 105492-Posta de Salud Rural Camisa | O86: 14 | Q86: 14
A87: 105302 | B87: =IFERROR(VLOOKUP($A87,'[2]Establecimiento 2023'!$A$1:$E$183,3,FALSE),0) -> 105302-Centro de Salud Familiar Pedro Aguirre Cerda | C87: =IFERROR(VLOOKUP($A87,'[2]Establecimiento 2023'!$A$1:$E$183,5,FALSE),0) -> 04101-La Serena | D87: 4 | E87: 278 | F87: 2 | H87: 105501-Posta de Salud Rural Arboleda Grande | O87: 35 | Q87: 35
A88: 105302 | B88: =IFERROR(VLOOKUP($A88,'[2]Establecimiento 2023'!$A$1:$E$183,3,FALSE),0) -> 105302-Centro de Salud Familiar Pedro Aguirre Cerda | C88: =IFERROR(VLOOKUP($A88,'[2]Establecimiento 2023'!$A$1:$E$183,5,FALSE),0) -> 04101-La Serena | D88: 5 | E88: 208 | F88: 2 | H88: 04301-Ovalle | I88: 27 | J88: 10 | N88: 1010 | O88: 3240 | P88: 497 | Q88: 4784
A89: 105302 | B89: =IFERROR(VLOOKUP($A89,'[2]Establecimiento 2023'!$A$1:$E$183,3,FALSE),0) -> 105302-Centro de Salud Familiar Pedro Aguirre Cerda | C89: =IFERROR(VLOOKUP($A89,'[2]Establecimiento 2023'!$A$1:$E$183,5,FALSE),0) -> 04101-La Serena | D89: 6 | E89: 222 | F89: 2 | H89: 105315-Centro de Salud Familiar Cerrillos de Tamaya | O89: 291 | Q89: 291
A90: 105302 | B90: =IFERROR(VLOOKUP($A90,'[2]Establecimiento 2023'!$A$1:$E$183,3,FALSE),0) -> 105302-Centro de Salud Familiar Pedro Aguirre Cerda | C90: =IFERROR(VLOOKUP($A90,'[2]Establecimiento 2023'!$A$1:$E$183,5,FALSE),0) -> 04101-La Serena | D90: 7 | E90: 311 | F90: 2 | H90: 105317-Centro de Salud Familiar Jorge Jordán Domic | O90: 263 | Q90: 263
A91: 105304 | B91: =IFERROR(VLOOKUP($A91,'[2]Establecimiento 2023'!$A$1:$E$183,3,FALSE),0) -> 105304-Centro de Salud Familiar Santa Cecilia | C91: =IFERROR(VLOOKUP($A91,'[2]Establecimiento 2023'!$A$1:$E$183,5,FALSE),0) -> 04102-Coquimbo | D91: 4 | E91: 96 | F91: 2 | H91: 105322-Centro de Salud Familiar Marcos Macuada | O91: 703 | Q91: 703
A92: 105304 | B92: =IFERROR(VLOOKUP($A92,'[2]Establecimiento 2023'!$A$1:$E$183,3,FALSE),0) -> 105304-Centro de Salud Familiar Santa Cecilia | C92: =IFERROR(VLOOKUP($A92,'[2]Establecimiento 2023'!$A$1:$E$183,5,FALSE),0) -> 04102-Coquimbo | D92: 5 | E92: 316 | F92: 2 | H92: 105324-Centro de Salud Familiar Sotaquí | O92: 237 | Q92: 237
A93: 105304 | B93: =IFERROR(VLOOKUP($A93,'[2]Establecimiento 2023'!$A$1:$E$183,3,FALSE),0) -> 105304-Centro de Salud Familiar Santa Cecilia | C93: =IFERROR(VLOOKUP($A93,'[2]Establecimiento 2023'!$A$1:$E$183,5,FALSE),0) -> 04102-Coquimbo | D93: 6 | E93: 269 | F93: 2 | H93: 105415-Posta de Salud Rural Barraza | O93: 33 | Q93: 33
A94: 105304 | B94: =IFERROR(VLOOKUP($A94,'[2]Establecimiento 2023'!$A$1:$E$183,3,FALSE),0) -> 105304-Centro de Salud Familiar Santa Cecilia | C94: =IFERROR(VLOOKUP($A94,'[2]Establecimiento 2023'!$A$1:$E$183,5,FALSE),0) -> 04102-Coquimbo | D94: 7 | E94: 242 | F94: 2 | H94: 105416-Posta de Salud Rural Camarico (Ovalle) | O94: 112 | Q94: 112
A95: 105305 | B95: =IFERROR(VLOOKUP($A95,'[2]Establecimiento 2023'!$A$1:$E$183,3,FALSE),0) -> 105305-Centro de Salud Familiar Tierras Blancas | C95: =IFERROR(VLOOKUP($A95,'[2]Establecimiento 2023'!$A$1:$E$183,5,FALSE),0) -> 04102-Coquimbo | D95: 6 | E95: 47 | F95: 2 | H95: 105417-Posta de Salud Rural Alcones Bajo | O95: 56 | Q95: 56
A96: 105305 | B96: =IFERROR(VLOOKUP($A96,'[2]Establecimiento 2023'!$A$1:$E$183,3,FALSE),0) -> 105305-Centro de Salud Familiar Tierras Blancas | C96: =IFERROR(VLOOKUP($A96,'[2]Establecimiento 2023'!$A$1:$E$183,5,FALSE),0) -> 04102-Coquimbo | D96: 7 | E96: 54 | F96: 2 | H96: 105419-Posta de Salud Rural Las Sossas | O96: 6 | Q96: 6
A97: 105306 | B97: =IFERROR(VLOOKUP($A97,'[2]Establecimiento 2023'!$A$1:$E$183,3,FALSE),0) -> 105306-Centro de Salud Familiar Paihuano | C97: =IFERROR(VLOOKUP($A97,'[2]Establecimiento 2023'!$A$1:$E$183,5,FALSE),0) -> 04105-Paiguano | D97: 1 | E97: 463 | F97: 2 | H97: 105422-Posta de Salud Rural Hornillos | O97: 6 | Q97: 6
A98: 105306 | B98: =IFERROR(VLOOKUP($A98,'[2]Establecimiento 2023'!$A$1:$E$183,3,FALSE),0) -> 105306-Centro de Salud Familiar Paihuano | C98: =IFERROR(VLOOKUP($A98,'[2]Establecimiento 2023'!$A$1:$E$183,5,FALSE),0) -> 04105-Paiguano | D98: 2 | E98: 359 | F98: 2 | H98: 105437-Posta de Salud Rural Chalinga | O98: 37 | Q98: 37
A99: 105306 | B99: =IFERROR(VLOOKUP($A99,'[2]Establecimiento 2023'!$A$1:$E$183,3,FALSE),0) -> 105306-Centro de Salud Familiar Paihuano | C99: =IFERROR(VLOOKUP($A99,'[2]Establecimiento 2023'!$A$1:$E$183,5,FALSE),0) -> 04105-Paiguano | D99: 3 | E99: 317 | F99: 2 | H99: 105439-Posta de Salud Rural Cerro Blanco | O99: 12 | Q99: 12
A100: 105306 | B100: =IFERROR(VLOOKUP($A100,'[2]Establecimiento 2023'!$A$1:$E$183,3,FALSE),0) -> 105306-Centro de Salud Familiar Paihuano | C100: =IFERROR(VLOOKUP($A100,'[2]Establecimiento 2023'!$A$1:$E$183,5,FALSE),0) -> 04105-Paiguano | D100: 4 | E100: 240 | F100: 2 | H100: 105507-Posta de Salud Rural Huamalata | O100: 108 | Q100: 108
... A105: 105307 | B105: =IFERROR(VLOOKUP($A105,'[2]Establecimiento 2023'!$A$1:$E$183,3,FALSE),0) -> 105307-Centro de Salud Familiar Monte Patria | C105: =IFERROR(VLOOKUP($A105,'[2]Establecimiento 2023'!$A$1:$E$183,5,FALSE),0) -> 04303-Monte Patria | D105: 6 | E105: 351 | F105: 2 | H105: 200367-Centro Comunitario de Salud Familiar Colonia Limarí | O105: 128 | Q105: 128
...

Sheet Odontológico Integral
A1: MINISTERIO DE SALUD
A2: SERVICIO DE SALUD COQUIMBO
A3: DEPARTAMENTO DE GESTIÓN, PLANIFICACIÓN Y CONTROL
A4: SUBDEPTO. DE ESTADÍSTICAS Y GESTIÓN DE LA INFORMACIÓN
A5: AÑO 2022
B6: Programa Odontológico Integral
B8: COMUNA | C8: COMPONENTE 1 | I8: COMPONENTE 2 | O8: COMPONENTE 3 | R8: COMPONENTE 4
C9: Altas odontologicas integrales en hombres. | F9: Auditoría clínicas al menos al 5% de las altas odontológicas integrales en Hombres | I9: Atención odontológica integral en mujeres "Más Sonrisas para Chile" | L9: Auditoría clínicas al 5% de las altas odontológicas integrales "Más Sonrisas para Chile" | O9: Alta odontológicas integral a estudiantes de enseñanza media | R9: Alta odontológica a beneficiarios del "Programa de atención domiciliaria a personas con dependencia severa" y/o sus cuidadores
C10: N° total de altas odontológicas integrales Hombres realizadas" | D10: N° total de altas integrales en Hombres comprometidas | E10: Indicador | F10: N° total de auditorías a altas integrales Hombres realizadas | G10: N° Total de auditorías a altas integrales Hombres comprometidas | H10: Indicador | I10: N° total de altas odontológicas integrales en mujeres "Más Sonrisas para Chile" | J10: N° total de altas integrales "Más Sonrisas para Chile" comprometidas | K10: Indicador | L10: N° total de auditorías a altas integrales "Más Sonrisas para Chile realizadas > de 20 años | M10: N° total de auditorías a altas integrales "Más Sonrisas para Chile" comprometidas | N10: Indicador | O10: N° total de altas odontológicas integrales en estudiantes de enseñanza media y/o su equivalente | P10: N° de altas odontológicas integrales en estudiantes de enseñanza media y/o su equivalente comprometida | Q10: Indicador | R10: N° total de altas odontológicas a beneficiarios del "Programa de atención domiciliaria a personas con dependencia severa" y sus cuidadores | S10: N° total de altas odontológicas a beneficiarios del "Programa de atención domiciliaria a personas con dependencia severa" comprometidas | T10: Indicador
B12: 04101-LA SERENA | C12: =IFERROR(VLOOKUP($B12,'POI Datos'!$H$3:$M$61,2,FALSE),0) -> 139 | D12: 276 | E12: 1.1666667 | F12: 0 | G12: 11 | H12: 2.1 | I12: =IFERROR(VLOOKUP($B12,'Odont Integral'!$G$5:$L$19,2,FALSE),0) -> 71 | J12: 800 | K12: 0.77299578 | L12: 0 | M12: 60 | N12: 2.1 | O12: =IFERROR(VLOOKUP($B12,'Odont Integral'!$G$5:$L$19,3,FALSE),0) -> 229 | P12: 1010 | Q12: 0.58339198 | R12: =IFERROR(VLOOKUP($B12,'Odont Integral'!$G$5:$L$19,5,FALSE),0) -> 77 | S12: 500 | T12: 1.6852207
B13: 04104-LA HIGUERA | C13: =IFERROR(VLOOKUP($B13,'POI Datos'!$H$3:$M$61,2,FALSE),0) -> 0 | D13: 15 | E13: 0.5 | F13: 0 | G13: 1 | H13: 0 | I13: =IFERROR(VLOOKUP($B13,'Odont Integral'!$G$5:$L$19,2,FALSE),0) -> 0 | J13: 43 | K13: 0.52 | L13: 0 | M13: 3 | N13: 0 | O13: =IFERROR(VLOOKUP($B13,'Odont Integral'!$G$5:$L$19,3,FALSE),0) -> 0 | P13: 50 | Q13: 0 | R13: =IFERROR(VLOOKUP($B13,'Odont Integral'!$G$5:$L$19,5,FALSE),0) -> 0 | S13: 12 | T13: 1
B14: 04102-COQUIMBO | C14: =IFERROR(VLOOKUP($B14,'POI Datos'!$H$3:$M$61,2,FALSE),0) -> 2 | D14: 180 | E14: 0.77227723 | F14: 0 | G14: 5 | H14: 1.4 | I14: =IFERROR(VLOOKUP($B14,'Odont Integral'!$G$5:$L$19,2,FALSE),0) -> 0 | J14: 541 | K14: 0.27906977 | L14: 0 | M14: 35 | N14: 0.97142857 | O14: =IFERROR(VLOOKUP($B14,'Odont Integral'!$G$5:$L$19,3,FALSE),0) -> 0 | P14: 700 | Q14: 0.80545455 | R14: =IFERROR(VLOOKUP($B14,'Odont Integral'!$G$5:$L$19,5,FALSE),0) -> 146 | S14: 300 | T14: 0.69393939
B15: 04106-VICUÑA | C15: =IFERROR(VLOOKUP($B15,'POI Datos'!$H$3:$M$61,2,FALSE),0) -> 14 | D15: 32 | E15: 1 | F15: 0 | G15: 2 | H15: 0 | I15: =IFERROR(VLOOKUP($B15,'Odont Integral'!$G$5:$L$19,2,FALSE),0) -> 0 | J15: 97 | K15: 1.0185185 | L15: 0 | M15: 5 | N15: 0 | O15: =IFERROR(VLOOKUP($B15,'Odont Integral'!$G$5:$L$19,3,FALSE),0) -> 0 | P15: 0 | Q15: 0 | R15: =IFERROR(VLOOKUP($B15,'Odont Integral'!$G$5:$L$19,5,FALSE),0) -> 0 | S15: 46 | T15: 0.58333333
B16: 04105-PAIHUANO | C16: =IFERROR(VLOOKUP($B16,'POI Datos'!$H$3:$M$61,2,FALSE),0) -> 0 | D16: 20 | E16: 1.0833333 | F16: 0 | G16: 1 | H16: 0 | I16: =IFERROR(VLOOKUP($B16,'Odont Integral'!$G$5:$L$19,2,FALSE),0) -> 0 | J16: 61 | K16: 1.0289855 | L16: 0 | M16: 3 | N16: 0 | O16: =IFERROR(VLOOKUP($B16,'Odont Integral'!$G$5:$L$19,3,FALSE),0) -> 0 | P16: 100 | Q16: 1 | R16: =IFERROR(VLOOKUP($B16,'Odont Integral'!$G$5:$L$19,5,FALSE),0) -> 12 | S16: 14 | T16: 1.3571429
B17: 04301-OVALLE | C17: =IFERROR(VLOOKUP($B17,'POI Datos'!$H$3:$M$61,2,FALSE),0) -> 74 | D17: 145 | E17: 1 | F17: 0 | G17: 4 | H17: 1 | I17: =IFERROR(VLOOKUP($B17,'Odont Integral'!$G$5:$L$19,2,FALSE),0) -> 0 | J17: 435 | K17: 0.44519393 | L17: 0 | M17: 30 | N17: 1 | O17: =IFERROR(VLOOKUP($B17,'Odont Integral'!$G$5:$L$19,3,FALSE),0) -> 0 | P17: 500 | Q17: 1 | R17: =IFERROR(VLOOKUP($B17,'Odont Integral'!$G$5:$L$19,5,FALSE),0) -> 191 | S17: 250 | T17: 1
B18: 04305-RIO HURTADO | C18: =IFERROR(VLOOKUP($B18,'POI Datos'!$H$3:$M$61,2,FALSE),0) -> 0 | D18: 23 | E18: 0.5 | F18: 0 | G18: 1 | H18: 1 | I18: =IFERROR(VLOOKUP($B18,'Odont Integral'!$G$5:$L$19,2,FALSE),0) -> 0 | J18: 68 | K18: 0.65822785 | L18: 0 | M18: 4 | N18: 1 | O18: =IFERROR(VLOOKUP($B18,'Odont Integral'!$G$5:$L$19,3,FALSE),0) -> 0 | P18: 26 | Q18: 0.23076923 | R18: =IFERROR(VLOOKUP($B18,'Odont Integral'!$G$5:$L$19,5,FALSE),0) -> 0 | S18: 14 | T18: 0.57142857
B19: 04303-MONTE PATRIA | C19: =IFERROR(VLOOKUP($B19,'POI Datos'!$H$3:$M$61,2,FALSE),0) -> 0 | D19: 84 | E19: 0.93333333 | F19: 0 | G19: 3 | H19: 1.5 | I19: =IFERROR(VLOOKUP($B19,'Odont Integral'!$G$5:$L$19,2,FALSE),0) -> 0 | J19: 270 | K19: 0.99078341 | L19: 0 | M19: 16 | N19: 1 | O19: =IFERROR(VLOOKUP($B19,'Odont Integral'!$G$5:$L$19,3,FALSE),0) -> 0 | P19: 180 | Q19: 1.2222222 | R19: =IFERROR(VLOOKUP($B19,'Odont Integral'!$G$5:$L$19,5,FALSE),0) -> 0 | S19: 72 | T19: 1
B20: 04304-PUNITAQUI | C20: =IFERROR(VLOOKUP($B20,'POI Datos'!$H$3:$M$61,2,FALSE),0) -> 8 | D20: 29 | E20: 0.066666667 | F20: 0 | G20: 1 | H20: 0 | I20: =IFERROR(VLOOKUP($B20,'Odont Integral'!$G$5:$L$19,2,FALSE),0) -> 0 | J20: 86 | K20: 0.15254237 | L20: 0 | M20: 7 | N20: 0 | O20: =IFERROR(VLOOKUP($B20,'Odont Integral'!$G$5:$L$19,3,FALSE),0) -> 0 | P20: 35 | Q20: 0.085714286 | R20: =IFERROR(VLOOKUP($B20,'Odont Integral'!$G$5:$L$19,5,FALSE),0) -> 0 | S20: 50 | T20: 0.54
B21: 04302-COMBARBALÁ | C21: =IFERROR(VLOOKUP($B21,'POI Datos'!$H$3:$M$61,2,FALSE),0) -> 0 | D21: 24 | E21: 0.26666667 | F21: 0 | G21: 1 | H21: 0 | I21: =IFERROR(VLOOKUP($B21,'Odont Integral'!$G$5:$L$19,2,FALSE),0) -> 0 | J21: 71 | K21: 0.46464646 | L21: 0 | M21: 5 | N21: 0 | O21: =IFERROR(VLOOKUP($B21,'Odont Integral'!$G$5:$L$19,3,FALSE),0) -> 0 | P21: 0 | Q21: 0 | R21: =IFERROR(VLOOKUP($B21,'Odont Integral'!$G$5:$L$19,5,FALSE),0) -> 0 | S21: 70 | T21: 1.0428571
B22: 04201-ILLAPEL | C22: =IFERROR(VLOOKUP($B22,'POI Datos'!$H$3:$M$61,2,FALSE),0) -> 19 | D22: 71 | E22: 1 | F22: 0 | G22: 2 | H22: 0 | I22: =IFERROR(VLOOKUP($B22,'Odont Integral'!$G$5:$L$19,2,FALSE),0) -> 9 | J22: 214 | K22: 0.87457627 | L22: 0 | M22: 15 | N22: 2.0666667 | O22: =IFERROR(VLOOKUP($B22,'Odont Integral'!$G$5:$L$19,3,FALSE),0) -> 52 | P22: 150 | Q22: 1.06 | R22: =IFERROR(VLOOKUP($B22,'Odont Integral'!$G$5:$L$19,5,FALSE),0) -> 59 | S22: 75 | T22: 0.92
B23: 04204-SALAMANCA | C23: =IFERROR(VLOOKUP($B23,'POI Datos'!$H$3:$M$61,2,FALSE),0) -> 28 | D23: 32 | E23: 1.2380952 | F23: 0 | G23: 2 | H23: 1.5 | I23: =IFERROR(VLOOKUP($B23,'Odont Integral'!$G$5:$L$19,2,FALSE),0) -> 14 | J23: 97 | K23: 1.1203704 | L23: 0 | M23: 6 | N23: 1 | O23: =IFERROR(VLOOKUP($B23,'Odont Integral'!$G$5:$L$19,3,FALSE),0) -> 30 | P23: 0 | Q23: 0 | R23: =IFERROR(VLOOKUP($B23,'Odont Integral'!$G$5:$L$19,5,FALSE),0) -> 0 | S23: 46 | T23: 1
... B25: 04202-CANELA | C25: =IFERROR(VLOOKUP($B25,'POI Datos'!$H$3:$M$61,2,FALSE),0) -> 18 | D25: 49 | E25: 0.92 | F25: 0 | G25: 2 | H25: 1 | I25: =IFERROR(VLOOKUP($B25,'Odont Integral'!$G$5:$L$19,2,FALSE),0) -> 0 | J25: 146 | K25: 0.88709677 | L25: 0 | M25: 10 | N25: 1 | O25: =IFERROR(VLOOKUP($B25,'Odont Integral'!$G$5:$L$19,3,FALSE),0) -> 0 | P25: 75 | Q25: 1 | R25: =IFERROR(VLOOKUP($B25,'Odont Integral'!$G$5:$L$19,5,FALSE),0) -> 0 | S25: 42 | T25: 0.19047619
B26: HOSPITAL
B27: 105104-HOSPITAL SALAMANCA | C27: =IFERROR(VLOOKUP($B27,'POI Datos'!$H$3:$M$61,2,FALSE),0) -> 0 | D27: 29 | E27: #DIV/0! | F27: 0 | G27: 10 | H27: #DIV/0! | I27: =IFERROR(VLOOKUP($B27,'Odont Integral'!$G$5:$L$19,2,FALSE),0) -> 0 | J27: 210 | K27: #DIV/0! | L27: 0 | M27: 14 | N27: #DIV/0! | O27: =IFERROR(VLOOKUP($B27,'Odont Integral'!$G$5:$L$19,3,FALSE),0) -> 2 | P27: 60 | Q27: #DIV/0! | R27: =IFERROR(VLOOKUP($B27,'Odont Integral'!$G$5:$L$19,5,FALSE),0) -> 36 | S27: 5 | T27: #DIV/0!
B28: 105105-HOSPITAL COMBARBALÁ | C28: =IFERROR(VLOOKUP($B28,'POI Datos'!$H$3:$M$61,2,FALSE),0) -> 12 | D28: 16 | E28: #DIV/0! | F28: 0 | G28: 4 | H28: #DIV/0! | I28: =IFERROR(VLOOKUP($B28,'Odont Integral'!$G$5:$L$19,2,FALSE),0) -> 3 | J28: 95 | K28: #DIV/0! | L28: 0 | M28: 6 | N28: #DIV/0! | O28: =IFERROR(VLOOKUP($B28,'Odont Integral'!$G$5:$L$19,3,FALSE),0) -> 24 | P28: 80 | Q28: #DIV/0! | R28: =IFERROR(VLOOKUP($B28,'Odont Integral'!$G$5:$L$19,5,FALSE),0) -> 2 | S28: 8 | T28: #DIV/0!
B29: 105106-HOSPITAL ANDACOLLO | C29: =IFERROR(VLOOKUP($B29,'POI Datos'!$H$3:$M$61,2,FALSE),0) -> 6 | D29: 24 | E29: #DIV/0! | F29: 0 | G29: 6 | H29: #DIV/0! | I29: =IFERROR(VLOOKUP($B29,'Odont Integral'!$G$5:$L$19,2,FALSE),0) -> 6 | J29: 149 | K29: #DIV/0! | L29: 0 | M29: 10 | N29: #DIV/0! | O29: =IFERROR(VLOOKUP($B29,'Odont Integral'!$G$5:$L$19,3,FALSE),0) -> 47 | P29: 65 | Q29: #DIV/0! | R29: =IFERROR(VLOOKUP($B29,'Odont Integral'!$G$5:$L$19,5,FALSE),0) -> 8 | S29: 11 | T29: #DIV/0!
B30: 105107-HOSPITAL VICUÑA | C30: =IFERROR(VLOOKUP($B30,'POI Datos'!$H$3:$M$61,2,FALSE),0) -> 0 | D30: 29 | E30: #DIV/0! | F30: 0 | G30: 6 | H30: #DIV/0! | I30: =IFERROR(VLOOKUP($B30,'Odont Integral'!$G$5:$L$19,2,FALSE),0) -> 0 | J30: 184 | K30: #DIV/0! | L30: 0 | M30: 12 | N30: #DIV/0! | O30: =IFERROR(VLOOKUP($B30,'Odont Integral'!$G$5:$L$19,3,FALSE),0) -> 30 | P30: 65 | Q30: #DIV/0! | R30: =IFERROR(VLOOKUP($B30,'Odont Integral'!$G$5:$L$19,5,FALSE),0) -> 0 | S30: 7 | T30: #DIV/0!
B31: 105108-HOSPITAL LOS VILOS | C31: =IFERROR(VLOOKUP($B31,'POI Datos'!$H$3:$M$61,2,FALSE),0) -> 29 | D31: 22 | E31: #DIV/0! | F31: 0 | G31: 8 | H31: #DIV/0! | I31: =IFERROR(VLOOKUP($B31,'Odont Integral'!$G$5:$L$19,2,FALSE),0) -> 16 | J31: 210 | K31: #DIV/0! | L31: 0 | M31: 14 | N31: #DIV/0! | O31: =IFERROR(VLOOKUP($B31,'Odont Integral'!$G$5:$L$19,3,FALSE),0) -> 36 | P31: 30 | Q31: #DIV/0! | R31: =IFERROR(VLOOKUP($B31,'Odont Integral'!$G$5:$L$19,5,FALSE),0) -> 0 | S31: 11 | T31: #DIV/0!
B32: Fuente: REM A09

Sheet Sembrando Sonrisas
A1: MINISTERIO DE SALUD
A2: SERVICIO DE SALUD COQUIMBO
A3: DEPARTAMENTO DE GESTIÓN, PLANIFICACIÓN Y CONTROL
A4: SUBDEPTO. DE ESTADÍSTICAS Y GESTIÓN DE LA INFORMACIÓN
A5: AÑO 2023
B6: Programa Sembrando Sonrisas
B8: COMUNA | C8: COMPONENTE 1
C9: N° de sets de higiene oral entregados | F9: N° de niños(as) con exámen de salud bucal | I9: Aplicaciones de flúor barniz
C10: N° de sets de higiene oral entregados a niñas(os) de 2 a 5 años actual | D10: N° de set de higiene oral comprometidos a niñas(os) de 2 a 5 años año actual | E10: Indicador | F10: N° de niños(as) de 2 a 5 años con exámen de salud bucal realizados | G10: N° de niños(as) 2 a 5 años con examen de salud bucal comprometidos año actual | H10: Indicador | I10: N° de aplicaciones de flúor barniz a niñas(os) de 2 a 5 años realizadas año actual | J10: N° de niños(as) de 2 a 5 años con examen de salud bucal comprometidos año actual | K10: Indicador
B12: 04101-LA SERENA | C12: =IFERROR(VLOOKUP($B12,'SEM Datos'!$H$4:$I$80,2,FALSE),0) -> 3942 | D12: 5655 | E12: 1.6068461 | F12: =IFERROR(VLOOKUP($B12,'SEM Datos'!$H$4:$L$80,3,FALSE),0) -> 2962 | G12: 5055 | H12: 1.1573011 | I12: =IFERROR(VLOOKUP($B12,'SEM Datos'!$H$4:$L$80,4,FALSE),0) -> 2897 | J12: 10110 | K12: 0.59685398
B13: 04104-LA HIGUERA | C13: =IFERROR(VLOOKUP($B13,'SEM Datos'!$H$4:$I$80,2,FALSE),0) -> 104 | D13: 185 | E13: 1.53 | F13: =IFERROR(VLOOKUP($B13,'SEM Datos'!$H$4:$L$80,3,FALSE),0) -> 105 | G13: 185 | H13: 1.54 | I13: =IFERROR(VLOOKUP($B13,'SEM Datos'!$H$4:$L$80,4,FALSE),0) -> 104 | J13: 370 | K13: 0.69
B14: 04102-COQUIMBO | C14: =IFERROR(VLOOKUP($B14,'SEM Datos'!$H$4:$I$80,2,FALSE),0) -> 3451 | D14: 5450 | E14: 0.94254902 | F14: =IFERROR(VLOOKUP($B14,'SEM Datos'!$H$4:$L$80,3,FALSE),0) -> 2585 | G14: 5450 | H14: 0.9427451 | I14: =IFERROR(VLOOKUP($B14,'SEM Datos'!$H$4:$L$80,4,FALSE),0) -> 2584 | J14: 10900 | K14: 0.67558824
B15: 04106-VICUÑA | C15: =IFERROR(VLOOKUP($B15,'SEM Datos'!$H$4:$I$80,2,FALSE),0) -> 200 | D15: 330 | E15: 1.5259259 | F15: =IFERROR(VLOOKUP($B15,'SEM Datos'!$H$4:$L$80,3,FALSE),0) -> 200 | G15: 330 | H15: 1.112963 | I15: =IFERROR(VLOOKUP($B15,'SEM Datos'!$H$4:$L$80,4,FALSE),0) -> 143 | J15: 660 | K15: 0.55648148
B16: 04105-PAIHUANO | C16: =IFERROR(VLOOKUP($B16,'SEM Datos'!$H$4:$I$80,2,FALSE),0) -> 143 | D16: 150 | E16: 2.11 | F16: =IFERROR(VLOOKUP($B16,'SEM Datos'!$H$4:$L$80,3,FALSE),0) -> 143 | G16: 150 | H16: 2.11 | I16: =IFERROR(VLOOKUP($B16,'SEM Datos'!$H$4:$L$80,4,FALSE),0) -> 143 | J16: 300 | K16: 1.005
B17: 04301-OVALLE | C17: =IFERROR(VLOOKUP($B17,'SEM Datos'!$H$4:$I$80,2,FALSE),0) -> 2668 | D17: 3270 | E17: 0.87770492 | F17: =IFERROR(VLOOKUP($B17,'SEM Datos'!$H$4:$L$80,3,FALSE),0) -> 2669 | G17: 3270 | H17: 0.87770492 | I17: =IFERROR(VLOOKUP($B17,'SEM Datos'!$H$4:$L$80,4,FALSE),0) -> 2805 | J17: 6540 | K17: 0.72196721
B18: 04305-RIO HURTADO | C18: =IFERROR(VLOOKUP($B18,'SEM Datos'!$H$4:$I$80,2,FALSE),0) -> 84 | D18: 90 | E18: 0.66 | F18: =IFERROR(VLOOKUP($B18,'SEM Datos'!$H$4:$L$80,3,FALSE),0) -> 53 | G18: 90 | H18: 0.66 | I18: =IFERROR(VLOOKUP($B18,'SEM Datos'!$H$4:$L$80,4,FALSE),0) -> 53 | J18: 180 | K18: 0.65
B19: 04303-MONTE PATRIA | C19: =IFERROR(VLOOKUP($B19,'SEM Datos'!$H$4:$I$80,2,FALSE),0) -> 235 | D19: 950 | E19: 0.92099448 | F19: =IFERROR(VLOOKUP($B19,'SEM Datos'!$H$4:$L$80,3,FALSE),0) -> 142 | G19: 1100 | H19: 0.92099448 | I19: =IFERROR(VLOOKUP($B19,'SEM Datos'!$H$4:$L$80,4,FALSE),0) -> 142 | J19: 2200 | K19: 0.92099448
B20: 04304-PUNITAQUI | C20: =IFERROR(VLOOKUP($B20,'SEM Datos'!$H$4:$I$80,2,FALSE),0) -> 238 | D20: 270 | E20: 0.027586207 | F20: =IFERROR(VLOOKUP($B20,'SEM Datos'!$H$4:$L$80,3,FALSE),0) -> 238 | G20: 270 | H20: 0.027586207 | I20: =IFERROR(VLOOKUP($B20,'SEM Datos'!$H$4:$L$80,4,FALSE),0) -> 238 | J20: 540 | K20: 0.013793103
B21: 04302-COMBARBALÁ | C21: =IFERROR(VLOOKUP($B21,'SEM Datos'!$H$4:$I$80,2,FALSE),0) -> 88 | D21: 120 | E21: 1.16 | F21: =IFERROR(VLOOKUP($B21,'SEM Datos'!$H$4:$L$80,3,FALSE),0) -> 82 | G21: 120 | H21: 1.83 | I21: =IFERROR(VLOOKUP($B21,'SEM Datos'!$H$4:$L$80,4,FALSE),0) -> 82 | J21: 240 | K21: 0.915
B22: 04201-ILLAPEL | C22: =IFERROR(VLOOKUP($B22,'SEM Datos'!$H$4:$I$80,2,FALSE),0) -> 926 | D22: 1100 | E22: 1.1185185 | F22: =IFERROR(VLOOKUP($B22,'SEM Datos'!$H$4:$L$80,3,FALSE),0) -> 926 | G22: 1100 | H22: 1.1185185 | I22: =IFERROR(VLOOKUP($B22,'SEM Datos'!$H$4:$L$80,4,FALSE),0) -> 926 | J22: 2200 | K22: 0.89074074
B23: 04204-SALAMANCA | C23: =IFERROR(VLOOKUP($B23,'SEM Datos'!$H$4:$I$80,2,FALSE),0) -> 443 | D23: 544 | E23: 1.05 | F23: =IFERROR(VLOOKUP($B23,'SEM Datos'!$H$4:$L$80,3,FALSE),0) -> 443 | G23: 544 | H23: 1.0518519 | I23: =IFERROR(VLOOKUP($B23,'SEM Datos'!$H$4:$L$80,4,FALSE),0) -> 443 | J23: 1088 | K23: 0.82962963
... B25: 04202-CANELA | C25: =IFERROR(VLOOKUP($B25,'SEM Datos'!$H$4:$I$80,2,FALSE),0) -> 201 | D25: 230 | E25: 1.35 | F25: =IFERROR(VLOOKUP($B25,'SEM Datos'!$H$4:$L$80,3,FALSE),0) -> 179 | G25: 230 | H25: 1.35 | I25: =IFERROR(VLOOKUP($B25,'SEM Datos'!$H$4:$L$80,4,FALSE),0) -> 179 | J25: 460 | K25: 0.6725
B26: HOSPITAL
B27: 105104-HOSPITAL SALAMANCA | C27: =IFERROR(VLOOKUP($B27,'SEM Datos'!$H$4:$I$80,2,FALSE),0) -> 0 | D27: 270 | E27: #DIV/0! | F27: =IFERROR(VLOOKUP($B27,'SEM Datos'!$H$4:$L$80,3,FALSE),0) -> 0 | G27: 270 | H27: #DIV/0! | I27: =IFERROR(VLOOKUP($B27,'SEM Datos'!$H$4:$L$80,4,FALSE),0) -> 0 | J27: 540 | K27: #DIV/0!
B28: 105105-HOSPITAL COMBARBALÁ | C28: =IFERROR(VLOOKUP($B28,'SEM Datos'!$H$4:$I$80,2,FALSE),0) -> 178 | D28: 170 | E28: #DIV/0! | F28: =IFERROR(VLOOKUP($B28,'SEM Datos'!$H$4:$L$80,3,FALSE),0) -> 178 | G28: 170 | H28: #DIV/0! | I28: =IFERROR(VLOOKUP($B28,'SEM Datos'!$H$4:$L$80,4,FALSE),0) -> 178 | J28: 340 | K28: #DIV/0!
B29: 105106-HOSPITAL ANDACOLLO | C29: =IFERROR(VLOOKUP($B29,'SEM Datos'!$H$4:$I$80,2,FALSE),0) -> 287 | D29: 350 | E29: #DIV/0! | F29: =IFERROR(VLOOKUP($B29,'SEM Datos'!$H$4:$L$80,3,FALSE),0) -> 287 | G29: 350 | H29: #DIV/0! | I29: =IFERROR(VLOOKUP($B29,'SEM Datos'!$H$4:$L$80,4,FALSE),0) -> 287 | J29: 700 | K29: #DIV/0!
B30: 105107-HOSPITAL VICUÑA | C30: =IFERROR(VLOOKUP($B30,'SEM Datos'!$H$4:$I$80,2,FALSE),0) -> 0 | D30: 313 | E30: #DIV/0! | F30: =IFERROR(VLOOKUP($B30,'SEM Datos'!$H$4:$L$80,3,FALSE),0) -> 0 | G30: 313 | H30: #DIV/0! | I30: =IFERROR(VLOOKUP($B30,'SEM Datos'!$H$4:$L$80,4,FALSE),0) -> 0 | J30: 626 | K30: #DIV/0!
B31: 105108-HOSPITAL LOS VILOS | C31: =IFERROR(VLOOKUP($B31,'SEM Datos'!$H$4:$I$80,2,FALSE),0) -> 223 | D31: 300 | E31: #DIV/0! | F31: =IFERROR(VLOOKUP($B31,'SEM Datos'!$H$4:$L$80,3,FALSE),0) -> 192 | G31: 300 | H31: #DIV/0! | I31: =IFERROR(VLOOKUP($B31,'SEM Datos'!$H$4:$L$80,4,FALSE),0) -> 169 | J31: 600 | K31: #DIV/0!
B32: Fuente: REM A09

Sheet Sembrando S
A1: Comuna | B1: Comuna | C1: Mes | D1: Total | E1: Posición
A2: 105105 | B2: =IFERROR(VLOOKUP(A2,'[1]Establecimiento 2023'!$A$1:$E$183,5,FALSE),0) -> 105105-Hospital Combarbalá | C2: 4 | D2: 148 | E2: 1 | G2: Mes | H2: (Todas)
A3: 105105 | B3: =IFERROR(VLOOKUP(A3,'[1]Establecimiento 2023'!$A$1:$E$183,5,FALSE),0) -> 105105-Hospital Combarbalá | C3: 5 | D3: 7 | E3: 1
A4: 105300 | B4: =IFERROR(VLOOKUP(A4,'[1]Establecimiento 2023'!$A$1:$E$183,5,FALSE),0) -> 04101-La Serena | C4: 1 | D4: 21 | E4: 1 | G4: Suma de Total | H4: Etiquetas de columna
A5: 105300 | B5: =IFERROR(VLOOKUP(A5,'[1]Establecimiento 2023'!$A$1:$E$183,5,FALSE),0) -> 04101-La Serena | C5: 3 | D5: 755 | E5: 1 | G5: Etiquetas de fila | H5: 1 | I5: 2 | J5: 3 | K5: Total general
A6: 105300 | B6: =IFERROR(VLOOKUP(A6,'[1]Establecimiento 2023'!$A$1:$E$183,5,FALSE),0) -> 04101-La Serena | C6: 4 | D6: 175 | E6: 1 | G6: 04101-La Serena | H6: 3013 | I6: 2309 | J6: 2244 | K6: 7566
A7: 105300 | B7: =IFERROR(VLOOKUP(A7,'[1]Establecimiento 2023'!$A$1:$E$183,5,FALSE),0) -> 04101-La Serena | C7: 5 | D7: 65 | E7: 1 | G7: 04102-Coquimbo | H7: 1728 | I7: 1629 | J7: 1628 | K7: 4985
A8: 105301 | B8: =IFERROR(VLOOKUP(A8,'[1]Establecimiento 2023'!$A$1:$E$183,5,FALSE),0) -> 04101-La Serena | C8: 1 | D8: 183 | E8: 1 | G8: 04104-La Higuera | H8: 99 | I8: 100 | J8: 79 | K8: 278
A9: 105302 | B9: =IFERROR(VLOOKUP(A9,'[1]Establecimiento 2023'!$A$1:$E$183,5,FALSE),0) -> 04101-La Serena | C9: 1 | D9: 153 | E9: 1 | G9: 04105-Paihuano | H9: 143 | I9: 143 | J9: 143 | K9: 429
A10: 105303 | B10: =IFERROR(VLOOKUP(A10,'[1]Establecimiento 2023'!$A$1:$E$183,5,FALSE),0) -> 04102-Coquimbo | C10: 3 | D10: 59 | E10: 1 | G10: 04106-Vicuña | H10: 138 | I10: 138 | J10: 81 | K10: 357
A11: 105303 | B11: =IFERROR(VLOOKUP(A11,'[1]Establecimiento 2023'!$A$1:$E$183,5,FALSE),0) -> 04102-Coquimbo | C11: 4 | D11: 75 | E11: 1 | G11: 04201-Illapel | H11: 534 | I11: 534 | J11: 534 | K11: 1602
A12: 105304 | B12: =IFERROR(VLOOKUP(A12,'[1]Establecimiento 2023'!$A$1:$E$183,5,FALSE),0) -> 04102-Coquimbo | C12: 4 | D12: 199 | E12: 1 | G12: 04202-Canela | H12: 153 | I12: 134 | J12: 134 | K12: 421
A13: 105305 | B13: =IFERROR(VLOOKUP(A13,'[1]Establecimiento 2023'!$A$1:$E$183,5,FALSE),0) -> 04102-Coquimbo | C13: 3 | D13: 345 | E13: 1 | G13: 04203-Los Vilos | H13: 121 | I13: 121 | J13: 121 | K13: 363
A14: 105305 | B14: =IFERROR(VLOOKUP(A14,'[1]Establecimiento 2023'!$A$1:$E$183,5,FALSE),0) -> 04102-Coquimbo | C14: 4 | D14: 170 | E14: 1 | G14: 04204-Salamanca | H14: 360 | I14: 360 | J14: 360 | K14: 1080
A15: 105306 | B15: =IFERROR(VLOOKUP(A15,'[1]Establecimiento 2023'!$A$1:$E$183,5,FALSE),0) -> 04105-Paihuano | C15: 4 | D15: 70 | E15: 1 | G15: 04301-Ovalle | H15: 2286 | I15: 2287 | J15: 2286 | K15: 6859
A16: 105309 | B16: =IFERROR(VLOOKUP(A16,'[1]Establecimiento 2023'!$A$1:$E$183,5,FALSE),0) -> 04202-Canela | C16: 4 | D16: 122 | E16: 1 | G16: 04302-Combarbalá | H16: 63 | I16: 63 | J16: 63 | K16: 189
A17: 105309 | B17: =IFERROR(VLOOKUP(A17,'[1]Establecimiento 2023'!$A$1:$E$183,5,FALSE),0) -> 04202-Canela | C17: 5 | D17: 31 | E17: 1 | G17: 105105-Hospital Combarbalá | H17: 155 | I17: 155 | J17: 155 | K17: 465
A18: 105313 | B18: =IFERROR(VLOOKUP(A18,'[1]Establecimiento 2023'!$A$1:$E$183,5,FALSE),0) -> 04101-La Serena | C18: 4 | D18: 280 | E18: 1 | G18: Total general | H18: 8793 | I18: 7973 | J18: 7828 | K18: 24594
A19: 105313 | B19: =IFERROR(VLOOKUP(A19,'[1]Establecimiento 2023'!$A$1:$E$183,5,FALSE),0) -> 04101-La Serena | C19: 5 | D19: 142 | E19: 1
A20: 105314 | B20: =IFERROR(VLOOKUP(A20,'[1]Establecimiento 2023'!$A$1:$E$183,5,FALSE),0) -> 04104-La Higuera | C20: 5 | D20: 37 | E20: 1
A21: 105319 | B21: =IFERROR(VLOOKUP(A21,'[1]Establecimiento 2023'!$A$1:$E$183,5,FALSE),0) -> 04101-La Serena | C21: 1 | D21: 278 | E21: 1
A22: 105321 | B22: =IFERROR(VLOOKUP(A22,'[1]Establecimiento 2023'!$A$1:$E$183,5,FALSE),0) -> 04102-Coquimbo | C22: 4 | D22: 149 | E22: 1
A23: 105323 | B23: =IFERROR(VLOOKUP(A23,'[1]Establecimiento 2023'!$A$1:$E$183,5,FALSE),0) -> 04102-Coquimbo | C23: 3 | D23: 214 | E23: 1
A24: 105323 | B24: =IFERROR(VLOOKUP(A24,'[1]Establecimiento 2023'!$A$1:$E$183,5,FALSE),0) -> 04102-Coquimbo | C24: 4 | D24: 97 | E24: 1
A25: 105325 | B25: =IFERROR(VLOOKUP(A25,'[1]Establecimiento 2023'!$A$1:$E$183,5,FALSE),0) -> 04101-La Serena | C25: 5 | D25: 596 | E25: 1
A26: 105434 | B26: =IFERROR(VLOOKUP(A26,'[1]Establecimiento 2023'!$A$1:$E$183,5,FALSE),0) -> 04302-Combarbalá | C26: 4 | D26: 15 | E26: 1
A27: 105452 | B27: =IFERROR(VLOOKUP(A27,'[1]Establecimiento 2023'!$A$1:$E$183,5,FALSE),0) -> 04204-Salamanca | C27: 5 | D27: 24 | E27: 1
A28: 105453 | B28: =IFERROR(VLOOKUP(A28,'[1]Establecimiento 2023'!$A$1:$E$183,5,FALSE),0) -> 04204-Salamanca | C28: 4 | D28: 27 | E28: 1
A29: 105453 | B29: =IFERROR(VLOOKUP(A29,'[1]Establecimiento 2023'!$A$1:$E$183,5,FALSE),0) -> 04204-Salamanca | C29: 5 | D29: 29 | E29: 1
A30: 105455 | B30: =IFERROR(VLOOKUP(A30,'[1]Establecimiento 2023'!$A$1:$E$183,5,FALSE),0) -> 04204-Salamanca | C30: 4 | D30: 62 | E30: 1
... A194: 200569 | B194: =IFERROR(VLOOKUP(A194,'[1]Establecimiento 2023'!$A$1:$E$183,5,FALSE),0) -> 04301-Ovalle | C194: 5 | D194: 858 | E194: 3

Sheet GES Odontológico
A1: MINISTERIO DE SALUD
A2: SERVICIO DE SALUD COQUIMBO
A3: DEPARTAMENTO DE GESTIÓN, PLANIFICACIÓN Y CONTROL
A4: SUBDEPTO. DE ESTADÍSTICAS Y GESTIÓN DE LA INFORMACIÓN
A5: AÑO 2023
B6: Programa GES Odontológico
B8: COMUNA | C8: COMPONENTE 1 | F8: COMPONENTE 2 | I8: COMPONENTE 3 | L8: COMPONENTE 4
C9: Salud oral integral para niños y niñas de 6 años | F9: Salud Oral Integral de la Embarazada | I9: Urgencia Odontológica Ambulatoria | L9: Salud oral integral del adulto de 60 años
C10: N° de niños(as) de 6 años con ceod igual a 0 en el año/Numero Total niños(as) de 6 años inscritos validados en el mismo año | D10: Poblacion inscrita y validada año actual de niñas y niños de 6 años | E10: Indicador | F10: Número de altas odontológicas totales en embarazadas realizadas el año actual | G10: Total de gestantes ingresadas a programa prenatal año actual | H10: Indicador | I10: Número total de consultas odontológicas de urgencia GES realizadas en el año actual | J10: Población inscrita año actual | K10: Indicador | L10: Número de altas odontológicas integrales GES de adultos de 60 años realizadas el año actual | M10: Total de altas integrales comprometidas GES de adultos de 60 años | N10: Indicador
B12: 04101-LA SERENA | C12: =IFERROR(VLOOKUP($B12,'GES Datos'!$H$4:$N$159,2,FALSE),0) -> 641 | D12: 2317 | E12: #DIV/0! | F12: =IFERROR(VLOOKUP($B12,'GES Datos'!$H$4:$N$159,3,FALSE),0) -> 370 | G12: =IFERROR(VLOOKUP($B12,'GES Datos'!$H$4:$N$159,4,FALSE),0) -> 1257 | H12: 0.2937588 | I12: =IFERROR(VLOOKUP($B12,'GES Datos'!$H$4:$N$159,5,FALSE),0) -> 1546 | J12: 208967 | K12: #DIV/0! | L12: =IFERROR(VLOOKUP($B12,'GES Datos'!$H$4:$N$159,6,FALSE),0) -> 111 | M12: 460 | N12: 0.50930233
B13: 04104-LA HIGUERA | C13: =IFERROR(VLOOKUP($B13,'GES Datos'!$H$4:$N$159,2,FALSE),0) -> 7 | D13: 1 | E13: #DIV/0! | F13: =IFERROR(VLOOKUP($B13,'GES Datos'!$H$4:$N$159,3,FALSE),0) -> 11 | G13: =IFERROR(VLOOKUP($B13,'GES Datos'!$H$4:$N$159,4,FALSE),0) -> 41 | H13: 0.79166667 | I13: =IFERROR(VLOOKUP($B13,'GES Datos'!$H$4:$N$159,5,FALSE),0) -> 9 | J13: 165 | K13: #DIV/0! | L13: =IFERROR(VLOOKUP($B13,'GES Datos'!$H$4:$N$159,6,FALSE),0) -> 0 | M13: 13 | N13: 0
B14: 04102-COQUIMBO | C14: =IFERROR(VLOOKUP($B14,'GES Datos'!$H$4:$N$159,2,FALSE),0) -> 337 | D14: 2497 | E14: #DIV/0! | F14: =IFERROR(VLOOKUP($B14,'GES Datos'!$H$4:$N$159,3,FALSE),0) -> 85 | G14: =IFERROR(VLOOKUP($B14,'GES Datos'!$H$4:$N$159,4,FALSE),0) -> 1204 | H14: 0.064929329 | I14: =IFERROR(VLOOKUP($B14,'GES Datos'!$H$4:$N$159,5,FALSE),0) -> 1205 | J14: 206705 | K14: #DIV/0! | L14: =IFERROR(VLOOKUP($B14,'GES Datos'!$H$4:$N$159,6,FALSE),0) -> 45 | M14: 455 | N14: 0.58823529
B15: 04106-VICUÑA | C15: =IFERROR(VLOOKUP($B15,'GES Datos'!$H$4:$N$159,2,FALSE),0) -> 57 | D15: 120 | E15: #DIV/0! | F15: =IFERROR(VLOOKUP($B15,'GES Datos'!$H$4:$N$159,3,FALSE),0) -> 8 | G15: =IFERROR(VLOOKUP($B15,'GES Datos'!$H$4:$N$159,4,FALSE),0) -> 62 | H15: 0.27927928 | I15: =IFERROR(VLOOKUP($B15,'GES Datos'!$H$4:$N$159,5,FALSE),0) -> 72 | J15: 15316 | K15: #DIV/0! | L15: =IFERROR(VLOOKUP($B15,'GES Datos'!$H$4:$N$159,6,FALSE),0) -> 0 | M15: 30 | N15: 0.83333333
B16: 04105-PAIHUANO | C16: =IFERROR(VLOOKUP($B16,'GES Datos'!$H$4:$N$159,2,FALSE),0) -> 31 | D16: 22 | E16: #DIV/0! | F16: =IFERROR(VLOOKUP($B16,'GES Datos'!$H$4:$N$159,3,FALSE),0) -> 23 | G16: =IFERROR(VLOOKUP($B16,'GES Datos'!$H$4:$N$159,4,FALSE),0) -> 23 | H16: 0.57894737 | I16: =IFERROR(VLOOKUP($B16,'GES Datos'!$H$4:$N$159,5,FALSE),0) -> 25 | J16: 2366 | K16: #DIV/0! | L16: =IFERROR(VLOOKUP($B16,'GES Datos'!$H$4:$N$159,6,FALSE),0) -> 0 | M16: 16 | N16: 0.125
B17: 04301-OVALLE | C17: =IFERROR(VLOOKUP($B17,'GES Datos'!$H$4:$N$159,2,FALSE),0) -> 255 | D17: 1434 | E17: #DIV/0! | F17: =IFERROR(VLOOKUP($B17,'GES Datos'!$H$4:$N$159,3,FALSE),0) -> 37 | G17: =IFERROR(VLOOKUP($B17,'GES Datos'!$H$4:$N$159,4,FALSE),0) -> 537 | H17: 0.060576923 | I17: =IFERROR(VLOOKUP($B17,'GES Datos'!$H$4:$N$159,5,FALSE),0) -> 1308 | J17: 109710 | K17: #DIV/0! | L17: =IFERROR(VLOOKUP($B17,'GES Datos'!$H$4:$N$159,6,FALSE),0) -> 58 | M17: 215 | N17: 1
B18: 04305-RIO HURTADO | C18: =IFERROR(VLOOKUP($B18,'GES Datos'!$H$4:$N$159,2,FALSE),0) -> 5 | D18: 42 | E18: #DIV/0! | F18: =IFERROR(VLOOKUP($B18,'GES Datos'!$H$4:$N$159,3,FALSE),0) -> 5 | G18: =IFERROR(VLOOKUP($B18,'GES Datos'!$H$4:$N$159,4,FALSE),0) -> 18 | H18: 0.19354839 | I18: =IFERROR(VLOOKUP($B18,'GES Datos'!$H$4:$N$159,5,FALSE),0) -> 25 | J18: 4643 | K18: #DIV/0! | L18: =IFERROR(VLOOKUP($B18,'GES Datos'!$H$4:$N$159,6,FALSE),0) -> 1 | M18: 17 | N18: 0.41176471
B19: 04303-MONTE PATRIA | C19: =IFERROR(VLOOKUP($B19,'GES Datos'!$H$4:$N$159,2,FALSE),0) -> 90 | D19: 381 | E19: #DIV/0! | F19: =IFERROR(VLOOKUP($B19,'GES Datos'!$H$4:$N$159,3,FALSE),0) -> 19 | G19: =IFERROR(VLOOKUP($B19,'GES Datos'!$H$4:$N$159,4,FALSE),0) -> 172 | H19: 0.27430556 | I19: =IFERROR(VLOOKUP($B19,'GES Datos'!$H$4:$N$159,5,FALSE),0) -> 804 | J19: 33188 | K19: #DIV/0! | L19: =IFERROR(VLOOKUP($B19,'GES Datos'!$H$4:$N$159,6,FALSE),0) -> 0 | M19: 63 | N19: 0.68253968
B20: 04304-PUNITAQUI | C20: =IFERROR(VLOOKUP($B20,'GES Datos'!$H$4:$N$159,2,FALSE),0) -> 44 | D20: 128 | E20: #DIV/0! | F20: =IFERROR(VLOOKUP($B20,'GES Datos'!$H$4:$N$159,3,FALSE),0) -> 22 | G20: =IFERROR(VLOOKUP($B20,'GES Datos'!$H$4:$N$159,4,FALSE),0) -> 74 | H20: 0.43307087 | I20: =IFERROR(VLOOKUP($B20,'GES Datos'!$H$4:$N$159,5,FALSE),0) -> 121 | J20: 13107 | K20: #DIV/0! | L20: =IFERROR(VLOOKUP($B20,'GES Datos'!$H$4:$N$159,6,FALSE),0) -> 14 | M20: 30 | N20: 0.2
B21: 04302-COMBARBALÁ | C21: =IFERROR(VLOOKUP($B21,'GES Datos'!$H$4:$N$159,2,FALSE),0) -> 8 | D21: 42 | E21: #DIV/0! | F21: =IFERROR(VLOOKUP($B21,'GES Datos'!$H$4:$N$159,3,FALSE),0) -> 4 | G21: =IFERROR(VLOOKUP($B21,'GES Datos'!$H$4:$N$159,4,FALSE),0) -> 9 | H21: 0.61290323 | I21: =IFERROR(VLOOKUP($B21,'GES Datos'!$H$4:$N$159,5,FALSE),0) -> 18 | J21: 6345 | K21: #DIV/0! | L21: =IFERROR(VLOOKUP($B21,'GES Datos'!$H$4:$N$159,6,FALSE),0) -> 0 | M21: 20 | N21: 0.6
B22: 04201-ILLAPEL | C22: =IFERROR(VLOOKUP($B22,'GES Datos'!$H$4:$N$159,2,FALSE),0) -> 52 | D22: 379 | E22: #DIV/0! | F22: =IFERROR(VLOOKUP($B22,'GES Datos'!$H$4:$N$159,3,FALSE),0) -> 42 | G22: =IFERROR(VLOOKUP($B22,'GES Datos'!$H$4:$N$159,4,FALSE),0) -> 128 | H22: 0.42035398 | I22: =IFERROR(VLOOKUP($B22,'GES Datos'!$H$4:$N$159,5,FALSE),0) -> 342 | J22: 29312 | K22: #DIV/0! | L22: =IFERROR(VLOOKUP($B22,'GES Datos'!$H$4:$N$159,6,FALSE),0) -> 10 | M22: 55 | N22: 0.67272727
B23: 04204-SALAMANCA | C23: =IFERROR(VLOOKUP($B23,'GES Datos'!$H$4:$N$159,2,FALSE),0) -> 19 | D23: 88 | E23: #DIV/0! | F23: =IFERROR(VLOOKUP($B23,'GES Datos'!$H$4:$N$159,3,FALSE),0) -> 10 | G23: =IFERROR(VLOOKUP($B23,'GES Datos'!$H$4:$N$159,4,FALSE),0) -> 26 | H23: 0.57746479 | I23: =IFERROR(VLOOKUP($B23,'GES Datos'!$H$4:$N$159,5,FALSE),0) -> 193 | J23: 12715 | K23: #DIV/0! | L23: =IFERROR(VLOOKUP($B23,'GES Datos'!$H$4:$N$159,6,FALSE),0) -> 0 | M23: 35 | N23: 1.0857143
... B25: 04202-CANELA | C25: =IFERROR(VLOOKUP($B25,'GES Datos'!$H$4:$N$159,2,FALSE),0) -> 29 | D25: 83 | E25: #DIV/0! | F25: =IFERROR(VLOOKUP($B25,'GES Datos'!$H$4:$N$159,3,FALSE),0) -> 5 | G25: =IFERROR(VLOOKUP($B25,'GES Datos'!$H$4:$N$159,4,FALSE),0) -> 37 | H25: 0.28735632 | I25: =IFERROR(VLOOKUP($B25,'GES Datos'!$H$4:$N$159,5,FALSE),0) -> 273 | J25: 9685 | K25: #DIV/0! | L25: =IFERROR(VLOOKUP($B25,'GES Datos'!$H$4:$N$159,6,FALSE),0) -> 0 | M25: 35 | N25: 1
B26: HOSPITAL
B27: 105104-HOSPITAL SALAMANCA | C27: =IFERROR(VLOOKUP($B27,'GES Datos'!$H$4:$N$159,2,FALSE),0) -> 12 | D27: 294 | E27: #DIV/0! | F27: =IFERROR(VLOOKUP($B27,'GES Datos'!$H$4:$N$159,3,FALSE),0) -> 20 | G27: =IFERROR(VLOOKUP($B27,'GES Datos'!$H$4:$N$159,4,FALSE),0) -> 110 | H27: 0.42346939 | I27: =IFERROR(VLOOKUP($B27,'GES Datos'!$H$4:$N$159,5,FALSE),0) -> 846 | J27: 16585 | K27: #DIV/0! | L27: =IFERROR(VLOOKUP($B27,'GES Datos'!$H$4:$N$159,6,FALSE),0) -> 13 | M27: 54 | N27: #DIV/0!
B28: 105105-HOSPITAL COMBARBALÁ | C28: =IFERROR(VLOOKUP($B28,'GES Datos'!$H$4:$N$159,2,FALSE),0) -> 39 | D28: 115 | E28: #DIV/0! | F28: =IFERROR(VLOOKUP($B28,'GES Datos'!$H$4:$N$159,3,FALSE),0) -> 29 | G28: =IFERROR(VLOOKUP($B28,'GES Datos'!$H$4:$N$159,4,FALSE),0) -> 24 | H28: 0.98305085 | I28: =IFERROR(VLOOKUP($B28,'GES Datos'!$H$4:$N$159,5,FALSE),0) -> 168 | J28: 6921 | K28: #DIV/0! | L28: =IFERROR(VLOOKUP($B28,'GES Datos'!$H$4:$N$159,6,FALSE),0) -> 4 | M28: 18 | N28: #DIV/0!
B29: 105106-HOSPITAL ANDACOLLO | C29: =IFERROR(VLOOKUP($B29,'GES Datos'!$H$4:$N$159,2,FALSE),0) -> 24 | D29: 23 | E29: #DIV/0! | F29: =IFERROR(VLOOKUP($B29,'GES Datos'!$H$4:$N$159,3,FALSE),0) -> 26 | G29: =IFERROR(VLOOKUP($B29,'GES Datos'!$H$4:$N$159,4,FALSE),0) -> 56 | H29: 0.39622642 | I29: =IFERROR(VLOOKUP($B29,'GES Datos'!$H$4:$N$159,5,FALSE),0) -> 194 | J29: 11044 | K29: #DIV/0! | L29: =IFERROR(VLOOKUP($B29,'GES Datos'!$H$4:$N$159,6,FALSE),0) -> 3 | M29: 26 | N29: #DIV/0!
B30: 105107-HOSPITAL VICUÑA | C30: =IFERROR(VLOOKUP($B30,'GES Datos'!$H$4:$N$159,2,FALSE),0) -> 14 | D30: 306 | E30: #DIV/0! | F30: =IFERROR(VLOOKUP($B30,'GES Datos'!$H$4:$N$159,3,FALSE),0) -> 44 | G30: =IFERROR(VLOOKUP($B30,'GES Datos'!$H$4:$N$159,4,FALSE),0) -> 79 | H30: 0.3203125 | I30: =IFERROR(VLOOKUP($B30,'GES Datos'!$H$4:$N$159,5,FALSE),0) -> 156 | J30: 12490 | K30: #DIV/0! | L30: =IFERROR(VLOOKUP($B30,'GES Datos'!$H$4:$N$159,6,FALSE),0) -> 1 | M30: 40 | N30: #DIV/0!
B31: 105108-HOSPITAL LOS VILOS | C31: =IFERROR(VLOOKUP($B31,'GES Datos'!$H$4:$N$159,2,FALSE),0) -> 32 | D31: 182 | E31: #DIV/0! | F31: =IFERROR(VLOOKUP($B31,'GES Datos'!$H$4:$N$159,3,FALSE),0) -> 65 | G31: =IFERROR(VLOOKUP($B31,'GES Datos'!$H$4:$N$159,4,FALSE),0) -> 82 | H31: 0.20915033 | I31: =IFERROR(VLOOKUP($B31,'GES Datos'!$H$4:$N$159,5,FALSE),0) -> 102 | J31: 14081 | K31: #DIV/0! | L31: =IFERROR(VLOOKUP($B31,'GES Datos'!$H$4:$N$159,6,FALSE),0) -> 0 | M31: 42 | N31: #DIV/0!
B32: Fuente: REM A09

Sheet Hoja1

Sheet IAAPS
A1: MINISTERIO DE SALUD
A2: SERVICIO DE SALUD COQUIMBO
A3: DEPARTAMENTO DE GESTIÓN, PLANIFICACIÓN Y CONTROL
A4: SUBDEPTO. DE ESTADÍSTICAS Y GESTIÓN DE LA INFORMACIÓN
A5: AÑO 2023 | B5: Metas Indice de Actividad en Atención Primaria de Salud (IAAPS)
B8: COMUNA | C8: META 9 | G8: META 17
C9: PORCENTAJE DE CONSULTAS DE MORBILIDAD ODONTOLÓGICA EN POBLACIÓN DE 0 A 19 AÑOS (23%) | G9: PROPORCIÓN DE NIÑAS Y NIÑOS MENORES DE 3 AÑOS LIBRE DE CARIES EN POBLACIÓN INSCRITA
C10: N° de consultas morbilidad realizadas en población de 0 a 19 años | D10: META | F10: Poblacion de 0 a 19 años inscrita 2023 | G10: N° de niños y niñas de 3 años con registro ceod=0 | H10: META | J10: Población menores de 3 años inscrita a diciembre 2022
D11: N° | E11: % | H11: N° | I11: %
B13: 04101-LA SERENA | D13: 24125 | E13: 48 | F13: 50262 | H13: 2592 | I13: 60 | J13: 4320
B14: 04104-LA HIGUERA | D14: 281 | E14: 23.03 | F14: 1220 | H14: 104 | I14: 60.12 | J14: 173
B15: 04102-COQUIMBO | D15: 14864 | E15: 28 | F15: 53086 | H15: 3090 | I15: 60 | J15: 5149
B16: 04106-VICUÑA | D16: 995 | E16: 31 | F16: 3210 | H16: 155 | I16: 100 | J16: 172
B17: 04105-PAIHUANO | D17: 473 | E17: 47.97 | F17: 986 | H17: 80 | I17: 60.61 | J17: 132
B18: 04301-OVALLE | D18: 13121 | E18: 46 | F18: 28523 | H18: 1604 | I18: 61 | J18: 2630
B19: 04305-RIO HURTADO | D19: 601 | E19: 62.02 | F19: 969 | H19: 41 | I19: 65.1 | J19: 63
B20: 04303-MONTE PATRIA | D20: 3577 | E20: 45.01 | F20: 7948 | H20: 519 | I20: 100 | J20: 576
B21: 04304-PUNITAQUI | D21: 990 | E21: 28.99 | F21: 3415 | H21: 201 | I21: 60 | J21: 335
B22: 04302-COMBARBALÁ | D22: 403 | E22: 43.01 | F22: 937 | H22: 45 | I22: 100 | J22: 49
B23: 04201-ILLAPEL | D23: 2644 | E23: 37 | F23: 7146 | H23: 457 | I23: 86.1 | J23: 531
B24: 04204-SALAMANCA | D24: 1322 | E24: 54.99 | F24: 2404 | H24: 43 | I24: 100 | J24: 48
... B26: 04202-CANELA | D26: 520 | E26: 27.01 | F26: 1903 | H26: 73 | I26: 62.4 | J26: 117
B27: 105012-Clínica Dental Móvil
B28: HOSPITAL
B29: 105104-HOSPITAL SALAMANCA | D29: =(F29*0.23) -> 1123.55 | E29: 23 | F29: 4885 | H29: =(J29*0.6) -> 548.4 | I29: 60 | J29: 914
B30: 105105-HOSPITAL COMBARBALÁ | D30: =(F30*0.23) -> 483.46 | E30: 23 | F30: 2102 | H30: =(J30*0.6) -> 196.8 | I30: 60 | J30: 328
B31: 105106-HOSPITAL ANDACOLLO | D31: =(F31*0.23) -> 730.94 | E31: 23 | F31: 3178 | H31: =(J31*0.6) -> 291.6 | I31: 60 | J31: 486
B32: 105107-HOSPITAL VICUÑA | D32: =(F32*0.23) -> 1077.09 | E32: 23 | F32: 4683 | H32: =(J32*0.6) -> 494.4 | I32: 60 | J32: 824
B33: 105108-HOSPITAL LOS VILOS | D33: =(F33*0.23) -> 904.82 | E33: 23 | F33: 3934 | H33: =(J33*0.6) -> 416.4 | I33: 60 | J33: 694
B34: Fuente: REM A09

Sheet SANITARIAS
A1: MINISTERIO DE SALUD
A2: SERVICIO DE SALUD COQUIMBO
A3: DEPARTAMENTO DE GESTIÓN, PLANIFICACIÓN Y CONTROL
A4: SUBDEPTO. DE ESTADÍSTICAS Y GESTIÓN DE LA INFORMACIÓN
A5: AÑO 2023 | B5: Metas Sanitarias
B8: COMUNA | C8: META 3a | G8: META 3b
C9: PORCENTAJE DE NIÑOS EN CONTROL CON ENFOQUE DE RIESGO Y PAUTA CERO APLICADA | G9: NIÑOS Y NIÑAS DE 6 AÑOS LIBRES DE CARIES
C10: Ingresos CERO 2023 niños y niñas menores de 10 años | D10: META | F10: Población menor de 10 años | G10: N° de niños libres de caries 6 años | H10: META | J10: población de 6 años 2023
D11: N° | E11: % | H11: N° | I11: %
B13: 04101-LA SERENA | C13: 7405 | D13: 396 | E13: 54 | G13: 641 | H13: 68 | I13: 80 | J13: 85
B14: 04104-LA HIGUERA | C14: 272 | D14: 187 | E14: 51 | G14: 7 | H14: 15 | I14: 34 | J14: 44
B15: 04102-COQUIMBO | C15: 5734 | D15: 8135 | E15: 36 | G15: 332 | H15: 552 | I15: 21 | J15: 2517
B16: 04106-VICUÑA | C16: 478 | D16: 1790 | E16: 55 | G16: 57 | H16: 117 | I16: 31 | J16: 381
B17: 04105-PAIHUANO | C17: 230 | D17: 299 | E17: 51 | G17: 31 | H17: 20 | I17: 30 | J17: 65
B18: 04301-OVALLE | C18: 3240 | D18: 8134 | E18: 35 | G18: 255 | H18: 735 | I18: 31 | J18: 2344
B19: 04305-RIO HURTADO | C19: 206 | D19: 336 | E19: 43 | G19: 5 | H19: 19 | I19: 18 | J19: 104
B20: 04303-MONTE PATRIA | C20: 1379 | D20: 2204 | E20: 60 | G20: 90 | H20: 246 | I20: 64 | J20: 381
B21: 04304-PUNITAQUI | C21: 357 | D21: 4598 | E21: 35 | G21: 44 | H21: 315 | I21: 22 | J21: 1441
B22: 04302-COMBARBALÁ | C22: 178 | D22: 143 | E22: 67 | G22: 8 | H22: 36 | I22: 64 | J22: 56
B23: 04201-ILLAPEL | C23: 946 | D23: 666 | E23: 45 | G23: 52 | H23: 80 | I23: 62 | J23: 128
B24: 04204-SALAMANCA | C24: 422 | D24: 196 | E24: 47 | G24: 19 | H24: 9 | I24: 21 | J24: 43
... B26: 04202-CANELA | C26: 139 | D26: 864 | E26: 67 | G26: 29 | H26: 63 | I26: 52 | J26: 122
B27: 105012-Clínica Dental Móvil
B28: HOSPITAL
B29: 105104-HOSPITAL SALAMANCA | C29: 428 | D29: =(F29*0.35) -> 1070.65 | E29: 35 | F29: 3059 | G29: 12 | H29: =J29*0.15 -> 44.1 | I29: 15 | J29: 294
B30: 105105-HOSPITAL COMBARBALÁ | C30: 422 | D30: =(F30*0.35) -> 441.7 | E30: 35 | F30: 1262 | G30: 39 | H30: =J30*0.15 -> 17.25 | I30: 15 | J30: 115
B31: 105106-HOSPITAL ANDACOLLO | C31: 140 | D31: =(F31*0.35) -> 585.9 | E31: 35 | F31: 1674 | G31: 24 | H31: =J31*0.15 -> 3.45 | I31: 15 | J31: 23
B32: 105107-HOSPITAL VICUÑA | C32: 255 | D32: =(F32*0.35) -> 992.6 | E32: 35 | F32: 2836 | G32: 14 | H32: =J32*0.15 -> 45.9 | I32: 15 | J32: 306
B33: 105108-HOSPITAL LOS VILOS | C33: 554 | D33: =(F33*0.35) -> 809.55 | E33: 35 | F33: 2313 | G33: 32 | H33: =J33*0.15 -> 27.3 | I33: 15 | J33: 182
B34: Fuente: REM A09

Sheet POI Datos
A2: Idestablecimiento | B2: Establecimiento | C2: Comuna | D2: Mes | E2: Total | F2: COMP
A3: 105105 | B3: =IFERROR(VLOOKUP($A3,'[2]Establecimiento 2023'!$A$1:$E$183,3,FALSE),0) -> 105105-Hospital San Juan de Dios (Combarbalá) | C3: =IFERROR(VLOOKUP($A3,'[2]Establecimiento 2023'!$A$1:$E$183,5,FALSE),0) -> 105105-Hospital Combarbalá | D3: 1 | E3: 2 | F3: 1.1 | H3: Suma de Total | I3: Etiquetas de columna
A4: 105105 | B4: =IFERROR(VLOOKUP($A4,'[2]Establecimiento 2023'!$A$1:$E$183,3,FALSE),0) -> 105105-Hospital San Juan de Dios (Combarbalá) | C4: =IFERROR(VLOOKUP($A4,'[2]Establecimiento 2023'!$A$1:$E$183,5,FALSE),0) -> 105105-Hospital Combarbalá | D4: 4 | E4: 1 | F4: 1.1 | H4: Etiquetas de fila | I4: 1.1 | J4: 2.1 | K4: 3 | L4: 4 | M4: Total general
A5: 105105 | B5: =IFERROR(VLOOKUP($A5,'[2]Establecimiento 2023'!$A$1:$E$183,3,FALSE),0) -> 105105-Hospital San Juan de Dios (Combarbalá) | C5: =IFERROR(VLOOKUP($A5,'[2]Establecimiento 2023'!$A$1:$E$183,5,FALSE),0) -> 105105-Hospital Combarbalá | D5: 7 | E5: 9 | F5: 1.1 | H5: 04101-La Serena | I5: 139 | J5: 396 | K5: 551 | L5: 359 | M5: 1445
A6: 105106 | B6: =IFERROR(VLOOKUP($A6,'[2]Establecimiento 2023'!$A$1:$E$183,3,FALSE),0) -> 105106-Hospital Dr. José Arraño (Andacollo) | C6: =IFERROR(VLOOKUP($A6,'[2]Establecimiento 2023'!$A$1:$E$183,5,FALSE),0) -> 105106-Hospital Andacollo | D6: 2 | E6: 2 | F6: 1.1 | H6: 105300-Centro de Salud Familiar Cardenal Caro | K6: 25 | M6: 25
A7: 105106 | B7: =IFERROR(VLOOKUP($A7,'[2]Establecimiento 2023'!$A$1:$E$183,3,FALSE),0) -> 105106-Hospital Dr. José Arraño (Andacollo) | C7: =IFERROR(VLOOKUP($A7,'[2]Establecimiento 2023'!$A$1:$E$183,5,FALSE),0) -> 105106-Hospital Andacollo | D7: 3 | E7: 2 | F7: 1.1 | H7: 105301-Centro de Salud Familiar Las Compañías | K7: 29 | M7: 29
A8: 105106 | B8: =IFERROR(VLOOKUP($A8,'[2]Establecimiento 2023'!$A$1:$E$183,3,FALSE),0) -> 105106-Hospital Dr. José Arraño (Andacollo) | C8: =IFERROR(VLOOKUP($A8,'[2]Establecimiento 2023'!$A$1:$E$183,5,FALSE),0) -> 105106-Hospital Andacollo | D8: 4 | E8: 2 | F8: 1.1 | H8: 105313-Centro de Salud Familiar Dr. Emilio Schaffhauser | I8: 139 | J8: 396 | K8: 395 | L8: 272 | M8: 1202
A9: 105108 | B9: =IFERROR(VLOOKUP($A9,'[2]Establecimiento 2023'!$A$1:$E$183,3,FALSE),0) -> 105108-Hospital San Pedro (Los Vilos) | C9: =IFERROR(VLOOKUP($A9,'[2]Establecimiento 2023'!$A$1:$E$183,5,FALSE),0) -> 105108-Hospital Los Vilos | D9: 1 | E9: 3 | F9: 1.1 | H9: 105319-Centro de Salud Familiar Cardenal Raúl Silva Henríquez de La Serena | K9: 40 | L9: 40 | M9: 80
A10: 105108 | B10: =IFERROR(VLOOKUP($A10,'[2]Establecimiento 2023'!$A$1:$E$183,3,FALSE),0) -> 105108-Hospital San Pedro (Los Vilos) | C10: =IFERROR(VLOOKUP($A10,'[2]Establecimiento 2023'!$A$1:$E$183,5,FALSE),0) -> 105108-Hospital Los Vilos | D10: 3 | E10: 1 | F10: 1.1 | H10: 105325-Centro de Salud Familiar Juan Pablo II (La Serena) | K10: 62 | L10: 44 | M10: 106
A11: 105108 | B11: =IFERROR(VLOOKUP($A11,'[2]Establecimiento 2023'!$A$1:$E$183,3,FALSE),0) -> 105108-Hospital San Pedro (Los Vilos) | C11: =IFERROR(VLOOKUP($A11,'[2]Establecimiento 2023'!$A$1:$E$183,5,FALSE),0) -> 105108-Hospital Los Vilos | D11: 4 | E11: 6 | F11: 1.1 | H11: 105702-Centro Comunitario de Salud Familiar Lambert | L11: 3 | M11: 3
A12: 105108 | B12: =IFERROR(VLOOKUP($A12,'[2]Establecimiento 2023'!$A$1:$E$183,3,FALSE),0) -> 105108-Hospital San Pedro (Los Vilos) | C12: =IFERROR(VLOOKUP($A12,'[2]Establecimiento 2023'!$A$1:$E$183,5,FALSE),0) -> 105108-Hospital Los Vilos | D12: 5 | E12: 6 | F12: 1.1 | H12: 04102-Coquimbo | I12: 2 | J12: 14 | K12: 364 | L12: 144 | M12: 524
A13: 105108 | B13: =IFERROR(VLOOKUP($A13,'[2]Establecimiento 2023'!$A$1:$E$183,3,FALSE),0) -> 105108-Hospital San Pedro (Los Vilos) | C13: =IFERROR(VLOOKUP($A13,'[2]Establecimiento 2023'!$A$1:$E$183,5,FALSE),0) -> 105108-Hospital Los Vilos | D13: 6 | E13: 4 | F13: 1.1 | H13: 105303-Centro de Salud Familiar San Juan | K13: 344 | M13: 344
A14: 105108 | B14: =IFERROR(VLOOKUP($A14,'[2]Establecimiento 2023'!$A$1:$E$183,3,FALSE),0) -> 105108-Hospital San Pedro (Los Vilos) | C14: =IFERROR(VLOOKUP($A14,'[2]Establecimiento 2023'!$A$1:$E$183,5,FALSE),0) -> 105108-Hospital Los Vilos | D14: 7 | E14: 9 | F14: 1.1 | H14: 105304-Centro de Salud Familiar Santa Cecilia | I14: 1 | J14: 7 | L14: 48 | M14: 56
A15: 105304 | B15: =IFERROR(VLOOKUP($A15,'[2]Establecimiento 2023'!$A$1:$E$183,3,FALSE),0) -> 105304-Centro de Salud Familiar Santa Cecilia | C15: =IFERROR(VLOOKUP($A15,'[2]Establecimiento 2023'!$A$1:$E$183,5,FALSE),0) -> 04102-Coquimbo | D15: 7 | E15: 1 | F15: 1.1 | H15: 105305-Centro de Salud Familiar Tierras Blancas | I15: 1 | J15: 3 | K15: 20 | L15: 6 | M15: 30
A16: 105305 | B16: =IFERROR(VLOOKUP($A16,'[2]Establecimiento 2023'!$A$1:$E$183,3,FALSE),0) -> 105305-Centro de Salud Familiar Tierras Blancas | C16: =IFERROR(VLOOKUP($A16,'[2]Establecimiento 2023'!$A$1:$E$183,5,FALSE),0) -> 04102-Coquimbo | D16: 7 | E16: 1 | F16: 1.1 | H16: 105323-Centro de Salud Familiar Dr. Sergio Aguilar Delgado | L16: 90 | M16: 90
A17: 105308 | B17: =IFERROR(VLOOKUP($A17,'[2]Establecimiento 2023'!$A$1:$E$183,3,FALSE),0) -> 105308-Centro de Salud Familiar Punitaqui | C17: =IFERROR(VLOOKUP($A17,'[2]Establecimiento 2023'!$A$1:$E$183,5,FALSE),0) -> 04304-Punitaqui | D17: 6 | E17: 5 | F17: 1.1 | H17: 200494-Centro de Salud Familiar El Sauce | J17: 4 | M17: 4
A18: 105308 | B18: =IFERROR(VLOOKUP($A18,'[2]Establecimiento 2023'!$A$1:$E$183,3,FALSE),0) -> 105308-Centro de Salud Familiar Punitaqui | C18: =IFERROR(VLOOKUP($A18,'[2]Establecimiento 2023'!$A$1:$E$183,5,FALSE),0) -> 04304-Punitaqui | D18: 7 | E18: 3 | F18: 1.1 | H18: 04105-Paihuano | K18: 12 | L18: 10 | M18: 22
A19: 105309 | B19: =IFERROR(VLOOKUP($A19,'[2]Establecimiento 2023'!$A$1:$E$183,3,FALSE),0) -> 105309-Centro de Salud Familiar Canela | C19: =IFERROR(VLOOKUP($A19,'[2]Establecimiento 2023'!$A$1:$E$183,5,FALSE),0) -> 04202-Canela | D19: 7 | E19: 18 | F19: 1.1 | H19: 105306-Centro de Salud Familiar Paihuano | K19: 12 | L19: 6 | M19: 18
A20: 105313 | B20: =IFERROR(VLOOKUP($A20,'[2]Establecimiento 2023'!$A$1:$E$183,3,FALSE),0) -> 105313-Centro de Salud Familiar Dr. Emilio Schaffhauser | C20: =IFERROR(VLOOKUP($A20,'[2]Establecimiento 2023'!$A$1:$E$183,5,FALSE),0) -> 04101-La Serena | D20: 3 | E20: 25 | F20: 1.1 | H20: 105475-Posta de Salud Rural Horcón (Paiguano) | L20: 4 | M20: 4
A21: 105313 | B21: =IFERROR(VLOOKUP($A21,'[2]Establecimiento 2023'!$A$1:$E$183,3,FALSE),0) -> 105313-Centro de Salud Familiar Dr. Emilio Schaffhauser | C21: =IFERROR(VLOOKUP($A21,'[2]Establecimiento 2023'!$A$1:$E$183,5,FALSE),0) -> 04101-La Serena | D21: 4 | E21: 20 | F21: 1.1 | H21: 04106-Vicuña | I21: 14 | J21: 15 | L21: 46 | M21: 75
A22: 105313 | B22: =IFERROR(VLOOKUP($A22,'[2]Establecimiento 2023'!$A$1:$E$183,3,FALSE),0) -> 105313-Centro de Salud Familiar Dr. Emilio Schaffhauser | C22: =IFERROR(VLOOKUP($A22,'[2]Establecimiento 2023'!$A$1:$E$183,5,FALSE),0) -> 04101-La Serena | D22: 5 | E22: 26 | F22: 1.1 | H22: 105467-Posta de Salud Rural Diaguitas | I22: 6 | J22: 9 | M22: 15
A23: 105313 | B23: =IFERROR(VLOOKUP($A23,'[2]Establecimiento 2023'!$A$1:$E$183,3,FALSE),0) -> 105313-Centro de Salud Familiar Dr. Emilio Schaffhauser | C23: =IFERROR(VLOOKUP($A23,'[2]Establecimiento 2023'!$A$1:$E$183,5,FALSE),0) -> 04101-La Serena | D23: 6 | E23: 38 | F23: 1.1 | H23: 105469-Posta de Salud Rural El Tambo (Vicuña) | I23: 4 | J23: 2 | M23: 6
A24: 105313 | B24: =IFERROR(VLOOKUP($A24,'[2]Establecimiento 2023'!$A$1:$E$183,3,FALSE),0) -> 105313-Centro de Salud Familiar Dr. Emilio Schaffhauser | C24: =IFERROR(VLOOKUP($A24,'[2]Establecimiento 2023'!$A$1:$E$183,5,FALSE),0) -> 04101-La Serena | D24: 7 | E24: 30 | F24: 1.1 | H24: 200538-Centro de Salud Familiar San Isidro Calingasta | I24: 4 | J24: 4 | L24: 46 | M24: 54
A25: 105326 | B25: =IFERROR(VLOOKUP($A25,'[2]Establecimiento 2023'!$A$1:$E$183,3,FALSE),0) -> 105326-Centro de Salud Familiar Villa San Rafael de Rozas | C25: =IFERROR(VLOOKUP($A25,'[2]Establecimiento 2023'!$A$1:$E$183,5,FALSE),0) -> 04201-Illapel | D25: 3 | E25: 1 | F25: 1.1 | H25: 04201-Illapel | I25: 19 | J25: 112 | K25: 91 | L25: 38 | M25: 260
A26: 105326 | B26: =IFERROR(VLOOKUP($A26,'[2]Establecimiento 2023'!$A$1:$E$183,3,FALSE),0) -> 105326-Centro de Salud Familiar Villa San Rafael de Rozas | C26: =IFERROR(VLOOKUP($A26,'[2]Establecimiento 2023'!$A$1:$E$183,5,FALSE),0) -> 04201-Illapel | D26: 7 | E26: 1 | F26: 1.1 | H26: 105326-Centro de Salud Familiar Villa San Rafael de Rozas | I26: 2 | J26: 32 | L26: 4 | M26: 38
A27: 105452 | B27: =IFERROR(VLOOKUP($A27,'[2]Establecimiento 2023'!$A$1:$E$183,3,FALSE),0) -> 105452-Posta de Salud Rural Cuncumén(Salamanca) | C27: =IFERROR(VLOOKUP($A27,'[2]Establecimiento 2023'!$A$1:$E$183,5,FALSE),0) -> 04204-Salamanca | D27: 5 | E27: 14 | F27: 1.1 | H27: 105445-Posta de Salud Rural Limáhuida | J27: 10 | M27: 10
A28: 105452 | B28: =IFERROR(VLOOKUP($A28,'[2]Establecimiento 2023'!$A$1:$E$183,3,FALSE),0) -> 105452-Posta de Salud Rural Cuncumén(Salamanca) | C28: =IFERROR(VLOOKUP($A28,'[2]Establecimiento 2023'!$A$1:$E$183,5,FALSE),0) -> 04204-Salamanca | D28: 7 | E28: 12 | F28: 1.1 | H28: 105447-Posta de Salud Rural Peralillo Illapel | L28: 1 | M28: 1
A29: 105455 | B29: =IFERROR(VLOOKUP($A29,'[2]Establecimiento 2023'!$A$1:$E$183,3,FALSE),0) -> 105455-CESFAM Valle Alto | C29: =IFERROR(VLOOKUP($A29,'[2]Establecimiento 2023'!$A$1:$E$183,5,FALSE),0) -> 04204-Salamanca | D29: 7 | E29: 2 | F29: 1.1 | H29: 200366-Centro de Salud Familiar Urbano de Illapel | I29: 17 | J29: 70 | K29: 91 | L29: 33 | M29: 211
A30: 105467 | B30: =IFERROR(VLOOKUP($A30,'[2]Establecimiento 2023'!$A$1:$E$183,3,FALSE),0) -> 105467-Posta de Salud Rural Diaguitas | C30: =IFERROR(VLOOKUP($A30,'[2]Establecimiento 2023'!$A$1:$E$183,5,FALSE),0) -> 04106-Vicuña | D30: 7 | E30: 6 | F30: 1.1 | H30: 04202-Canela | I30: 18 | J30: 81 | L30: 45 | M30: 144
A31: 105469 | B31: =IFERROR(VLOOKUP($A31,'[2]Establecimiento 2023'!$A$1:$E$183,3,FALSE),0) -> 105469-Posta de Salud Rural El Tambo (Vicuña) | C31: =IFERROR(VLOOKUP($A31,'[2]Establecimiento 2023'!$A$1:$E$183,5,FALSE),0) -> 04106-Vicuña | D31: 7 | E31: 4 | F31: 1.1 | H31: 105309-Centro de Salud Familiar Canela | I31: 18 | J31: 81 | L31: 45 | M31: 144
A32: 105480 | B32: =IFERROR(VLOOKUP($A32,'[2]Establecimiento 2023'!$A$1:$E$183,3,FALSE),0) -> 105480-Posta de Salud Rural Quilimarí | C32: =IFERROR(VLOOKUP($A32,'[2]Establecimiento 2023'!$A$1:$E$183,5,FALSE),0) -> 04203-Los Vilos | D32: 7 | E32: 3 | F32: 1.1 | H32: 04203-Los Vilos | I32: 3 | J32: 25 | K32: 42 | L32: 8 | M32: 78
A33: 200366 | B33: =IFERROR(VLOOKUP($A33,'[2]Establecimiento 2023'!$A$1:$E$183,3,FALSE),0) -> 200366-Centro de Salud Familiar Urbano de Illapel | C33: =IFERROR(VLOOKUP($A33,'[2]Establecimiento 2023'!$A$1:$E$183,5,FALSE),0) -> 04201-Illapel | D33: 4 | E33: 6 | F33: 1.1 | H33: 105478-Posta de Salud Rural Caimanes | J33: 1 | L33: 4 | M33: 5
A34: 200366 | B34: =IFERROR(VLOOKUP($A34,'[2]Establecimiento 2023'!$A$1:$E$183,3,FALSE),0) -> 200366-Centro de Salud Familiar Urbano de Illapel | C34: =IFERROR(VLOOKUP($A34,'[2]Establecimiento 2023'!$A$1:$E$183,5,FALSE),0) -> 04201-Illapel | D34: 5 | E34: 2 | F34: 1.1 | H34: 105480-Posta de Salud Rural Quilimarí | I34: 3 | J34: 23 | K34: 42 | L34: 4 | M34: 72
A35: 200366 | B35: =IFERROR(VLOOKUP($A35,'[2]Establecimiento 2023'!$A$1:$E$183,3,FALSE),0) -> 200366-Centro de Salud Familiar Urbano de Illapel | C35: =IFERROR(VLOOKUP($A35,'[2]Establecimiento 2023'!$A$1:$E$183,5,FALSE),0) -> 04201-Illapel | D35: 6 | E35: 4 | F35: 1.1 | H35: 105511-Posta de Salud Rural Los Cóndores | J35: 1 | M35: 1
A36: 200366 | B36: =IFERROR(VLOOKUP($A36,'[2]Establecimiento 2023'!$A$1:$E$183,3,FALSE),0) -> 200366-Centro de Salud Familiar Urbano de Illapel | C36: =IFERROR(VLOOKUP($A36,'[2]Establecimiento 2023'!$A$1:$E$183,5,FALSE),0) -> 04201-Illapel | D36: 7 | E36: 5 | F36: 1.1 | H36: 04204-Salamanca | I36: 28 | J36: 59 | L36: 2 | M36: 89
A37: 200538 | B37: =IFERROR(VLOOKUP($A37,'[2]Establecimiento 2023'!$A$1:$E$183,3,FALSE),0) -> 200538-Centro de Salud Familiar San Isidro Calingasta | C37: =IFERROR(VLOOKUP($A37,'[2]Establecimiento 2023'!$A$1:$E$183,5,FALSE),0) -> 04106-Vicuña | D37: 7 | E37: 4 | F37: 1.1 | H37: 105452-Posta de Salud Rural Cuncumén(Salamanca) | I37: 26 | J37: 54 | M37: 80
A38: 200569 | B38: =IFERROR(VLOOKUP($A38,'[2]Establecimiento 2023'!$A$1:$E$183,3,FALSE),0) -> 200569-Centro de Salud Familiar Fray Jorge | C38: =IFERROR(VLOOKUP($A38,'[2]Establecimiento 2023'!$A$1:$E$183,5,FALSE),0) -> 04301-Ovalle | D38: 7 | E38: 74 | F38: 1.1 | H38: 105455-CESFAM Valle Alto | I38: 2 | J38: 5 | L38: 2 | M38: 9
A39: 0 | B39: =IFERROR(VLOOKUP($A39,'[2]Establecimiento 2023'!$A$1:$E$183,3,FALSE),0) -> 0 | C39: =IFERROR(VLOOKUP($A39,'[2]Establecimiento 2023'!$A$1:$E$183,5,FALSE),0) -> 0 | D39: 0 | E39: 0 | F39: 1.2 | H39: 04301-Ovalle | I39: 74 | J39: 43 | K39: 274 | L39: 154 | M39: 545
A40: 105104 | B40: =IFERROR(VLOOKUP($A40,'[2]Establecimiento 2023'!$A$1:$E$183,3,FALSE),0) -> 105104-Hospital de Salamanca | C40: =IFERROR(VLOOKUP($A40,'[2]Establecimiento 2023'!$A$1:$E$183,5,FALSE),0) -> 105104-Hospital Salamanca | D40: 5 | E40: 2 | F40: 2.1 | H40: 200569-Centro de Salud Familiar Fray Jorge | I40: 74 | J40: 43 | K40: 274 | L40: 154 | M40: 545
A41: 105104 | B41: =IFERROR(VLOOKUP($A41,'[2]Establecimiento 2023'!$A$1:$E$183,3,FALSE),0) -> 105104-Hospital de Salamanca | C41: =IFERROR(VLOOKUP($A41,'[2]Establecimiento 2023'!$A$1:$E$183,5,FALSE),0) -> 105104-Hospital Salamanca | D41: 6 | E41: 8 | F41: 2.1 | H41: 04302-Combarbalá | L41: 54 | M41: 54
A42: 105105 | B42: =IFERROR(VLOOKUP($A42,'[2]Establecimiento 2023'!$A$1:$E$183,3,FALSE),0) -> 105105-Hospital San Juan de Dios (Combarbalá) | C42: =IFERROR(VLOOKUP($A42,'[2]Establecimiento 2023'!$A$1:$E$183,5,FALSE),0) -> 105105-Hospital Combarbalá | D42: 1 | E42: 24 | F42: 2.1 | H42: 105433-Posta de Salud Rural San Lorenzo (Combarbalá) | L42: 7 | M42: 7
A43: 105105 | B43: =IFERROR(VLOOKUP($A43,'[2]Establecimiento 2023'!$A$1:$E$183,3,FALSE),0) -> 105105-Hospital San Juan de Dios (Combarbalá) | C43: =IFERROR(VLOOKUP($A43,'[2]Establecimiento 2023'!$A$1:$E$183,5,FALSE),0) -> 105105-Hospital Combarbalá | D43: 7 | E43: 34 | F43: 2.1 | H43: 105462-Posta de Salud Rural El Sauce (Combarbalá) | L43: 12 | M43: 12
A44: 105106 | B44: =IFERROR(VLOOKUP($A44,'[2]Establecimiento 2023'!$A$1:$E$183,3,FALSE),0) -> 105106-Hospital Dr. José Arraño (Andacollo) | C44: =IFERROR(VLOOKUP($A44,'[2]Establecimiento 2023'!$A$1:$E$183,5,FALSE),0) -> 105106-Hospital Andacollo | D44: 2 | E44: 18 | F44: 2.1 | H44: 105464-Posta de Salud Rural La Ligua | L44: 9 | M44: 9
A45: 105106 | B45: =IFERROR(VLOOKUP($A45,'[2]Establecimiento 2023'!$A$1:$E$183,3,FALSE),0) -> 105106-Hospital Dr. José Arraño (Andacollo) | C45: =IFERROR(VLOOKUP($A45,'[2]Establecimiento 2023'!$A$1:$E$183,5,FALSE),0) -> 105106-Hospital Andacollo | D45: 3 | E45: 10 | F45: 2.1 | H45: 105465-Posta de Salud Rural Ramadilla | L45: 12 | M45: 12
A46: 105106 | B46: =IFERROR(VLOOKUP($A46,'[2]Establecimiento 2023'!$A$1:$E$183,3,FALSE),0) -> 105106-Hospital Dr. José Arraño (Andacollo) | C46: =IFERROR(VLOOKUP($A46,'[2]Establecimiento 2023'!$A$1:$E$183,5,FALSE),0) -> 105106-Hospital Andacollo | D46: 4 | E46: 10 | F46: 2.1 | H46: 105466-Posta de Salud Rural Valle Hermoso | L46: 14 | M46: 14
A47: 105106 | B47: =IFERROR(VLOOKUP($A47,'[2]Establecimiento 2023'!$A$1:$E$183,3,FALSE),0) -> 105106-Hospital Dr. José Arraño (Andacollo) | C47: =IFERROR(VLOOKUP($A47,'[2]Establecimiento 2023'!$A$1:$E$183,5,FALSE),0) -> 105106-Hospital Andacollo | D47: 5 | E47: 9 | F47: 2.1 | H47: 04304-Punitaqui | I47: 8 | J47: 21 | K47: 20 | L47: 20 | M47: 69
A48: 105106 | B48: =IFERROR(VLOOKUP($A48,'[2]Establecimiento 2023'!$A$1:$E$183,3,FALSE),0) -> 105106-Hospital Dr. José Arraño (Andacollo) | C48: =IFERROR(VLOOKUP($A48,'[2]Establecimiento 2023'!$A$1:$E$183,5,FALSE),0) -> 105106-Hospital Andacollo | D48: 6 | E48: 10 | F48: 2.1 | H48: 105308-Centro de Salud Familiar Punitaqui | I48: 8 | J48: 21 | K48: 20 | L48: 20 | M48: 69
A49: 105106 | B49: =IFERROR(VLOOKUP($A49,'[2]Establecimiento 2023'!$A$1:$E$183,3,FALSE),0) -> 105106-Hospital Dr. José Arraño (Andacollo) | C49: =IFERROR(VLOOKUP($A49,'[2]Establecimiento 2023'!$A$1:$E$183,5,FALSE),0) -> 105106-Hospital Andacollo | D49: 7 | E49: 2 | F49: 2.1 | H49: 04305-Rio Hurtado | J49: 1 | K49: 11 | L49: 5 | M49: 17
A50: 105107 | B50: =IFERROR(VLOOKUP($A50,'[2]Establecimiento 2023'!$A$1:$E$183,3,FALSE),0) -> 105107-Hospital San Juan de Dios (Vicuña) | C50: =IFERROR(VLOOKUP($A50,'[2]Establecimiento 2023'!$A$1:$E$183,5,FALSE),0) -> 105107-Hospital Vicuña | D50: 1 | E50: 8 | F50: 2.1 | H50: 105310-Centro de Salud Familiar Pichasca | J50: 1 | K50: 11 | L50: 5 | M50: 17
A51: 105107 | B51: =IFERROR(VLOOKUP($A51,'[2]Establecimiento 2023'!$A$1:$E$183,3,FALSE),0) -> 105107-Hospital San Juan de Dios (Vicuña) | C51: =IFERROR(VLOOKUP($A51,'[2]Establecimiento 2023'!$A$1:$E$183,5,FALSE),0) -> 105107-Hospital Vicuña | D51: 2 | E51: 4 | F51: 2.1 | H51: 105104-Hospital Salamanca | J51: 10 | K51: 45 | L51: 1 | M51: 56
A52: 105107 | B52: =IFERROR(VLOOKUP($A52,'[2]Establecimiento 2023'!$A$1:$E$183,3,FALSE),0) -> 105107-Hospital San Juan de Dios (Vicuña) | C52: =IFERROR(VLOOKUP($A52,'[2]Establecimiento 2023'!$A$1:$E$183,5,FALSE),0) -> 105107-Hospital Vicuña | D52: 3 | E52: 5 | F52: 2.1 | H52: 105104-Hospital de Salamanca | J52: 10 | K52: 45 | L52: 1 | M52: 56
A53: 105107 | B53: =IFERROR(VLOOKUP($A53,'[2]Establecimiento 2023'!$A$1:$E$183,3,FALSE),0) -> 105107-Hospital San Juan de Dios (Vicuña) | C53: =IFERROR(VLOOKUP($A53,'[2]Establecimiento 2023'!$A$1:$E$183,5,FALSE),0) -> 105107-Hospital Vicuña | D53: 4 | E53: 6 | F53: 2.1 | H53: 105105-Hospital Combarbalá | I53: 12 | J53: 58 | K53: 9 | L53: 3 | M53: 82
A54: 105107 | B54: =IFERROR(VLOOKUP($A54,'[2]Establecimiento 2023'!$A$1:$E$183,3,FALSE),0) -> 105107-Hospital San Juan de Dios (Vicuña) | C54: =IFERROR(VLOOKUP($A54,'[2]Establecimiento 2023'!$A$1:$E$183,5,FALSE),0) -> 105107-Hospital Vicuña | D54: 5 | E54: 7 | F54: 2.1 | H54: 105105-Hospital San Juan de Dios (Combarbalá) | I54: 12 | J54: 58 | K54: 9 | L54: 3 | M54: 82
A55: 105107 | B55: =IFERROR(VLOOKUP($A55,'[2]Establecimiento 2023'!$A$1:$E$183,3,FALSE),0) -> 105107-Hospital San Juan de Dios (Vicuña) | C55: =IFERROR(VLOOKUP($A55,'[2]Establecimiento 2023'!$A$1:$E$183,5,FALSE),0) -> 105107-Hospital Vicuña | D55: 7 | E55: 5 | F55: 2.1 | H55: 105106-Hospital Andacollo | I55: 6 | J55: 59 | K55: 13 | L55: 8 | M55: 86
A56: 105108 | B56: =IFERROR(VLOOKUP($A56,'[2]Establecimiento 2023'!$A$1:$E$183,3,FALSE),0) -> 105108-Hospital San Pedro (Los Vilos) | C56: =IFERROR(VLOOKUP($A56,'[2]Establecimiento 2023'!$A$1:$E$183,5,FALSE),0) -> 105108-Hospital Los Vilos | D56: 1 | E56: 11 | F56: 2.1 | H56: 105106-Hospital Dr. José Arraño (Andacollo) | I56: 6 | J56: 59 | K56: 13 | L56: 8 | M56: 86
A57: 105108 | B57: =IFERROR(VLOOKUP($A57,'[2]Establecimiento 2023'!$A$1:$E$183,3,FALSE),0) -> 105108-Hospital San Pedro (Los Vilos) | C57: =IFERROR(VLOOKUP($A57,'[2]Establecimiento 2023'!$A$1:$E$183,5,FALSE),0) -> 105108-Hospital Los Vilos | D57: 2 | E57: 4 | F57: 2.1 | H57: 105107-Hospital Vicuña | J57: 35 | M57: 35
A58: 105108 | B58: =IFERROR(VLOOKUP($A58,'[2]Establecimiento 2023'!$A$1:$E$183,3,FALSE),0) -> 105108-Hospital San Pedro (Los Vilos) | C58: =IFERROR(VLOOKUP($A58,'[2]Establecimiento 2023'!$A$1:$E$183,5,FALSE),0) -> 105108-Hospital Los Vilos | D58: 3 | E58: 7 | F58: 2.1 | H58: 105107-Hospital San Juan de Dios (Vicuña) | J58: 35 | M58: 35
A59: 105108 | B59: =IFERROR(VLOOKUP($A59,'[2]Establecimiento 2023'!$A$1:$E$183,3,FALSE),0) -> 105108-Hospital San Pedro (Los Vilos) | C59: =IFERROR(VLOOKUP($A59,'[2]Establecimiento 2023'!$A$1:$E$183,5,FALSE),0) -> 105108-Hospital Los Vilos | D59: 4 | E59: 7 | F59: 2.1 | H59: 105108-Hospital Los Vilos | I59: 29 | J59: 51 | L59: 17 | M59: 97
A60: 105108 | B60: =IFERROR(VLOOKUP($A60,'[2]Establecimiento 2023'!$A$1:$E$183,3,FALSE),0) -> 105108-Hospital San Pedro (Los Vilos) | C60: =IFERROR(VLOOKUP($A60,'[2]Establecimiento 2023'!$A$1:$E$183,5,FALSE),0) -> 105108-Hospital Los Vilos | D60: 5 | E60: 7 | F60: 2.1 | H60: 105108-Hospital San Pedro (Los Vilos) | I60: 29 | J60: 51 | L60: 17 | M60: 97
A61: 105108 | B61: =IFERROR(VLOOKUP($A61,'[2]Establecimiento 2023'!$A$1:$E$183,3,FALSE),0) -> 105108-Hospital San Pedro (Los Vilos) | C61: =IFERROR(VLOOKUP($A61,'[2]Establecimiento 2023'!$A$1:$E$183,5,FALSE),0) -> 105108-Hospital Los Vilos | D61: 6 | E61: 2 | F61: 2.1 | H61: Total general | I61: 352 | J61: 980 | K61: 1432 | L61: 914 | M61: 3678
A62: 105108 | B62: =IFERROR(VLOOKUP($A62,'[2]Establecimiento 2023'!$A$1:$E$183,3,FALSE),0) -> 105108-Hospital San Pedro (Los Vilos) | C62: =IFERROR(VLOOKUP($A62,'[2]Establecimiento 2023'!$A$1:$E$183,5,FALSE),0) -> 105108-Hospital Los Vilos | D62: 7 | E62: 13 | F62: 2.1
A63: 105304 | B63: =IFERROR(VLOOKUP($A63,'[2]Establecimiento 2023'!$A$1:$E$183,3,FALSE),0) -> 105304-Centro de Salud Familiar Santa Cecilia | C63: =IFERROR(VLOOKUP($A63,'[2]Establecimiento 2023'!$A$1:$E$183,5,FALSE),0) -> 04102-Coquimbo | D63: 6 | E63: 1 | F63: 2.1
A64: 105304 | B64: =IFERROR(VLOOKUP($A64,'[2]Establecimiento 2023'!$A$1:$E$183,3,FALSE),0) -> 105304-Centro de Salud Familiar Santa Cecilia | C64: =IFERROR(VLOOKUP($A64,'[2]Establecimiento 2023'!$A$1:$E$183,5,FALSE),0) -> 04102-Coquimbo | D64: 7 | E64: 6 | F64: 2.1
A65: 105305 | B65: =IFERROR(VLOOKUP($A65,'[2]Establecimiento 2023'!$A$1:$E$183,3,FALSE),0) -> 105305-Centro de Salud Familiar Tierras Blancas | C65: =IFERROR(VLOOKUP($A65,'[2]Establecimiento 2023'!$A$1:$E$183,5,FALSE),0) -> 04102-Coquimbo | D65: 7 | E65: 3 | F65: 2.1
A66: 105308 | B66: =IFERROR(VLOOKUP($A66,'[2]Establecimiento 2023'!$A$1:$E$183,3,FALSE),0) -> 105308-Centro de Salud Familiar Punitaqui | C66: =IFERROR(VLOOKUP($A66,'[2]Establecimiento 2023'!$A$1:$E$183,5,FALSE),0) -> 04304-Punitaqui | D66: 6 | E66: 15 | F66: 2.1
A67: 105308 | B67: =IFERROR(VLOOKUP($A67,'[2]Establecimiento 2023'!$A$1:$E$183,3,FALSE),0) -> 105308-Centro de Salud Familiar Punitaqui | C67: =IFERROR(VLOOKUP($A67,'[2]Establecimiento 2023'!$A$1:$E$183,5,FALSE),0) -> 04304-Punitaqui | D67: 7 | E67: 6 | F67: 2.1
A68: 105309 | B68: =IFERROR(VLOOKUP($A68,'[2]Establecimiento 2023'!$A$1:$E$183,3,FALSE),0) -> 105309-Centro de Salud Familiar Canela | C68: =IFERROR(VLOOKUP($A68,'[2]Establecimiento 2023'!$A$1:$E$183,5,FALSE),0) -> 04202-Canela | D68: 7 | E68: 81 | F68: 2.1
A69: 105310 | B69: =IFERROR(VLOOKUP($A69,'[2]Establecimiento 2023'!$A$1:$E$183,3,FALSE),0) -> 105310-Centro de Salud Familiar Pichasca | C69: =IFERROR(VLOOKUP($A69,'[2]Establecimiento 2023'!$A$1:$E$183,5,FALSE),0) -> 04305-Río Hurtado | D69: 7 | E69: 1 | F69: 2.1
A70: 105313 | B70: =IFERROR(VLOOKUP($A70,'[2]Establecimiento 2023'!$A$1:$E$183,3,FALSE),0) -> 105313-Centro de Salud Familiar Dr. Emilio Schaffhauser | C70: =IFERROR(VLOOKUP($A70,'[2]Establecimiento 2023'!$A$1:$E$183,5,FALSE),0) -> 04101-La Serena | D70: 3 | E70: 69 | F70: 2.1
A71: 105313 | B71: =IFERROR(VLOOKUP($A71,'[2]Establecimiento 2023'!$A$1:$E$183,3,FALSE),0) -> 105313-Centro de Salud Familiar Dr. Emilio Schaffhauser | C71: =IFERROR(VLOOKUP($A71,'[2]Establecimiento 2023'!$A$1:$E$183,5,FALSE),0) -> 04101-La Serena | D71: 4 | E71: 74 | F71: 2.1
A72: 105313 | B72: =IFERROR(VLOOKUP($A72,'[2]Establecimiento 2023'!$A$1:$E$183,3,FALSE),0) -> 105313-Centro de Salud Familiar Dr. Emilio Schaffhauser | C72: =IFERROR(VLOOKUP($A72,'[2]Establecimiento 2023'!$A$1:$E$183,5,FALSE),0) -> 04101-La Serena | D72: 5 | E72: 86 | F72: 2.1
A73: 105313 | B73: =IFERROR(VLOOKUP($A73,'[2]Establecimiento 2023'!$A$1:$E$183,3,FALSE),0) -> 105313-Centro de Salud Familiar Dr. Emilio Schaffhauser | C73: =IFERROR(VLOOKUP($A73,'[2]Establecimiento 2023'!$A$1:$E$183,5,FALSE),0) -> 04101-La Serena | D73: 6 | E73: 83 | F73: 2.1
... A100: 200569 | B100: =IFERROR(VLOOKUP($A100,'[2]Establecimiento 2023'!$A$1:$E$183,3,FALSE),0) -> 200569-Centro de Salud Familiar Fray Jorge | C100: =IFERROR(VLOOKUP($A100,'[2]Establecimiento 2023'!$A$1:$E$183,5,FALSE),0) -> 04301-Ovalle | D100: 7 | E100: 43 | F100: 2.1
A101: 0 | B101: =IFERROR(VLOOKUP($A101,'[2]Establecimiento 2023'!$A$1:$E$183,3,FALSE),0) -> 0 | C101: =IFERROR(VLOOKUP($A101,'[2]Establecimiento 2023'!$A$1:$E$183,5,FALSE),0) -> 0 | D101: 0 | E101: 0 | F101: 2.2
A102: 105104 | B102: =IFERROR(VLOOKUP($A102,'[2]Establecimiento 2023'!$A$1:$E$183,3,FALSE),0) -> 105104-Hospital de Salamanca | C102: =IFERROR(VLOOKUP($A102,'[2]Establecimiento 2023'!$A$1:$E$183,5,FALSE),0) -> 105104-Hospital Salamanca | D102: 1 | E102: 11 | F102: 3
A103: 105104 | B103: =IFERROR(VLOOKUP($A103,'[2]Establecimiento 2023'!$A$1:$E$183,3,FALSE),0) -> 105104-Hospital de Salamanca | C103: =IFERROR(VLOOKUP($A103,'[2]Establecimiento 2023'!$A$1:$E$183,5,FALSE),0) -> 105104-Hospital Salamanca | D103: 2 | E103: 6 | F103: 3
A104: 105104 | B104: =IFERROR(VLOOKUP($A104,'[2]Establecimiento 2023'!$A$1:$E$183,3,FALSE),0) -> 105104-Hospital de Salamanca | C104: =IFERROR(VLOOKUP($A104,'[2]Establecimiento 2023'!$A$1:$E$183,5,FALSE),0) -> 105104-Hospital Salamanca | D104: 3 | E104: 4 | F104: 3
A105: 105104 | B105: =IFERROR(VLOOKUP($A105,'[2]Establecimiento 2023'!$A$1:$E$183,3,FALSE),0) -> 105104-Hospital de Salamanca | C105: =IFERROR(VLOOKUP($A105,'[2]Establecimiento 2023'!$A$1:$E$183,5,FALSE),0) -> 105104-Hospital Salamanca | D105: 4 | E105: 10 | F105: 3
A106: 105104 | B106: =IFERROR(VLOOKUP($A106,'[2]Establecimiento 2023'!$A$1:$E$183,3,FALSE),0) -> 105104-Hospital de Salamanca | C106: =IFERROR(VLOOKUP($A106,'[2]Establecimiento 2023'!$A$1:$E$183,5,FALSE),0) -> 105104-Hospital Salamanca | D106: 5 | E106: 5 | F106: 3
A107: 105104 | B107: =IFERROR(VLOOKUP($A107,'[2]Establecimiento 2023'!$A$1:$E$183,3,FALSE),0) -> 105104-Hospital de Salamanca | C107: =IFERROR(VLOOKUP($A107,'[2]Establecimiento 2023'!$A$1:$E$183,5,FALSE),0) -> 105104-Hospital Salamanca | D107: 6 | E107: 5 | F107: 3
A108: 105104 | B108: =IFERROR(VLOOKUP($A108,'[2]Establecimiento 2023'!$A$1:$E$183,3,FALSE),0) -> 105104-Hospital de Salamanca | C108: =IFERROR(VLOOKUP($A108,'[2]Establecimiento 2023'!$A$1:$E$183,5,FALSE),0) -> 105104-Hospital Salamanca | D108: 7 | E108: 4 | F108: 3
A109: 105105 | B109: =IFERROR(VLOOKUP($A109,'[2]Establecimiento 2023'!$A$1:$E$183,3,FALSE),0) -> 105105-Hospital San Juan de Dios (Combarbalá) | C109: =IFERROR(VLOOKUP($A109,'[2]Establecimiento 2023'!$A$1:$E$183,5,FALSE),0) -> 105105-Hospital Combarbalá | D109: 4 | E109: 2 | F109: 3
A110: 105105 | B110: =IFERROR(VLOOKUP($A110,'[2]Establecimiento 2023'!$A$1:$E$183,3,FALSE),0) -> 105105-Hospital San Juan de Dios (Combarbalá) | C110: =IFERROR(VLOOKUP($A110,'[2]Establecimiento 2023'!$A$1:$E$183,5,FALSE),0) -> 105105-Hospital Combarbalá | D110: 7 | E110: 7 | F110: 3
A111: 105106 | B111: =IFERROR(VLOOKUP($A111,'[2]Establecimiento 2023'!$A$1:$E$183,3,FALSE),0) -> 105106-Hospital Dr. José Arraño (Andacollo) | C111: =IFERROR(VLOOKUP($A111,'[2]Establecimiento 2023'!$A$1:$E$183,5,FALSE),0) -> 105106-Hospital Andacollo | D111: 2 | E111: 1 | F111: 3
A112: 105106 | B112: =IFERROR(VLOOKUP($A112,'[2]Establecimiento 2023'!$A$1:$E$183,3,FALSE),0) -> 105106-Hospital Dr. José Arraño (Andacollo) | C112: =IFERROR(VLOOKUP($A112,'[2]Establecimiento 2023'!$A$1:$E$183,5,FALSE),0) -> 105106-Hospital Andacollo | D112: 4 | E112: 2 | F112: 3
A113: 105106 | B113: =IFERROR(VLOOKUP($A113,'[2]Establecimiento 2023'!$A$1:$E$183,3,FALSE),0) -> 105106-Hospital Dr. José Arraño (Andacollo) | C113: =IFERROR(VLOOKUP($A113,'[2]Establecimiento 2023'!$A$1:$E$183,5,FALSE),0) -> 105106-Hospital Andacollo | D113: 5 | E113: 5 | F113: 3
... A216: 200569 | B216: =IFERROR(VLOOKUP($A216,'[2]Establecimiento 2023'!$A$1:$E$183,3,FALSE),0) -> 200569-Centro de Salud Familiar Fray Jorge | C216: =IFERROR(VLOOKUP($A216,'[2]Establecimiento 2023'!$A$1:$E$183,5,FALSE),0) -> 04301-Ovalle | D216: 7 | E216: 44 | F216: 4

Sheet SEM Datos
A2: Idestablecimiento | B2: Establecimiento | C2: Comuna | D2: Mes | E2: Total | F2: COMP
A3: 105105 | B3: =IFERROR(VLOOKUP($A3,'[2]Establecimiento 2023'!$A$1:$E$183,3,FALSE),0) -> 105105-Hospital San Juan de Dios (Combarbalá) | C3: =IFERROR(VLOOKUP($A3,'[2]Establecimiento 2023'!$A$1:$E$183,5,FALSE),0) -> 105105-Hospital Combarbalá | D3: 4 | E3: 148 | F3: 1.1
A4: 105105 | B4: =IFERROR(VLOOKUP($A4,'[2]Establecimiento 2023'!$A$1:$E$183,3,FALSE),0) -> 105105-Hospital San Juan de Dios (Combarbalá) | C4: =IFERROR(VLOOKUP($A4,'[2]Establecimiento 2023'!$A$1:$E$183,5,FALSE),0) -> 105105-Hospital Combarbalá | D4: 5 | E4: 7 | F4: 1.1 | H4: Suma de Total | I4: Etiquetas de columna
A5: 105105 | B5: =IFERROR(VLOOKUP($A5,'[2]Establecimiento 2023'!$A$1:$E$183,3,FALSE),0) -> 105105-Hospital San Juan de Dios (Combarbalá) | C5: =IFERROR(VLOOKUP($A5,'[2]Establecimiento 2023'!$A$1:$E$183,5,FALSE),0) -> 105105-Hospital Combarbalá | D5: 6 | E5: 23 | F5: 1.1 | H5: Etiquetas de fila | I5: 1.1 | J5: 1.2 | K5: 1.3 | L5: Total general
A6: 105106 | B6: =IFERROR(VLOOKUP($A6,'[2]Establecimiento 2023'!$A$1:$E$183,3,FALSE),0) -> 105106-Hospital Dr. José Arraño (Andacollo) | C6: =IFERROR(VLOOKUP($A6,'[2]Establecimiento 2023'!$A$1:$E$183,5,FALSE),0) -> 105106-Hospital Andacollo | D6: 6 | E6: 287 | F6: 1.1 | H6: 04101-La Serena | I6: 3942 | J6: 2962 | K6: 2897 | L6: 9801
A7: 105108 | B7: =IFERROR(VLOOKUP($A7,'[2]Establecimiento 2023'!$A$1:$E$183,3,FALSE),0) -> 105108-Hospital San Pedro (Los Vilos) | C7: =IFERROR(VLOOKUP($A7,'[2]Establecimiento 2023'!$A$1:$E$183,5,FALSE),0) -> 105108-Hospital Los Vilos | D7: 6 | E7: 23 | F7: 1.1 | H7: 105300-Centro de Salud Familiar Cardenal Caro | I7: 1016 | J7: 889 | K7: 870 | L7: 2775
A8: 105108 | B8: =IFERROR(VLOOKUP($A8,'[2]Establecimiento 2023'!$A$1:$E$183,3,FALSE),0) -> 105108-Hospital San Pedro (Los Vilos) | C8: =IFERROR(VLOOKUP($A8,'[2]Establecimiento 2023'!$A$1:$E$183,5,FALSE),0) -> 105108-Hospital Los Vilos | D8: 7 | E8: 200 | F8: 1.1 | H8: 105301-Centro de Salud Familiar Las Compañías | I8: 404 | J8: 277 | K8: 277 | L8: 958
A9: 105300 | B9: =IFERROR(VLOOKUP($A9,'[2]Establecimiento 2023'!$A$1:$E$183,3,FALSE),0) -> 105300-Centro de Salud Familiar Cardenal Caro | C9: =IFERROR(VLOOKUP($A9,'[2]Establecimiento 2023'!$A$1:$E$183,5,FALSE),0) -> 04101-La Serena | D9: 1 | E9: 21 | F9: 1.1 | H9: 105302-Centro de Salud Familiar Pedro Aguirre Cerda | I9: 153 | J9: 75 | K9: 75 | L9: 303
A10: 105300 | B10: =IFERROR(VLOOKUP($A10,'[2]Establecimiento 2023'!$A$1:$E$183,3,FALSE),0) -> 105300-Centro de Salud Familiar Cardenal Caro | C10: =IFERROR(VLOOKUP($A10,'[2]Establecimiento 2023'!$A$1:$E$183,5,FALSE),0) -> 04101-La Serena | D10: 3 | E10: 755 | F10: 1.1 | H10: 105313-Centro de Salud Familiar Dr. Emilio Schaffhauser | I10: 422 | J10: 338 | K10: 334 | L10: 1094
A11: 105300 | B11: =IFERROR(VLOOKUP($A11,'[2]Establecimiento 2023'!$A$1:$E$183,3,FALSE),0) -> 105300-Centro de Salud Familiar Cardenal Caro | C11: =IFERROR(VLOOKUP($A11,'[2]Establecimiento 2023'!$A$1:$E$183,5,FALSE),0) -> 04101-La Serena | D11: 4 | E11: 175 | F11: 1.1 | H11: 105319-Centro de Salud Familiar Cardenal Raúl Silva Henríquez de La Serena | I11: 986 | J11: 600 | K11: 600 | L11: 2186
A12: 105300 | B12: =IFERROR(VLOOKUP($A12,'[2]Establecimiento 2023'!$A$1:$E$183,3,FALSE),0) -> 105300-Centro de Salud Familiar Cardenal Caro | C12: =IFERROR(VLOOKUP($A12,'[2]Establecimiento 2023'!$A$1:$E$183,5,FALSE),0) -> 04101-La Serena | D12: 5 | E12: 65 | F12: 1.1 | H12: 105325-Centro de Salud Familiar Juan Pablo II (La Serena) | I12: 596 | J12: 444 | K12: 426 | L12: 1466
A13: 105301 | B13: =IFERROR(VLOOKUP($A13,'[2]Establecimiento 2023'!$A$1:$E$183,3,FALSE),0) -> 105301-Centro de Salud Familiar Las Compañías | C13: =IFERROR(VLOOKUP($A13,'[2]Establecimiento 2023'!$A$1:$E$183,5,FALSE),0) -> 04101-La Serena | D13: 1 | E13: 183 | F13: 1.1 | H13: 105701-Centro Comunitario de Salud Familiar Villa Alemania | I13: 118 | J13: 80 | K13: 75 | L13: 273
A14: 105301 | B14: =IFERROR(VLOOKUP($A14,'[2]Establecimiento 2023'!$A$1:$E$183,3,FALSE),0) -> 105301-Centro de Salud Familiar Las Compañías | C14: =IFERROR(VLOOKUP($A14,'[2]Establecimiento 2023'!$A$1:$E$183,5,FALSE),0) -> 04101-La Serena | D14: 6 | E14: 221 | F14: 1.1 | H14: 105702-Centro Comunitario de Salud Familiar Lambert | J14: 82 | K14: 77 | L14: 159
A15: 105302 | B15: =IFERROR(VLOOKUP($A15,'[2]Establecimiento 2023'!$A$1:$E$183,3,FALSE),0) -> 105302-Centro de Salud Familiar Pedro Aguirre Cerda | C15: =IFERROR(VLOOKUP($A15,'[2]Establecimiento 2023'!$A$1:$E$183,5,FALSE),0) -> 04101-La Serena | D15: 1 | E15: 153 | F15: 1.1 | H15: 200402-Centro Comunitario de Salud Familiar Arcos de Pinamar | I15: 247 | J15: 177 | K15: 163 | L15: 587
A16: 105303 | B16: =IFERROR(VLOOKUP($A16,'[2]Establecimiento 2023'!$A$1:$E$183,3,FALSE),0) -> 105303-Centro de Salud Familiar San Juan | C16: =IFERROR(VLOOKUP($A16,'[2]Establecimiento 2023'!$A$1:$E$183,5,FALSE),0) -> 04102-Coquimbo | D16: 3 | E16: 59 | F16: 1.1 | H16: 04102-Coquimbo | I16: 3451 | J16: 2585 | K16: 2584 | L16: 8620
A17: 105303 | B17: =IFERROR(VLOOKUP($A17,'[2]Establecimiento 2023'!$A$1:$E$183,3,FALSE),0) -> 105303-Centro de Salud Familiar San Juan | C17: =IFERROR(VLOOKUP($A17,'[2]Establecimiento 2023'!$A$1:$E$183,5,FALSE),0) -> 04102-Coquimbo | D17: 4 | E17: 75 | F17: 1.1 | H17: 105303-Centro de Salud Familiar San Juan | I17: 196 | J17: 161 | K17: 161 | L17: 518
A18: 105303 | B18: =IFERROR(VLOOKUP($A18,'[2]Establecimiento 2023'!$A$1:$E$183,3,FALSE),0) -> 105303-Centro de Salud Familiar San Juan | C18: =IFERROR(VLOOKUP($A18,'[2]Establecimiento 2023'!$A$1:$E$183,5,FALSE),0) -> 04102-Coquimbo | D18: 6 | E18: 62 | F18: 1.1 | H18: 105304-Centro de Salud Familiar Santa Cecilia | I18: 407 | J18: 267 | K18: 267 | L18: 941
A19: 105304 | B19: =IFERROR(VLOOKUP($A19,'[2]Establecimiento 2023'!$A$1:$E$183,3,FALSE),0) -> 105304-Centro de Salud Familiar Santa Cecilia | C19: =IFERROR(VLOOKUP($A19,'[2]Establecimiento 2023'!$A$1:$E$183,5,FALSE),0) -> 04102-Coquimbo | D19: 4 | E19: 199 | F19: 1.1 | H19: 105305-Centro de Salud Familiar Tierras Blancas | I19: 799 | J19: 616 | K19: 616 | L19: 2031
A20: 105304 | B20: =IFERROR(VLOOKUP($A20,'[2]Establecimiento 2023'!$A$1:$E$183,3,FALSE),0) -> 105304-Centro de Salud Familiar Santa Cecilia | C20: =IFERROR(VLOOKUP($A20,'[2]Establecimiento 2023'!$A$1:$E$183,5,FALSE),0) -> 04102-Coquimbo | D20: 6 | E20: 208 | F20: 1.1 | H20: 105321-Centro de Salud Familiar Tongoy | I20: 263 | J20: 184 | K20: 184 | L20: 631
A21: 105305 | B21: =IFERROR(VLOOKUP($A21,'[2]Establecimiento 2023'!$A$1:$E$183,3,FALSE),0) -> 105305-Centro de Salud Familiar Tierras Blancas | C21: =IFERROR(VLOOKUP($A21,'[2]Establecimiento 2023'!$A$1:$E$183,5,FALSE),0) -> 04102-Coquimbo | D21: 3 | E21: 345 | F21: 1.1 | H21: 105323-Centro de Salud Familiar Dr. Sergio Aguilar Delgado | I21: 805 | J21: 594 | K21: 594 | L21: 1993
A22: 105305 | B22: =IFERROR(VLOOKUP($A22,'[2]Establecimiento 2023'!$A$1:$E$183,3,FALSE),0) -> 105305-Centro de Salud Familiar Tierras Blancas | C22: =IFERROR(VLOOKUP($A22,'[2]Establecimiento 2023'!$A$1:$E$183,5,FALSE),0) -> 04102-Coquimbo | D22: 4 | E22: 170 | F22: 1.1 | H22: 105803-SAPU San Juan | I22: 62 | J22: 27 | K22: 27 | L22: 116
A23: 105305 | B23: =IFERROR(VLOOKUP($A23,'[2]Establecimiento 2023'!$A$1:$E$183,3,FALSE),0) -> 105305-Centro de Salud Familiar Tierras Blancas | C23: =IFERROR(VLOOKUP($A23,'[2]Establecimiento 2023'!$A$1:$E$183,5,FALSE),0) -> 04102-Coquimbo | D23: 6 | E23: 284 | F23: 1.1 | H23: 200494-Centro de Salud Familiar El Sauce | I23: 801 | J23: 647 | K23: 646 | L23: 2094
A24: 105306 | B24: =IFERROR(VLOOKUP($A24,'[2]Establecimiento 2023'!$A$1:$E$183,3,FALSE),0) -> 105306-Centro de Salud Familiar Paihuano | C24: =IFERROR(VLOOKUP($A24,'[2]Establecimiento 2023'!$A$1:$E$183,5,FALSE),0) -> 04105-Paiguano | D24: 4 | E24: 70 | F24: 1.1 | H24: 200499-Centro de Salud Familiar Rural Pan de Azúcar | I24: 118 | J24: 89 | K24: 89 | L24: 296
A25: 105307 | B25: =IFERROR(VLOOKUP($A25,'[2]Establecimiento 2023'!$A$1:$E$183,3,FALSE),0) -> 105307-Centro de Salud Familiar Monte Patria | C25: =IFERROR(VLOOKUP($A25,'[2]Establecimiento 2023'!$A$1:$E$183,5,FALSE),0) -> 04303-Monte Patria | D25: 7 | E25: 235 | F25: 1.1 | H25: 04104-La Higuera | I25: 104 | J25: 105 | K25: 104 | L25: 313
A26: 105308 | B26: =IFERROR(VLOOKUP($A26,'[2]Establecimiento 2023'!$A$1:$E$183,3,FALSE),0) -> 105308-Centro de Salud Familiar Punitaqui | C26: =IFERROR(VLOOKUP($A26,'[2]Establecimiento 2023'!$A$1:$E$183,5,FALSE),0) -> 04304-Punitaqui | D26: 6 | E26: 223 | F26: 1.1 | H26: 105314-Centro de Salud Familiar La Higuera | I26: 39 | J26: 40 | K26: 40 | L26: 119
... A62: 105462 | B62: =IFERROR(VLOOKUP($A62,'[2]Establecimiento 2023'!$A$1:$E$183,3,FALSE),0) -> 105462-Posta de Salud Rural El Sauce (Combarbalá) | C62: =IFERROR(VLOOKUP($A62,'[2]Establecimiento 2023'!$A$1:$E$183,5,FALSE),0) -> 04302-Combarbalá | D62: 6 | E62: 2 | F62: 1.1 | H62: 105460-Centro Comunitario de Salud Familiar Cogotí 18 | I62: 11 | J62: 11 | K62: 11 | L62: 33
A63: 105463 | B63: =IFERROR(VLOOKUP($A63,'[2]Establecimiento 2023'!$A$1:$E$183,3,FALSE),0) -> 105463-Posta de Salud Rural Quilitapia | C63: =IFERROR(VLOOKUP($A63,'[2]Establecimiento 2023'!$A$1:$E$183,5,FALSE),0) -> 04302-Combarbalá | D63: 4 | E63: 25 | F63: 1.1 | H63: 105462-Posta de Salud Rural El Sauce (Combarbalá) | I63: 2 | L63: 2
A64: 105464 | B64: =IFERROR(VLOOKUP($A64,'[2]Establecimiento 2023'!$A$1:$E$183,3,FALSE),0) -> 105464-Posta de Salud Rural La Ligua | C64: =IFERROR(VLOOKUP($A64,'[2]Establecimiento 2023'!$A$1:$E$183,5,FALSE),0) -> 04302-Combarbalá | D64: 5 | E64: 7 | F64: 1.1 | H64: 105463-Posta de Salud Rural Quilitapia | I64: 25 | J64: 25 | K64: 25 | L64: 75
A65: 105464 | B65: =IFERROR(VLOOKUP($A65,'[2]Establecimiento 2023'!$A$1:$E$183,3,FALSE),0) -> 105464-Posta de Salud Rural La Ligua | C65: =IFERROR(VLOOKUP($A65,'[2]Establecimiento 2023'!$A$1:$E$183,5,FALSE),0) -> 04302-Combarbalá | D65: 7 | E65: 3 | F65: 1.1 | H65: 105464-Posta de Salud Rural La Ligua | I65: 10 | J65: 7 | K65: 7 | L65: 24
A66: 105465 | B66: =IFERROR(VLOOKUP($A66,'[2]Establecimiento 2023'!$A$1:$E$183,3,FALSE),0) -> 105465-Posta de Salud Rural Ramadilla | C66: =IFERROR(VLOOKUP($A66,'[2]Establecimiento 2023'!$A$1:$E$183,5,FALSE),0) -> 04302-Combarbalá | D66: 6 | E66: 1 | F66: 1.1 | H66: 105465-Posta de Salud Rural Ramadilla | I66: 1 | L66: 1
A67: 105466 | B67: =IFERROR(VLOOKUP($A67,'[2]Establecimiento 2023'!$A$1:$E$183,3,FALSE),0) -> 105466-Posta de Salud Rural Valle Hermoso | C67: =IFERROR(VLOOKUP($A67,'[2]Establecimiento 2023'!$A$1:$E$183,5,FALSE),0) -> 04302-Combarbalá | D67: 4 | E67: 5 | F67: 1.1 | H67: 105466-Posta de Salud Rural Valle Hermoso | I67: 8 | J67: 8 | K67: 8 | L67: 24
A68: 105466 | B68: =IFERROR(VLOOKUP($A68,'[2]Establecimiento 2023'!$A$1:$E$183,3,FALSE),0) -> 105466-Posta de Salud Rural Valle Hermoso | C68: =IFERROR(VLOOKUP($A68,'[2]Establecimiento 2023'!$A$1:$E$183,5,FALSE),0) -> 04302-Combarbalá | D68: 5 | E68: 3 | F68: 1.1 | H68: 04303-Monte Patria | I68: 235 | J68: 142 | K68: 142 | L68: 519
A69: 105475 | B69: =IFERROR(VLOOKUP($A69,'[2]Establecimiento 2023'!$A$1:$E$183,3,FALSE),0) -> 105475-Posta de Salud Rural Horcón (Paiguano) | C69: =IFERROR(VLOOKUP($A69,'[2]Establecimiento 2023'!$A$1:$E$183,5,FALSE),0) -> 04105-Paiguano | D69: 4 | E69: 16 | F69: 1.1 | H69: 105307-Centro de Salud Familiar Monte Patria | I69: 235 | J69: 142 | K69: 142 | L69: 519
A70: 105475 | B70: =IFERROR(VLOOKUP($A70,'[2]Establecimiento 2023'!$A$1:$E$183,3,FALSE),0) -> 105475-Posta de Salud Rural Horcón (Paiguano) | C70: =IFERROR(VLOOKUP($A70,'[2]Establecimiento 2023'!$A$1:$E$183,5,FALSE),0) -> 04105-Paiguano | D70: 5 | E70: 5 | F70: 1.1 | H70: 04304-Punitaqui | I70: 238 | J70: 238 | K70: 238 | L70: 714
A71: 105476 | B71: =IFERROR(VLOOKUP($A71,'[2]Establecimiento 2023'!$A$1:$E$183,3,FALSE),0) -> 105476-Posta de Salud Rural Monte Grande | C71: =IFERROR(VLOOKUP($A71,'[2]Establecimiento 2023'!$A$1:$E$183,5,FALSE),0) -> 04105-Paiguano | D71: 4 | E71: 12 | F71: 1.1 | H71: 105308-Centro de Salud Familiar Punitaqui | I71: 238 | J71: 238 | K71: 238 | L71: 714
A72: 105476 | B72: =IFERROR(VLOOKUP($A72,'[2]Establecimiento 2023'!$A$1:$E$183,3,FALSE),0) -> 105476-Posta de Salud Rural Monte Grande | C72: =IFERROR(VLOOKUP($A72,'[2]Establecimiento 2023'!$A$1:$E$183,5,FALSE),0) -> 04105-Paiguano | D72: 5 | E72: 7 | F72: 1.1 | H72: 04305-Rio Hurtado | I72: 84 | J72: 53 | K72: 53 | L72: 190
A73: 105477 | B73: =IFERROR(VLOOKUP($A73,'[2]Establecimiento 2023'!$A$1:$E$183,3,FALSE),0) -> 105477-Posta de Salud Rural Pisco Elqui | C73: =IFERROR(VLOOKUP($A73,'[2]Establecimiento 2023'!$A$1:$E$183,5,FALSE),0) -> 04105-Paiguano | D73: 5 | E73: 33 | F73: 1.1 | H73: 105310-Centro de Salud Familiar Pichasca | I73: 84 | J73: 53 | K73: 53 | L73: 190
A74: 105478 | B74: =IFERROR(VLOOKUP($A74,'[2]Establecimiento 2023'!$A$1:$E$183,3,FALSE),0) -> 105478-Posta de Salud Rural Caimanes | C74: =IFERROR(VLOOKUP($A74,'[2]Establecimiento 2023'!$A$1:$E$183,5,FALSE),0) -> 04203-Los Vilos | D74: 5 | E74: 17 | F74: 1.1 | H74: 105105-Hospital Combarbalá | I74: 178 | J74: 178 | K74: 178 | L74: 534
A75: 105478 | B75: =IFERROR(VLOOKUP($A75,'[2]Establecimiento 2023'!$A$1:$E$183,3,FALSE),0) -> 105478-Posta de Salud Rural Caimanes | C75: =IFERROR(VLOOKUP($A75,'[2]Establecimiento 2023'!$A$1:$E$183,5,FALSE),0) -> 04203-Los Vilos | D75: 6 | E75: 18 | F75: 1.1 | H75: 105105-Hospital San Juan de Dios (Combarbalá) | I75: 178 | J75: 178 | K75: 178 | L75: 534
A76: 105478 | B76: =IFERROR(VLOOKUP($A76,'[2]Establecimiento 2023'!$A$1:$E$183,3,FALSE),0) -> 105478-Posta de Salud Rural Caimanes | C76: =IFERROR(VLOOKUP($A76,'[2]Establecimiento 2023'!$A$1:$E$183,5,FALSE),0) -> 04203-Los Vilos | D76: 7 | E76: 20 | F76: 1.1 | H76: 105106-Hospital Andacollo | I76: 287 | J76: 287 | K76: 287 | L76: 861
A77: 105479 | B77: =IFERROR(VLOOKUP($A77,'[2]Establecimiento 2023'!$A$1:$E$183,3,FALSE),0) -> 105479-Posta de Salud Rural Guangualí | C77: =IFERROR(VLOOKUP($A77,'[2]Establecimiento 2023'!$A$1:$E$183,5,FALSE),0) -> 04203-Los Vilos | D77: 5 | E77: 11 | F77: 1.1 | H77: 105106-Hospital Dr. José Arraño (Andacollo) | I77: 287 | J77: 287 | K77: 287 | L77: 861
A78: 105479 | B78: =IFERROR(VLOOKUP($A78,'[2]Establecimiento 2023'!$A$1:$E$183,3,FALSE),0) -> 105479-Posta de Salud Rural Guangualí | C78: =IFERROR(VLOOKUP($A78,'[2]Establecimiento 2023'!$A$1:$E$183,5,FALSE),0) -> 04203-Los Vilos | D78: 6 | E78: 26 | F78: 1.1 | H78: 105108-Hospital Los Vilos | I78: 223 | J78: 192 | K78: 169 | L78: 584
... A80: 105480 | B80: =IFERROR(VLOOKUP($A80,'[2]Establecimiento 2023'!$A$1:$E$183,3,FALSE),0) -> 105480-Posta de Salud Rural Quilimarí | C80: =IFERROR(VLOOKUP($A80,'[2]Establecimiento 2023'!$A$1:$E$183,5,FALSE),0) -> 04203-Los Vilos | D80: 5 | E80: 73 | F80: 1.1 | H80: Total general | I80: 13728 | J80: 11701 | K80: 11690 | L80: 37119
A81: 105480 | B81: =IFERROR(VLOOKUP($A81,'[2]Establecimiento 2023'!$A$1:$E$183,3,FALSE),0) -> 105480-Posta de Salud Rural Quilimarí | C81: =IFERROR(VLOOKUP($A81,'[2]Establecimiento 2023'!$A$1:$E$183,5,FALSE),0) -> 04203-Los Vilos | D81: 6 | E81: 80 | F81: 1.1
A82: 105480 | B82: =IFERROR(VLOOKUP($A82,'[2]Establecimiento 2023'!$A$1:$E$183,3,FALSE),0) -> 105480-Posta de Salud Rural Quilimarí | C82: =IFERROR(VLOOKUP($A82,'[2]Establecimiento 2023'!$A$1:$E$183,5,FALSE),0) -> 04203-Los Vilos | D82: 7 | E82: 23 | F82: 1.1
A83: 105481 | B83: =IFERROR(VLOOKUP($A83,'[2]Establecimiento 2023'!$A$1:$E$183,3,FALSE),0) -> 105481-Posta de Salud Rural Tilama | C83: =IFERROR(VLOOKUP($A83,'[2]Establecimiento 2023'!$A$1:$E$183,5,FALSE),0) -> 04203-Los Vilos | D83: 6 | E83: 5 | F83: 1.1
A84: 105491 | B84: =IFERROR(VLOOKUP($A84,'[2]Establecimiento 2023'!$A$1:$E$183,3,FALSE),0) -> 105491-Posta de Salud Rural Quelén Bajo | C84: =IFERROR(VLOOKUP($A84,'[2]Establecimiento 2023'!$A$1:$E$183,5,FALSE),0) -> 04204-Salamanca | D84: 4 | E84: 41 | F84: 1.1
A85: 105492 | B85: =IFERROR(VLOOKUP($A85,'[2]Establecimiento 2023'!$A$1:$E$183,3,FALSE),0) -> 105492-Posta de Salud Rural Camisa | C85: =IFERROR(VLOOKUP($A85,'[2]Establecimiento 2023'!$A$1:$E$183,5,FALSE),0) -> 04204-Salamanca | D85: 5 | E85: 6 | F85: 1.1
A86: 105492 | B86: =IFERROR(VLOOKUP($A86,'[2]Establecimiento 2023'!$A$1:$E$183,3,FALSE),0) -> 105492-Posta de Salud Rural Camisa | C86: =IFERROR(VLOOKUP($A86,'[2]Establecimiento 2023'!$A$1:$E$183,5,FALSE),0) -> 04204-Salamanca | D86: 6 | E86: 3 | F86: 1.1
A87: 105492 | B87: =IFERROR(VLOOKUP($A87,'[2]Establecimiento 2023'!$A$1:$E$183,3,FALSE),0) -> 105492-Posta de Salud Rural Camisa | C87: =IFERROR(VLOOKUP($A87,'[2]Establecimiento 2023'!$A$1:$E$183,5,FALSE),0) -> 04204-Salamanca | D87: 7 | E87: 7 | F87: 1.1
A88: 105500 | B88: =IFERROR(VLOOKUP($A88,'[2]Establecimiento 2023'!$A$1:$E$183,3,FALSE),0) -> 105500-Posta de Salud Rural Caleta Hornos | C88: =IFERROR(VLOOKUP($A88,'[2]Establecimiento 2023'!$A$1:$E$183,5,FALSE),0) -> 04104-La Higuera | D88: 5 | E88: 31 | F88: 1.1
A89: 105501 | B89: =IFERROR(VLOOKUP($A89,'[2]Establecimiento 2023'!$A$1:$E$183,3,FALSE),0) -> 105501-Posta de Salud Rural Arboleda Grande | C89: =IFERROR(VLOOKUP($A89,'[2]Establecimiento 2023'!$A$1:$E$183,5,FALSE),0) -> 04204-Salamanca | D89: 5 | E89: 13 | F89: 1.1
A90: 105505 | B90: =IFERROR(VLOOKUP($A90,'[2]Establecimiento 2023'!$A$1:$E$183,3,FALSE),0) -> 105505-Posta de Salud Rural Los Choros | C90: =IFERROR(VLOOKUP($A90,'[2]Establecimiento 2023'!$A$1:$E$183,5,FALSE),0) -> 04104-La Higuera | D90: 5 | E90: 24 | F90: 1.1
A91: 105506 | B91: =IFERROR(VLOOKUP($A91,'[2]Establecimiento 2023'!$A$1:$E$183,3,FALSE),0) -> 105506-Posta de Salud Rural El Trapiche | C91: =IFERROR(VLOOKUP($A91,'[2]Establecimiento 2023'!$A$1:$E$183,5,FALSE),0) -> 04104-La Higuera | D91: 5 | E91: 7 | F91: 1.1
A92: 105506 | B92: =IFERROR(VLOOKUP($A92,'[2]Establecimiento 2023'!$A$1:$E$183,3,FALSE),0) -> 105506-Posta de Salud Rural El Trapiche | C92: =IFERROR(VLOOKUP($A92,'[2]Establecimiento 2023'!$A$1:$E$183,5,FALSE),0) -> 04104-La Higuera | D92: 6 | E92: 3 | F92: 1.1
... A341: 200569 | B341: =IFERROR(VLOOKUP($A341,'[2]Establecimiento 2023'!$A$1:$E$183,3,FALSE),0) -> 200569-Centro de Salud Familiar Fray Jorge | C341: =IFERROR(VLOOKUP($A341,'[2]Establecimiento 2023'!$A$1:$E$183,5,FALSE),0) -> 04301-Ovalle | D341: 7 | E341: 278 | F341: 1.3

Sheet GES Datos
A2: Idestablecimiento | B2: Establecimiento | C2: Comuna | D2: Mes | E2: Total | F2: COMP
A3: 105104 | B3: =IFERROR(VLOOKUP($A3,'[2]Establecimiento 2023'!$A$1:$E$183,3,FALSE),0) -> 105104-Hospital de Salamanca | C3: =IFERROR(VLOOKUP($A3,'[2]Establecimiento 2023'!$A$1:$E$183,5,FALSE),0) -> 105104-Hospital Salamanca | D3: 1 | E3: 3 | F3: 1
A4: 105104 | B4: =IFERROR(VLOOKUP($A4,'[2]Establecimiento 2023'!$A$1:$E$183,3,FALSE),0) -> 105104-Hospital de Salamanca | C4: =IFERROR(VLOOKUP($A4,'[2]Establecimiento 2023'!$A$1:$E$183,5,FALSE),0) -> 105104-Hospital Salamanca | D4: 2 | E4: 3 | F4: 1 | H4: Suma de Total | I4: Etiquetas de columna
A5: 105104 | B5: =IFERROR(VLOOKUP($A5,'[2]Establecimiento 2023'!$A$1:$E$183,3,FALSE),0) -> 105104-Hospital de Salamanca | C5: =IFERROR(VLOOKUP($A5,'[2]Establecimiento 2023'!$A$1:$E$183,5,FALSE),0) -> 105104-Hospital Salamanca | D5: 3 | E5: 3 | F5: 1 | H5: Etiquetas de fila | I5: 1 | J5: 2 | K5: 2.2 | L5: 3 | M5: 4 | N5: Total general
A6: 105104 | B6: =IFERROR(VLOOKUP($A6,'[2]Establecimiento 2023'!$A$1:$E$183,3,FALSE),0) -> 105104-Hospital de Salamanca | C6: =IFERROR(VLOOKUP($A6,'[2]Establecimiento 2023'!$A$1:$E$183,5,FALSE),0) -> 105104-Hospital Salamanca | D6: 4 | E6: 0 | F6: 1 | H6: 04101-La Serena | I6: 641 | J6: 370 | K6: 1257 | L6: 1546 | M6: 111 | N6: 3925
A7: 105104 | B7: =IFERROR(VLOOKUP($A7,'[2]Establecimiento 2023'!$A$1:$E$183,3,FALSE),0) -> 105104-Hospital de Salamanca | C7: =IFERROR(VLOOKUP($A7,'[2]Establecimiento 2023'!$A$1:$E$183,5,FALSE),0) -> 105104-Hospital Salamanca | D7: 5 | E7: 1 | F7: 1 | H7: 105300-Centro de Salud Familiar Cardenal Caro | I7: 112 | J7: 136 | K7: 212 | L7: 288 | M7: 30 | N7: 778
A8: 105104 | B8: =IFERROR(VLOOKUP($A8,'[2]Establecimiento 2023'!$A$1:$E$183,3,FALSE),0) -> 105104-Hospital de Salamanca | C8: =IFERROR(VLOOKUP($A8,'[2]Establecimiento 2023'!$A$1:$E$183,5,FALSE),0) -> 105104-Hospital Salamanca | D8: 6 | E8: 1 | F8: 1 | H8: 105301-Centro de Salud Familiar Las Compañías | I8: 72 | J8: 48 | K8: 110 | L8: 572 | M8: 25 | N8: 827
A9: 105104 | B9: =IFERROR(VLOOKUP($A9,'[2]Establecimiento 2023'!$A$1:$E$183,3,FALSE),0) -> 105104-Hospital de Salamanca | C9: =IFERROR(VLOOKUP($A9,'[2]Establecimiento 2023'!$A$1:$E$183,5,FALSE),0) -> 105104-Hospital Salamanca | D9: 7 | E9: 1 | F9: 1 | H9: 105302-Centro de Salud Familiar Pedro Aguirre Cerda | I9: 45 | J9: 59 | K9: 189 | L9: 95 | M9: 26 | N9: 414
A10: 105105 | B10: =IFERROR(VLOOKUP($A10,'[2]Establecimiento 2023'!$A$1:$E$183,3,FALSE),0) -> 105105-Hospital San Juan de Dios (Combarbalá) | C10: =IFERROR(VLOOKUP($A10,'[2]Establecimiento 2023'!$A$1:$E$183,5,FALSE),0) -> 105105-Hospital Combarbalá | D10: 1 | E10: 7 | F10: 1 | H10: 105313-Centro de Salud Familiar Dr. Emilio Schaffhauser | I10: 155 | J10: 34 | K10: 289 | L10: 210 | M10: 9 | N10: 697
A11: 105105 | B11: =IFERROR(VLOOKUP($A11,'[2]Establecimiento 2023'!$A$1:$E$183,3,FALSE),0) -> 105105-Hospital San Juan de Dios (Combarbalá) | C11: =IFERROR(VLOOKUP($A11,'[2]Establecimiento 2023'!$A$1:$E$183,5,FALSE),0) -> 105105-Hospital Combarbalá | D11: 2 | E11: 4 | F11: 1 | H11: 105319-Centro de Salud Familiar Cardenal Raúl Silva Henríquez de La Serena | I11: 121 | J11: 40 | K11: 182 | L11: 62 | M11: 21 | N11: 426
A12: 105105 | B12: =IFERROR(VLOOKUP($A12,'[2]Establecimiento 2023'!$A$1:$E$183,3,FALSE),0) -> 105105-Hospital San Juan de Dios (Combarbalá) | C12: =IFERROR(VLOOKUP($A12,'[2]Establecimiento 2023'!$A$1:$E$183,5,FALSE),0) -> 105105-Hospital Combarbalá | D12: 3 | E12: 5 | F12: 1 | H12: 105325-Centro de Salud Familiar Juan Pablo II (La Serena) | I12: 99 | J12: 27 | K12: 178 | L12: 287 | N12: 591
A13: 105105 | B13: =IFERROR(VLOOKUP($A13,'[2]Establecimiento 2023'!$A$1:$E$183,3,FALSE),0) -> 105105-Hospital San Juan de Dios (Combarbalá) | C13: =IFERROR(VLOOKUP($A13,'[2]Establecimiento 2023'!$A$1:$E$183,5,FALSE),0) -> 105105-Hospital Combarbalá | D13: 4 | E13: 3 | F13: 1 | H13: 105400-Posta de Salud Rural Algarrobito | I13: 2 | J13: 0 | K13: 11 | L13: 6 | N13: 19
A14: 105105 | B14: =IFERROR(VLOOKUP($A14,'[2]Establecimiento 2023'!$A$1:$E$183,3,FALSE),0) -> 105105-Hospital San Juan de Dios (Combarbalá) | C14: =IFERROR(VLOOKUP($A14,'[2]Establecimiento 2023'!$A$1:$E$183,5,FALSE),0) -> 105105-Hospital Combarbalá | D14: 5 | E14: 5 | F14: 1 | H14: 105401-Posta de Salud Rural Las Rojas | I14: 3 | J14: 0 | K14: 9 | L14: 1 | N14: 13
A15: 105105 | B15: =IFERROR(VLOOKUP($A15,'[2]Establecimiento 2023'!$A$1:$E$183,3,FALSE),0) -> 105105-Hospital San Juan de Dios (Combarbalá) | C15: =IFERROR(VLOOKUP($A15,'[2]Establecimiento 2023'!$A$1:$E$183,5,FALSE),0) -> 105105-Hospital Combarbalá | D15: 6 | E15: 4 | F15: 1 | H15: 105402-Posta de Salud Rural El Romero | I15: 4 | J15: 0 | K15: 5 | L15: 7 | N15: 16
A16: 105105 | B16: =IFERROR(VLOOKUP($A16,'[2]Establecimiento 2023'!$A$1:$E$183,3,FALSE),0) -> 105105-Hospital San Juan de Dios (Combarbalá) | C16: =IFERROR(VLOOKUP($A16,'[2]Establecimiento 2023'!$A$1:$E$183,5,FALSE),0) -> 105105-Hospital Combarbalá | D16: 7 | E16: 11 | F16: 1 | H16: 105499-Posta de Salud Rural Lambert | I16: 0 | J16: 0 | K16: 4 | L16: 1 | N16: 5
A17: 105106 | B17: =IFERROR(VLOOKUP($A17,'[2]Establecimiento 2023'!$A$1:$E$183,3,FALSE),0) -> 105106-Hospital Dr. José Arraño (Andacollo) | C17: =IFERROR(VLOOKUP($A17,'[2]Establecimiento 2023'!$A$1:$E$183,5,FALSE),0) -> 105106-Hospital Andacollo | D17: 1 | E17: 4 | F17: 1 | H17: 105700-Centro Comunitario de Salud Familiar Villa el Indio | I17: 0 | J17: 11 | K17: 11 | N17: 22
A18: 105106 | B18: =IFERROR(VLOOKUP($A18,'[2]Establecimiento 2023'!$A$1:$E$183,3,FALSE),0) -> 105106-Hospital Dr. José Arraño (Andacollo) | C18: =IFERROR(VLOOKUP($A18,'[2]Establecimiento 2023'!$A$1:$E$183,5,FALSE),0) -> 105106-Hospital Andacollo | D18: 2 | E18: 2 | F18: 1 | H18: 105701-Centro Comunitario de Salud Familiar Villa Alemania | I18: 3 | J18: 0 | K18: 13 | L18: 4 | N18: 20
A19: 105106 | B19: =IFERROR(VLOOKUP($A19,'[2]Establecimiento 2023'!$A$1:$E$183,3,FALSE),0) -> 105106-Hospital Dr. José Arraño (Andacollo) | C19: =IFERROR(VLOOKUP($A19,'[2]Establecimiento 2023'!$A$1:$E$183,5,FALSE),0) -> 105106-Hospital Andacollo | D19: 3 | E19: 5 | F19: 1 | H19: 105702-Centro Comunitario de Salud Familiar Lambert | I19: 4 | K19: 18 | L19: 4 | N19: 26
A20: 105106 | B20: =IFERROR(VLOOKUP($A20,'[2]Establecimiento 2023'!$A$1:$E$183,3,FALSE),0) -> 105106-Hospital Dr. José Arraño (Andacollo) | C20: =IFERROR(VLOOKUP($A20,'[2]Establecimiento 2023'!$A$1:$E$183,5,FALSE),0) -> 105106-Hospital Andacollo | D20: 4 | E20: 2 | F20: 1 | H20: 200402-Centro Comunitario de Salud Familiar Arcos de Pinamar | I20: 21 | J20: 15 | K20: 26 | L20: 9 | N20: 71
A21: 105106 | B21: =IFERROR(VLOOKUP($A21,'[2]Establecimiento 2023'!$A$1:$E$183,3,FALSE),0) -> 105106-Hospital Dr. José Arraño (Andacollo) | C21: =IFERROR(VLOOKUP($A21,'[2]Establecimiento 2023'!$A$1:$E$183,5,FALSE),0) -> 105106-Hospital Andacollo | D21: 5 | E21: 7 | F21: 1 | H21: 04102-Coquimbo | I21: 337 | J21: 85 | K21: 1204 | L21: 1205 | M21: 45 | N21: 2876
A22: 105106 | B22: =IFERROR(VLOOKUP($A22,'[2]Establecimiento 2023'!$A$1:$E$183,3,FALSE),0) -> 105106-Hospital Dr. José Arraño (Andacollo) | C22: =IFERROR(VLOOKUP($A22,'[2]Establecimiento 2023'!$A$1:$E$183,5,FALSE),0) -> 105106-Hospital Andacollo | D22: 6 | E22: 3 | F22: 1 | H22: 105303-Centro de Salud Familiar San Juan | I22: 50 | J22: 9 | K22: 169 | L22: 112 | N22: 340
A23: 105106 | B23: =IFERROR(VLOOKUP($A23,'[2]Establecimiento 2023'!$A$1:$E$183,3,FALSE),0) -> 105106-Hospital Dr. José Arraño (Andacollo) | C23: =IFERROR(VLOOKUP($A23,'[2]Establecimiento 2023'!$A$1:$E$183,5,FALSE),0) -> 105106-Hospital Andacollo | D23: 7 | E23: 1 | F23: 1 | H23: 105304-Centro de Salud Familiar Santa Cecilia | I23: 43 | J23: 18 | K23: 151 | L23: 205 | M23: 37 | N23: 454
A24: 105107 | B24: =IFERROR(VLOOKUP($A24,'[2]Establecimiento 2023'!$A$1:$E$183,3,FALSE),0) -> 105107-Hospital San Juan de Dios (Vicuña) | C24: =IFERROR(VLOOKUP($A24,'[2]Establecimiento 2023'!$A$1:$E$183,5,FALSE),0) -> 105107-Hospital Vicuña | D24: 1 | E24: 0 | F24: 1 | H24: 105305-Centro de Salud Familiar Tierras Blancas | I24: 83 | J24: 5 | K24: 189 | L24: 105 | M24: 4 | N24: 386
A25: 105107 | B25: =IFERROR(VLOOKUP($A25,'[2]Establecimiento 2023'!$A$1:$E$183,3,FALSE),0) -> 105107-Hospital San Juan de Dios (Vicuña) | C25: =IFERROR(VLOOKUP($A25,'[2]Establecimiento 2023'!$A$1:$E$183,5,FALSE),0) -> 105107-Hospital Vicuña | D25: 2 | E25: 2 | F25: 1 | H25: 105321-Centro de Salud Familiar Tongoy | I25: 9 | J25: 9 | K25: 45 | L25: 119 | M25: 2 | N25: 184
A26: 105107 | B26: =IFERROR(VLOOKUP($A26,'[2]Establecimiento 2023'!$A$1:$E$183,3,FALSE),0) -> 105107-Hospital San Juan de Dios (Vicuña) | C26: =IFERROR(VLOOKUP($A26,'[2]Establecimiento 2023'!$A$1:$E$183,5,FALSE),0) -> 105107-Hospital Vicuña | D26: 3 | E26: 3 | F26: 1 | H26: 105323-Centro de Salud Familiar Dr. Sergio Aguilar Delgado | I26: 58 | J26: 6 | K26: 185 | L26: 143 | N26: 392
A27: 105107 | B27: =IFERROR(VLOOKUP($A27,'[2]Establecimiento 2023'!$A$1:$E$183,3,FALSE),0) -> 105107-Hospital San Juan de Dios (Vicuña) | C27: =IFERROR(VLOOKUP($A27,'[2]Establecimiento 2023'!$A$1:$E$183,5,FALSE),0) -> 105107-Hospital Vicuña | D27: 4 | E27: 5 | F27: 1 | H27: 105405-Posta de Salud Rural Guanaqueros | I27: 0 | J27: 1 | K27: 12 | L27: 26 | M27: 2 | N27: 41
A28: 105107 | B28: =IFERROR(VLOOKUP($A28,'[2]Establecimiento 2023'!$A$1:$E$183,3,FALSE),0) -> 105107-Hospital San Juan de Dios (Vicuña) | C28: =IFERROR(VLOOKUP($A28,'[2]Establecimiento 2023'!$A$1:$E$183,5,FALSE),0) -> 105107-Hospital Vicuña | D28: 5 | E28: 3 | F28: 1 | H28: 105407-Posta de Salud Rural Tambillo | K28: 2 | N28: 2
A29: 105107 | B29: =IFERROR(VLOOKUP($A29,'[2]Establecimiento 2023'!$A$1:$E$183,3,FALSE),0) -> 105107-Hospital San Juan de Dios (Vicuña) | C29: =IFERROR(VLOOKUP($A29,'[2]Establecimiento 2023'!$A$1:$E$183,5,FALSE),0) -> 105107-Hospital Vicuña | D29: 6 | E29: 1 | F29: 1 | H29: 105803-SAPU San Juan | I29: 5 | J29: 1 | K29: 14 | L29: 19 | N29: 39
A30: 105107 | B30: =IFERROR(VLOOKUP($A30,'[2]Establecimiento 2023'!$A$1:$E$183,3,FALSE),0) -> 105107-Hospital San Juan de Dios (Vicuña) | C30: =IFERROR(VLOOKUP($A30,'[2]Establecimiento 2023'!$A$1:$E$183,5,FALSE),0) -> 105107-Hospital Vicuña | D30: 7 | E30: 0 | F30: 1 | H30: 200273-Centro Comunitario de Salud Familiar Punta Mira | I30: 3 | J30: 0 | K30: 19 | L30: 37 | N30: 59
A31: 105108 | B31: =IFERROR(VLOOKUP($A31,'[2]Establecimiento 2023'!$A$1:$E$183,3,FALSE),0) -> 105108-Hospital San Pedro (Los Vilos) | C31: =IFERROR(VLOOKUP($A31,'[2]Establecimiento 2023'!$A$1:$E$183,5,FALSE),0) -> 105108-Hospital Los Vilos | D31: 1 | E31: 1 | F31: 1 | H31: 200494-Centro de Salud Familiar El Sauce | I31: 31 | J31: 14 | K31: 147 | L31: 147 | N31: 339
A32: 105108 | B32: =IFERROR(VLOOKUP($A32,'[2]Establecimiento 2023'!$A$1:$E$183,3,FALSE),0) -> 105108-Hospital San Pedro (Los Vilos) | C32: =IFERROR(VLOOKUP($A32,'[2]Establecimiento 2023'!$A$1:$E$183,5,FALSE),0) -> 105108-Hospital Los Vilos | D32: 2 | E32: 1 | F32: 1 | H32: 200499-Centro de Salud Familiar Rural Pan de Azúcar | I32: 29 | J32: 7 | K32: 91 | L32: 92 | N32: 219
A33: 105108 | B33: =IFERROR(VLOOKUP($A33,'[2]Establecimiento 2023'!$A$1:$E$183,3,FALSE),0) -> 105108-Hospital San Pedro (Los Vilos) | C33: =IFERROR(VLOOKUP($A33,'[2]Establecimiento 2023'!$A$1:$E$183,5,FALSE),0) -> 105108-Hospital Los Vilos | D33: 3 | E33: 5 | F33: 1 | H33: 200607-Centro de Salud Familiar Lila Cortés Godoy | I33: 26 | J33: 15 | K33: 180 | L33: 200 | N33: 421
A34: 105108 | B34: =IFERROR(VLOOKUP($A34,'[2]Establecimiento 2023'!$A$1:$E$183,3,FALSE),0) -> 105108-Hospital San Pedro (Los Vilos) | C34: =IFERROR(VLOOKUP($A34,'[2]Establecimiento 2023'!$A$1:$E$183,5,FALSE),0) -> 105108-Hospital Los Vilos | D34: 4 | E34: 8 | F34: 1 | H34: 04104-La Higuera | I34: 7 | J34: 11 | K34: 41 | L34: 9 | N34: 68
A35: 105108 | B35: =IFERROR(VLOOKUP($A35,'[2]Establecimiento 2023'!$A$1:$E$183,3,FALSE),0) -> 105108-Hospital San Pedro (Los Vilos) | C35: =IFERROR(VLOOKUP($A35,'[2]Establecimiento 2023'!$A$1:$E$183,5,FALSE),0) -> 105108-Hospital Los Vilos | D35: 5 | E35: 5 | F35: 1 | H35: 105314-Centro de Salud Familiar La Higuera | I35: 2 | J35: 7 | K35: 23 | L35: 8 | N35: 40
A36: 105108 | B36: =IFERROR(VLOOKUP($A36,'[2]Establecimiento 2023'!$A$1:$E$183,3,FALSE),0) -> 105108-Hospital San Pedro (Los Vilos) | C36: =IFERROR(VLOOKUP($A36,'[2]Establecimiento 2023'!$A$1:$E$183,5,FALSE),0) -> 105108-Hospital Los Vilos | D36: 6 | E36: 6 | F36: 1 | H36: 105500-Posta de Salud Rural Caleta Hornos | I36: 2 | J36: 2 | K36: 11 | L36: 1 | N36: 16
A37: 105108 | B37: =IFERROR(VLOOKUP($A37,'[2]Establecimiento 2023'!$A$1:$E$183,3,FALSE),0) -> 105108-Hospital San Pedro (Los Vilos) | C37: =IFERROR(VLOOKUP($A37,'[2]Establecimiento 2023'!$A$1:$E$183,5,FALSE),0) -> 105108-Hospital Los Vilos | D37: 7 | E37: 6 | F37: 1 | H37: 105505-Posta de Salud Rural Los Choros | I37: 2 | J37: 0 | K37: 4 | N37: 6
A38: 105300 | B38: =IFERROR(VLOOKUP($A38,'[2]Establecimiento 2023'!$A$1:$E$183,3,FALSE),0) -> 105300-Centro de Salud Familiar Cardenal Caro | C38: =IFERROR(VLOOKUP($A38,'[2]Establecimiento 2023'!$A$1:$E$183,5,FALSE),0) -> 04101-La Serena | D38: 1 | E38: 20 | F38: 1 | H38: 105506-Posta de Salud Rural El Trapiche | I38: 1 | J38: 2 | K38: 3 | N38: 6
A39: 105300 | B39: =IFERROR(VLOOKUP($A39,'[2]Establecimiento 2023'!$A$1:$E$183,3,FALSE),0) -> 105300-Centro de Salud Familiar Cardenal Caro | C39: =IFERROR(VLOOKUP($A39,'[2]Establecimiento 2023'!$A$1:$E$183,5,FALSE),0) -> 04101-La Serena | D39: 2 | E39: 10 | F39: 1 | H39: 04105-Paihuano | I39: 31 | J39: 23 | K39: 23 | L39: 25 | N39: 102
A40: 105300 | B40: =IFERROR(VLOOKUP($A40,'[2]Establecimiento 2023'!$A$1:$E$183,3,FALSE),0) -> 105300-Centro de Salud Familiar Cardenal Caro | C40: =IFERROR(VLOOKUP($A40,'[2]Establecimiento 2023'!$A$1:$E$183,5,FALSE),0) -> 04101-La Serena | D40: 3 | E40: 9 | F40: 1 | H40: 105306-Centro de Salud Familiar Paihuano | I40: 16 | J40: 23 | K40: 21 | L40: 25 | N40: 85
A41: 105300 | B41: =IFERROR(VLOOKUP($A41,'[2]Establecimiento 2023'!$A$1:$E$183,3,FALSE),0) -> 105300-Centro de Salud Familiar Cardenal Caro | C41: =IFERROR(VLOOKUP($A41,'[2]Establecimiento 2023'!$A$1:$E$183,5,FALSE),0) -> 04101-La Serena | D41: 4 | E41: 10 | F41: 1 | H41: 105475-Posta de Salud Rural Horcón (Paiguano) | I41: 6 | J41: 0 | K41: 2 | N41: 8
A42: 105300 | B42: =IFERROR(VLOOKUP($A42,'[2]Establecimiento 2023'!$A$1:$E$183,3,FALSE),0) -> 105300-Centro de Salud Familiar Cardenal Caro | C42: =IFERROR(VLOOKUP($A42,'[2]Establecimiento 2023'!$A$1:$E$183,5,FALSE),0) -> 04101-La Serena | D42: 5 | E42: 42 | F42: 1 | H42: 105476-Posta de Salud Rural Monte Grande | I42: 4 | J42: 0 | N42: 4
A43: 105300 | B43: =IFERROR(VLOOKUP($A43,'[2]Establecimiento 2023'!$A$1:$E$183,3,FALSE),0) -> 105300-Centro de Salud Familiar Cardenal Caro | C43: =IFERROR(VLOOKUP($A43,'[2]Establecimiento 2023'!$A$1:$E$183,5,FALSE),0) -> 04101-La Serena | D43: 6 | E43: 16 | F43: 1 | H43: 105477-Posta de Salud Rural Pisco Elqui | I43: 5 | J43: 0 | N43: 5
A44: 105300 | B44: =IFERROR(VLOOKUP($A44,'[2]Establecimiento 2023'!$A$1:$E$183,3,FALSE),0) -> 105300-Centro de Salud Familiar Cardenal Caro | C44: =IFERROR(VLOOKUP($A44,'[2]Establecimiento 2023'!$A$1:$E$183,5,FALSE),0) -> 04101-La Serena | D44: 7 | E44: 5 | F44: 1 | H44: 04106-Vicuña | I44: 57 | J44: 8 | K44: 62 | L44: 72 | N44: 199
A45: 105301 | B45: =IFERROR(VLOOKUP($A45,'[2]Establecimiento 2023'!$A$1:$E$183,3,FALSE),0) -> 105301-Centro de Salud Familiar Las Compañías | C45: =IFERROR(VLOOKUP($A45,'[2]Establecimiento 2023'!$A$1:$E$183,5,FALSE),0) -> 04101-La Serena | D45: 1 | E45: 1 | F45: 1 | H45: 105467-Posta de Salud Rural Diaguitas | I45: 9 | J45: 1 | K45: 6 | L45: 2 | N45: 18
A46: 105301 | B46: =IFERROR(VLOOKUP($A46,'[2]Establecimiento 2023'!$A$1:$E$183,3,FALSE),0) -> 105301-Centro de Salud Familiar Las Compañías | C46: =IFERROR(VLOOKUP($A46,'[2]Establecimiento 2023'!$A$1:$E$183,5,FALSE),0) -> 04101-La Serena | D46: 2 | E46: 6 | F46: 1 | H46: 105468-Posta de Salud Rural El Molle | I46: 6 | J46: 1 | K46: 4 | L46: 1 | N46: 12
A47: 105301 | B47: =IFERROR(VLOOKUP($A47,'[2]Establecimiento 2023'!$A$1:$E$183,3,FALSE),0) -> 105301-Centro de Salud Familiar Las Compañías | C47: =IFERROR(VLOOKUP($A47,'[2]Establecimiento 2023'!$A$1:$E$183,5,FALSE),0) -> 04101-La Serena | D47: 3 | E47: 2 | F47: 1 | H47: 105469-Posta de Salud Rural El Tambo (Vicuña) | I47: 4 | J47: 0 | K47: 7 | L47: 5 | N47: 16
A48: 105301 | B48: =IFERROR(VLOOKUP($A48,'[2]Establecimiento 2023'!$A$1:$E$183,3,FALSE),0) -> 105301-Centro de Salud Familiar Las Compañías | C48: =IFERROR(VLOOKUP($A48,'[2]Establecimiento 2023'!$A$1:$E$183,5,FALSE),0) -> 04101-La Serena | D48: 4 | E48: 33 | F48: 1 | H48: 105470-Posta de Salud Rural Huanta | I48: 0 | N48: 0
A49: 105301 | B49: =IFERROR(VLOOKUP($A49,'[2]Establecimiento 2023'!$A$1:$E$183,3,FALSE),0) -> 105301-Centro de Salud Familiar Las Compañías | C49: =IFERROR(VLOOKUP($A49,'[2]Establecimiento 2023'!$A$1:$E$183,5,FALSE),0) -> 04101-La Serena | D49: 5 | E49: 22 | F49: 1 | H49: 105471-Posta de Salud Rural Peralillo Vicuña | I49: 15 | J49: 0 | K49: 12 | L49: 1 | N49: 28
A50: 105301 | B50: =IFERROR(VLOOKUP($A50,'[2]Establecimiento 2023'!$A$1:$E$183,3,FALSE),0) -> 105301-Centro de Salud Familiar Las Compañías | C50: =IFERROR(VLOOKUP($A50,'[2]Establecimiento 2023'!$A$1:$E$183,5,FALSE),0) -> 04101-La Serena | D50: 6 | E50: 7 | F50: 1 | H50: 105472-Posta de Salud Rural Rivadavia | I50: 10 | J50: 0 | K50: 4 | L50: 4 | N50: 18
A51: 105301 | B51: =IFERROR(VLOOKUP($A51,'[2]Establecimiento 2023'!$A$1:$E$183,3,FALSE),0) -> 105301-Centro de Salud Familiar Las Compañías | C51: =IFERROR(VLOOKUP($A51,'[2]Establecimiento 2023'!$A$1:$E$183,5,FALSE),0) -> 04101-La Serena | D51: 7 | E51: 1 | F51: 1 | H51: 105473-Posta de Salud Rural Talcuna | I51: 5 | J51: 1 | K51: 5 | L51: 2 | N51: 13
A52: 105302 | B52: =IFERROR(VLOOKUP($A52,'[2]Establecimiento 2023'!$A$1:$E$183,3,FALSE),0) -> 105302-Centro de Salud Familiar Pedro Aguirre Cerda | C52: =IFERROR(VLOOKUP($A52,'[2]Establecimiento 2023'!$A$1:$E$183,5,FALSE),0) -> 04101-La Serena | D52: 1 | E52: 4 | F52: 1 | H52: 105474-Posta de Salud Rural Chapilca | I52: 1 | J52: 0 | K52: 2 | L52: 1 | N52: 4
A53: 105302 | B53: =IFERROR(VLOOKUP($A53,'[2]Establecimiento 2023'!$A$1:$E$183,3,FALSE),0) -> 105302-Centro de Salud Familiar Pedro Aguirre Cerda | C53: =IFERROR(VLOOKUP($A53,'[2]Establecimiento 2023'!$A$1:$E$183,5,FALSE),0) -> 04101-La Serena | D53: 2 | E53: 9 | F53: 1 | H53: 105509-Posta de Salud Rural Gualliguaica | I53: 2 | J53: 0 | K53: 3 | L53: 1 | N53: 6
A54: 105302 | B54: =IFERROR(VLOOKUP($A54,'[2]Establecimiento 2023'!$A$1:$E$183,3,FALSE),0) -> 105302-Centro de Salud Familiar Pedro Aguirre Cerda | C54: =IFERROR(VLOOKUP($A54,'[2]Establecimiento 2023'!$A$1:$E$183,5,FALSE),0) -> 04101-La Serena | D54: 3 | E54: 9 | F54: 1 | H54: 200538-Centro de Salud Familiar San Isidro Calingasta | I54: 5 | J54: 5 | K54: 19 | L54: 55 | N54: 84
A55: 105302 | B55: =IFERROR(VLOOKUP($A55,'[2]Establecimiento 2023'!$A$1:$E$183,3,FALSE),0) -> 105302-Centro de Salud Familiar Pedro Aguirre Cerda | C55: =IFERROR(VLOOKUP($A55,'[2]Establecimiento 2023'!$A$1:$E$183,5,FALSE),0) -> 04101-La Serena | D55: 4 | E55: 9 | F55: 1 | H55: 04201-Illapel | I55: 52 | J55: 42 | K55: 128 | L55: 342 | M55: 10 | N55: 574
A56: 105302 | B56: =IFERROR(VLOOKUP($A56,'[2]Establecimiento 2023'!$A$1:$E$183,3,FALSE),0) -> 105302-Centro de Salud Familiar Pedro Aguirre Cerda | C56: =IFERROR(VLOOKUP($A56,'[2]Establecimiento 2023'!$A$1:$E$183,5,FALSE),0) -> 04101-La Serena | D56: 5 | E56: 6 | F56: 1 | H56: 105326-Centro de Salud Familiar Villa San Rafael de Rozas | I56: 5 | J56: 17 | K56: 22 | L56: 152 | N56: 196
A57: 105302 | B57: =IFERROR(VLOOKUP($A57,'[2]Establecimiento 2023'!$A$1:$E$183,3,FALSE),0) -> 105302-Centro de Salud Familiar Pedro Aguirre Cerda | C57: =IFERROR(VLOOKUP($A57,'[2]Establecimiento 2023'!$A$1:$E$183,5,FALSE),0) -> 04101-La Serena | D57: 6 | E57: 5 | F57: 1 | H57: 105443-Posta de Salud Rural Cárcamo | I57: 3 | J57: 1 | K57: 2 | M57: 1 | N57: 7
A58: 105302 | B58: =IFERROR(VLOOKUP($A58,'[2]Establecimiento 2023'!$A$1:$E$183,3,FALSE),0) -> 105302-Centro de Salud Familiar Pedro Aguirre Cerda | C58: =IFERROR(VLOOKUP($A58,'[2]Establecimiento 2023'!$A$1:$E$183,5,FALSE),0) -> 04101-La Serena | D58: 7 | E58: 3 | F58: 1 | H58: 105444-Posta de Salud Rural Huintil | I58: 0 | J58: 1 | N58: 1
A59: 105303 | B59: =IFERROR(VLOOKUP($A59,'[2]Establecimiento 2023'!$A$1:$E$183,3,FALSE),0) -> 105303-Centro de Salud Familiar San Juan | C59: =IFERROR(VLOOKUP($A59,'[2]Establecimiento 2023'!$A$1:$E$183,5,FALSE),0) -> 04102-Coquimbo | D59: 1 | E59: 11 | F59: 1 | H59: 105445-Posta de Salud Rural Limáhuida | I59: 3 | J59: 0 | K59: 2 | L59: 2 | N59: 7
A60: 105303 | B60: =IFERROR(VLOOKUP($A60,'[2]Establecimiento 2023'!$A$1:$E$183,3,FALSE),0) -> 105303-Centro de Salud Familiar San Juan | C60: =IFERROR(VLOOKUP($A60,'[2]Establecimiento 2023'!$A$1:$E$183,5,FALSE),0) -> 04102-Coquimbo | D60: 2 | E60: 7 | F60: 1 | H60: 105446-Posta de Salud Rural Matancilla | I60: 2 | N60: 2
A61: 105303 | B61: =IFERROR(VLOOKUP($A61,'[2]Establecimiento 2023'!$A$1:$E$183,3,FALSE),0) -> 105303-Centro de Salud Familiar San Juan | C61: =IFERROR(VLOOKUP($A61,'[2]Establecimiento 2023'!$A$1:$E$183,5,FALSE),0) -> 04102-Coquimbo | D61: 3 | E61: 10 | F61: 1 | H61: 105447-Posta de Salud Rural Peralillo Illapel | I61: 3 | J61: 1 | K61: 3 | N61: 7
A62: 105303 | B62: =IFERROR(VLOOKUP($A62,'[2]Establecimiento 2023'!$A$1:$E$183,3,FALSE),0) -> 105303-Centro de Salud Familiar San Juan | C62: =IFERROR(VLOOKUP($A62,'[2]Establecimiento 2023'!$A$1:$E$183,5,FALSE),0) -> 04102-Coquimbo | D62: 4 | E62: 6 | F62: 1 | H62: 105448-Posta de Salud Rural Santa Virginia | I62: 0 | K62: 3 | M62: 1 | N62: 4
A63: 105303 | B63: =IFERROR(VLOOKUP($A63,'[2]Establecimiento 2023'!$A$1:$E$183,3,FALSE),0) -> 105303-Centro de Salud Familiar San Juan | C63: =IFERROR(VLOOKUP($A63,'[2]Establecimiento 2023'!$A$1:$E$183,5,FALSE),0) -> 04102-Coquimbo | D63: 5 | E63: 5 | F63: 1 | H63: 105449-Posta de Salud Rural Tunga Norte | I63: 1 | N63: 1
A64: 105303 | B64: =IFERROR(VLOOKUP($A64,'[2]Establecimiento 2023'!$A$1:$E$183,3,FALSE),0) -> 105303-Centro de Salud Familiar San Juan | C64: =IFERROR(VLOOKUP($A64,'[2]Establecimiento 2023'!$A$1:$E$183,5,FALSE),0) -> 04102-Coquimbo | D64: 6 | E64: 5 | F64: 1 | H64: 105485-Posta de Salud Rural Plan de Hornos | I64: 0 | J64: 1 | K64: 2 | N64: 3
A65: 105303 | B65: =IFERROR(VLOOKUP($A65,'[2]Establecimiento 2023'!$A$1:$E$183,3,FALSE),0) -> 105303-Centro de Salud Familiar San Juan | C65: =IFERROR(VLOOKUP($A65,'[2]Establecimiento 2023'!$A$1:$E$183,5,FALSE),0) -> 04102-Coquimbo | D65: 7 | E65: 6 | F65: 1 | H65: 105486-Posta de Salud Rural Tunga Sur | I65: 0 | L65: 1 | M65: 1 | N65: 2
A66: 105304 | B66: =IFERROR(VLOOKUP($A66,'[2]Establecimiento 2023'!$A$1:$E$183,3,FALSE),0) -> 105304-Centro de Salud Familiar Santa Cecilia | C66: =IFERROR(VLOOKUP($A66,'[2]Establecimiento 2023'!$A$1:$E$183,5,FALSE),0) -> 04102-Coquimbo | D66: 1 | E66: 2 | F66: 1 | H66: 105487-Posta de Salud Rural Cañas Uno | I66: 4 | J66: 2 | K66: 10 | L66: 4 | N66: 20
A67: 105304 | B67: =IFERROR(VLOOKUP($A67,'[2]Establecimiento 2023'!$A$1:$E$183,3,FALSE),0) -> 105304-Centro de Salud Familiar Santa Cecilia | C67: =IFERROR(VLOOKUP($A67,'[2]Establecimiento 2023'!$A$1:$E$183,5,FALSE),0) -> 04102-Coquimbo | D67: 2 | E67: 2 | F67: 1 | H67: 105496-Posta de Salud Rural Pintacura Sur | I67: 0 | K67: 1 | N67: 1
A68: 105304 | B68: =IFERROR(VLOOKUP($A68,'[2]Establecimiento 2023'!$A$1:$E$183,3,FALSE),0) -> 105304-Centro de Salud Familiar Santa Cecilia | C68: =IFERROR(VLOOKUP($A68,'[2]Establecimiento 2023'!$A$1:$E$183,5,FALSE),0) -> 04102-Coquimbo | D68: 3 | E68: 13 | F68: 1 | H68: 105504-Posta de Salud Rural Socavón | I68: 2 | K68: 1 | N68: 3
A69: 105304 | B69: =IFERROR(VLOOKUP($A69,'[2]Establecimiento 2023'!$A$1:$E$183,3,FALSE),0) -> 105304-Centro de Salud Familiar Santa Cecilia | C69: =IFERROR(VLOOKUP($A69,'[2]Establecimiento 2023'!$A$1:$E$183,5,FALSE),0) -> 04102-Coquimbo | D69: 4 | E69: 4 | F69: 1 | H69: 200366-Centro de Salud Familiar Urbano de Illapel | I69: 29 | J69: 19 | K69: 82 | L69: 183 | M69: 7 | N69: 320
A70: 105304 | B70: =IFERROR(VLOOKUP($A70,'[2]Establecimiento 2023'!$A$1:$E$183,3,FALSE),0) -> 105304-Centro de Salud Familiar Santa Cecilia | C70: =IFERROR(VLOOKUP($A70,'[2]Establecimiento 2023'!$A$1:$E$183,5,FALSE),0) -> 04102-Coquimbo | D70: 5 | E70: 8 | F70: 1 | H70: 04202-Canela | I70: 29 | J70: 5 | K70: 37 | L70: 273 | N70: 344
A71: 105304 | B71: =IFERROR(VLOOKUP($A71,'[2]Establecimiento 2023'!$A$1:$E$183,3,FALSE),0) -> 105304-Centro de Salud Familiar Santa Cecilia | C71: =IFERROR(VLOOKUP($A71,'[2]Establecimiento 2023'!$A$1:$E$183,5,FALSE),0) -> 04102-Coquimbo | D71: 6 | E71: 8 | F71: 1 | H71: 105309-Centro de Salud Familiar Canela | I71: 18 | J71: 5 | K71: 37 | L71: 270 | N71: 330
A72: 105304 | B72: =IFERROR(VLOOKUP($A72,'[2]Establecimiento 2023'!$A$1:$E$183,3,FALSE),0) -> 105304-Centro de Salud Familiar Santa Cecilia | C72: =IFERROR(VLOOKUP($A72,'[2]Establecimiento 2023'!$A$1:$E$183,5,FALSE),0) -> 04102-Coquimbo | D72: 7 | E72: 6 | F72: 1 | H72: 105450-Posta de Salud Rural Mincha Norte | I72: 1 | L72: 2 | N72: 3
A73: 105305 | B73: =IFERROR(VLOOKUP($A73,'[2]Establecimiento 2023'!$A$1:$E$183,3,FALSE),0) -> 105305-Centro de Salud Familiar Tierras Blancas | C73: =IFERROR(VLOOKUP($A73,'[2]Establecimiento 2023'!$A$1:$E$183,5,FALSE),0) -> 04102-Coquimbo | D73: 1 | E73: 7 | F73: 1 | H73: 105451-Posta de Salud Rural Agua Fría | I73: 3 | N73: 3
A74: 105305 | B74: =IFERROR(VLOOKUP($A74,'[2]Establecimiento 2023'!$A$1:$E$183,3,FALSE),0) -> 105305-Centro de Salud Familiar Tierras Blancas | C74: =IFERROR(VLOOKUP($A74,'[2]Establecimiento 2023'!$A$1:$E$183,5,FALSE),0) -> 04102-Coquimbo | D74: 2 | E74: 18 | F74: 1 | H74: 105483-Posta de Salud Rural Los Rulos | I74: 1 | N74: 1
A75: 105305 | B75: =IFERROR(VLOOKUP($A75,'[2]Establecimiento 2023'!$A$1:$E$183,3,FALSE),0) -> 105305-Centro de Salud Familiar Tierras Blancas | C75: =IFERROR(VLOOKUP($A75,'[2]Establecimiento 2023'!$A$1:$E$183,5,FALSE),0) -> 04102-Coquimbo | D75: 3 | E75: 4 | F75: 1 | H75: 105484-Posta de Salud Rural Huentelauquén | I75: 6 | L75: 1 | N75: 7
A76: 105305 | B76: =IFERROR(VLOOKUP($A76,'[2]Establecimiento 2023'!$A$1:$E$183,3,FALSE),0) -> 105305-Centro de Salud Familiar Tierras Blancas | C76: =IFERROR(VLOOKUP($A76,'[2]Establecimiento 2023'!$A$1:$E$183,5,FALSE),0) -> 04102-Coquimbo | D76: 4 | E76: 1 | F76: 1 | H76: 04203-Los Vilos | I76: 10 | J76: 3 | K76: 19 | L76: 91 | M76: 4 | N76: 127
A77: 105305 | B77: =IFERROR(VLOOKUP($A77,'[2]Establecimiento 2023'!$A$1:$E$183,3,FALSE),0) -> 105305-Centro de Salud Familiar Tierras Blancas | C77: =IFERROR(VLOOKUP($A77,'[2]Establecimiento 2023'!$A$1:$E$183,5,FALSE),0) -> 04102-Coquimbo | D77: 5 | E77: 6 | F77: 1 | H77: 105478-Posta de Salud Rural Caimanes | I77: 3 | J77: 1 | K77: 4 | L77: 31 | M77: 3 | N77: 42
A78: 105305 | B78: =IFERROR(VLOOKUP($A78,'[2]Establecimiento 2023'!$A$1:$E$183,3,FALSE),0) -> 105305-Centro de Salud Familiar Tierras Blancas | C78: =IFERROR(VLOOKUP($A78,'[2]Establecimiento 2023'!$A$1:$E$183,5,FALSE),0) -> 04102-Coquimbo | D78: 6 | E78: 6 | F78: 1 | H78: 105479-Posta de Salud Rural Guangualí | I78: 1 | K78: 4 | L78: 5 | N78: 10
A79: 105305 | B79: =IFERROR(VLOOKUP($A79,'[2]Establecimiento 2023'!$A$1:$E$183,3,FALSE),0) -> 105305-Centro de Salud Familiar Tierras Blancas | C79: =IFERROR(VLOOKUP($A79,'[2]Establecimiento 2023'!$A$1:$E$183,5,FALSE),0) -> 04102-Coquimbo | D79: 7 | E79: 41 | F79: 1 | H79: 105480-Posta de Salud Rural Quilimarí | I79: 4 | J79: 1 | K79: 6 | L79: 25 | M79: 1 | N79: 37
A80: 105306 | B80: =IFERROR(VLOOKUP($A80,'[2]Establecimiento 2023'!$A$1:$E$183,3,FALSE),0) -> 105306-Centro de Salud Familiar Paihuano | C80: =IFERROR(VLOOKUP($A80,'[2]Establecimiento 2023'!$A$1:$E$183,5,FALSE),0) -> 04105-Paiguano | D80: 1 | E80: 1 | F80: 1 | H80: 105481-Posta de Salud Rural Tilama | I80: 1 | K80: 2 | L80: 13 | N80: 16
A81: 105306 | B81: =IFERROR(VLOOKUP($A81,'[2]Establecimiento 2023'!$A$1:$E$183,3,FALSE),0) -> 105306-Centro de Salud Familiar Paihuano | C81: =IFERROR(VLOOKUP($A81,'[2]Establecimiento 2023'!$A$1:$E$183,5,FALSE),0) -> 04105-Paiguano | D81: 2 | E81: 0 | F81: 1 | H81: 105511-Posta de Salud Rural Los Cóndores | I81: 1 | J81: 1 | K81: 3 | L81: 17 | N81: 22
A82: 105306 | B82: =IFERROR(VLOOKUP($A82,'[2]Establecimiento 2023'!$A$1:$E$183,3,FALSE),0) -> 105306-Centro de Salud Familiar Paihuano | C82: =IFERROR(VLOOKUP($A82,'[2]Establecimiento 2023'!$A$1:$E$183,5,FALSE),0) -> 04105-Paiguano | D82: 3 | E82: 6 | F82: 1 | H82: 04204-Salamanca | I82: 19 | J82: 10 | K82: 26 | L82: 193 | N82: 248
A83: 105306 | B83: =IFERROR(VLOOKUP($A83,'[2]Establecimiento 2023'!$A$1:$E$183,3,FALSE),0) -> 105306-Centro de Salud Familiar Paihuano | C83: =IFERROR(VLOOKUP($A83,'[2]Establecimiento 2023'!$A$1:$E$183,5,FALSE),0) -> 04105-Paiguano | D83: 4 | E83: 0 | F83: 1 | H83: 105452-Posta de Salud Rural Cuncumén(Salamanca) | I83: 1 | J83: 0 | N83: 1
A84: 105306 | B84: =IFERROR(VLOOKUP($A84,'[2]Establecimiento 2023'!$A$1:$E$183,3,FALSE),0) -> 105306-Centro de Salud Familiar Paihuano | C84: =IFERROR(VLOOKUP($A84,'[2]Establecimiento 2023'!$A$1:$E$183,5,FALSE),0) -> 04105-Paiguano | D84: 5 | E84: 3 | F84: 1 | H84: 105453-Posta de Salud Rural Tranquilla | I84: 4 | J84: 0 | K84: 1 | L84: 8 | N84: 13
A85: 105306 | B85: =IFERROR(VLOOKUP($A85,'[2]Establecimiento 2023'!$A$1:$E$183,3,FALSE),0) -> 105306-Centro de Salud Familiar Paihuano | C85: =IFERROR(VLOOKUP($A85,'[2]Establecimiento 2023'!$A$1:$E$183,5,FALSE),0) -> 04105-Paiguano | D85: 6 | E85: 5 | F85: 1 | H85: 105455-CESFAM Valle Alto | I85: 9 | J85: 6 | K85: 8 | L85: 178 | N85: 201
A86: 105306 | B86: =IFERROR(VLOOKUP($A86,'[2]Establecimiento 2023'!$A$1:$E$183,3,FALSE),0) -> 105306-Centro de Salud Familiar Paihuano | C86: =IFERROR(VLOOKUP($A86,'[2]Establecimiento 2023'!$A$1:$E$183,5,FALSE),0) -> 04105-Paiguano | D86: 7 | E86: 1 | F86: 1 | H86: 105456-Posta de Salud Rural Llimpo | I86: 1 | J86: 0 | K86: 2 | N86: 3
A87: 105307 | B87: =IFERROR(VLOOKUP($A87,'[2]Establecimiento 2023'!$A$1:$E$183,3,FALSE),0) -> 105307-Centro de Salud Familiar Monte Patria | C87: =IFERROR(VLOOKUP($A87,'[2]Establecimiento 2023'!$A$1:$E$183,5,FALSE),0) -> 04303-Monte Patria | D87: 1 | E87: 5 | F87: 1 | H87: 105457-Posta de Salud Rural San Agustín (Salamanca) | K87: 2 | N87: 2
A88: 105307 | B88: =IFERROR(VLOOKUP($A88,'[2]Establecimiento 2023'!$A$1:$E$183,3,FALSE),0) -> 105307-Centro de Salud Familiar Monte Patria | C88: =IFERROR(VLOOKUP($A88,'[2]Establecimiento 2023'!$A$1:$E$183,5,FALSE),0) -> 04303-Monte Patria | D88: 2 | E88: 4 | F88: 1 | H88: 105458-Posta de Salud Rural Tahuinco | I88: 0 | J88: 1 | K88: 5 | L88: 4 | N88: 10
A89: 105307 | B89: =IFERROR(VLOOKUP($A89,'[2]Establecimiento 2023'!$A$1:$E$183,3,FALSE),0) -> 105307-Centro de Salud Familiar Monte Patria | C89: =IFERROR(VLOOKUP($A89,'[2]Establecimiento 2023'!$A$1:$E$183,5,FALSE),0) -> 04303-Monte Patria | D89: 3 | E89: 5 | F89: 1 | H89: 105491-Posta de Salud Rural Quelén Bajo | I89: 4 | J89: 2 | K89: 5 | L89: 2 | N89: 13
A90: 105307 | B90: =IFERROR(VLOOKUP($A90,'[2]Establecimiento 2023'!$A$1:$E$183,3,FALSE),0) -> 105307-Centro de Salud Familiar Monte Patria | C90: =IFERROR(VLOOKUP($A90,'[2]Establecimiento 2023'!$A$1:$E$183,5,FALSE),0) -> 04303-Monte Patria | D90: 4 | E90: 3 | F90: 1 | H90: 105492-Posta de Salud Rural Camisa | I90: 0 | J90: 1 | K90: 3 | N90: 4
A91: 105307 | B91: =IFERROR(VLOOKUP($A91,'[2]Establecimiento 2023'!$A$1:$E$183,3,FALSE),0) -> 105307-Centro de Salud Familiar Monte Patria | C91: =IFERROR(VLOOKUP($A91,'[2]Establecimiento 2023'!$A$1:$E$183,5,FALSE),0) -> 04303-Monte Patria | D91: 5 | E91: 3 | F91: 1 | H91: 105501-Posta de Salud Rural Arboleda Grande | I91: 0 | L91: 1 | N91: 1
A92: 105307 | B92: =IFERROR(VLOOKUP($A92,'[2]Establecimiento 2023'!$A$1:$E$183,3,FALSE),0) -> 105307-Centro de Salud Familiar Monte Patria | C92: =IFERROR(VLOOKUP($A92,'[2]Establecimiento 2023'!$A$1:$E$183,5,FALSE),0) -> 04303-Monte Patria | D92: 6 | E92: 4 | F92: 1 | H92: 04301-Ovalle | I92: 255 | J92: 37 | K92: 537 | L92: 1308 | M92: 58 | N92: 2195
A93: 105307 | B93: =IFERROR(VLOOKUP($A93,'[2]Establecimiento 2023'!$A$1:$E$183,3,FALSE),0) -> 105307-Centro de Salud Familiar Monte Patria | C93: =IFERROR(VLOOKUP($A93,'[2]Establecimiento 2023'!$A$1:$E$183,5,FALSE),0) -> 04303-Monte Patria | D93: 7 | E93: 4 | F93: 1 | H93: 105315-Centro de Salud Familiar Cerrillos de Tamaya | I93: 14 | J93: 2 | K93: 44 | L93: 6 | N93: 66
A94: 105308 | B94: =IFERROR(VLOOKUP($A94,'[2]Establecimiento 2023'!$A$1:$E$183,3,FALSE),0) -> 105308-Centro de Salud Familiar Punitaqui | C94: =IFERROR(VLOOKUP($A94,'[2]Establecimiento 2023'!$A$1:$E$183,5,FALSE),0) -> 04304-Punitaqui | D94: 1 | E94: 3 | F94: 1 | H94: 105317-Centro de Salud Familiar Jorge Jordán Domic | I94: 23 | J94: 1 | K94: 151 | L94: 13 | N94: 188
A95: 105308 | B95: =IFERROR(VLOOKUP($A95,'[2]Establecimiento 2023'!$A$1:$E$183,3,FALSE),0) -> 105308-Centro de Salud Familiar Punitaqui | C95: =IFERROR(VLOOKUP($A95,'[2]Establecimiento 2023'!$A$1:$E$183,5,FALSE),0) -> 04304-Punitaqui | D95: 2 | E95: 3 | F95: 1 | H95: 105322-Centro de Salud Familiar Marcos Macuada | I95: 69 | J95: 0 | K95: 53 | L95: 810 | N95: 932
A96: 105308 | B96: =IFERROR(VLOOKUP($A96,'[2]Establecimiento 2023'!$A$1:$E$183,3,FALSE),0) -> 105308-Centro de Salud Familiar Punitaqui | C96: =IFERROR(VLOOKUP($A96,'[2]Establecimiento 2023'!$A$1:$E$183,5,FALSE),0) -> 04304-Punitaqui | D96: 3 | E96: 6 | F96: 1 | H96: 105324-Centro de Salud Familiar Sotaquí | I96: 8 | K96: 31 | L96: 61 | N96: 100
A97: 105308 | B97: =IFERROR(VLOOKUP($A97,'[2]Establecimiento 2023'!$A$1:$E$183,3,FALSE),0) -> 105308-Centro de Salud Familiar Punitaqui | C97: =IFERROR(VLOOKUP($A97,'[2]Establecimiento 2023'!$A$1:$E$183,5,FALSE),0) -> 04304-Punitaqui | D97: 4 | E97: 4 | F97: 1 | H97: 105415-Posta de Salud Rural Barraza | I97: 1 | K97: 4 | N97: 5
A98: 105308 | B98: =IFERROR(VLOOKUP($A98,'[2]Establecimiento 2023'!$A$1:$E$183,3,FALSE),0) -> 105308-Centro de Salud Familiar Punitaqui | C98: =IFERROR(VLOOKUP($A98,'[2]Establecimiento 2023'!$A$1:$E$183,5,FALSE),0) -> 04304-Punitaqui | D98: 5 | E98: 11 | F98: 1 | H98: 105416-Posta de Salud Rural Camarico (Ovalle) | I98: 9 | K98: 6 | N98: 15
A99: 105308 | B99: =IFERROR(VLOOKUP($A99,'[2]Establecimiento 2023'!$A$1:$E$183,3,FALSE),0) -> 105308-Centro de Salud Familiar Punitaqui | C99: =IFERROR(VLOOKUP($A99,'[2]Establecimiento 2023'!$A$1:$E$183,5,FALSE),0) -> 04304-Punitaqui | D99: 6 | E99: 2 | F99: 1 | H99: 105417-Posta de Salud Rural Alcones Bajo | I99: 4 | K99: 1 | L99: 6 | N99: 11
A100: 105308 | B100: =IFERROR(VLOOKUP($A100,'[2]Establecimiento 2023'!$A$1:$E$183,3,FALSE),0) -> 105308-Centro de Salud Familiar Punitaqui | C100: =IFERROR(VLOOKUP($A100,'[2]Establecimiento 2023'!$A$1:$E$183,5,FALSE),0) -> 04304-Punitaqui | D100: 7 | E100: 14 | F100: 1 | H100: 105419-Posta de Salud Rural Las Sossas | I100: 0 | N100: 0
A101: 105309 | B101: =IFERROR(VLOOKUP($A101,'[2]Establecimiento 2023'!$A$1:$E$183,3,FALSE),0) -> 105309-Centro de Salud Familiar Canela | C101: =IFERROR(VLOOKUP($A101,'[2]Establecimiento 2023'!$A$1:$E$183,5,FALSE),0) -> 04202-Canela | D101: 1 | E101: 1 | F101: 1 | H101: 105422-Posta de Salud Rural Hornillos | I101: 1 | K101: 1 | N101: 2
...

Sheet Ges Odont 
A1: Idestablecimiento | B1: Comuna | C1: Mes | D1: Total | E1: Posición
A2: 105104 | B2: =IFERROR(VLOOKUP(A2,'[1]Establecimiento 2023'!$A$1:$E$183,5,FALSE),0) -> 105104-Hospital Salamanca | C2: 1 | D2: 0 | E2: 1
A3: 105104 | B3: =IFERROR(VLOOKUP(A3,'[1]Establecimiento 2023'!$A$1:$E$183,5,FALSE),0) -> 105104-Hospital Salamanca | C3: 2 | D3: 0 | E3: 1
A4: 105104 | B4: =IFERROR(VLOOKUP(A4,'[1]Establecimiento 2023'!$A$1:$E$183,5,FALSE),0) -> 105104-Hospital Salamanca | C4: 3 | D4: 0 | E4: 1
A5: 105104 | B5: =IFERROR(VLOOKUP(A5,'[1]Establecimiento 2023'!$A$1:$E$183,5,FALSE),0) -> 105104-Hospital Salamanca | C5: 4 | D5: 1 | E5: 1
A6: 105104 | B6: =IFERROR(VLOOKUP(A6,'[1]Establecimiento 2023'!$A$1:$E$183,5,FALSE),0) -> 105104-Hospital Salamanca | C6: 5 | D6: 1 | E6: 1
A7: 105105 | B7: =IFERROR(VLOOKUP(A7,'[1]Establecimiento 2023'!$A$1:$E$183,5,FALSE),0) -> 105105-Hospital Combarbalá | C7: 1 | D7: 0 | E7: 1
A8: 105105 | B8: =IFERROR(VLOOKUP(A8,'[1]Establecimiento 2023'!$A$1:$E$183,5,FALSE),0) -> 105105-Hospital Combarbalá | C8: 2 | D8: 0 | E8: 1
A9: 105105 | B9: =IFERROR(VLOOKUP(A9,'[1]Establecimiento 2023'!$A$1:$E$183,5,FALSE),0) -> 105105-Hospital Combarbalá | C9: 3 | D9: 0 | E9: 1
A10: 105105 | B10: =IFERROR(VLOOKUP(A10,'[1]Establecimiento 2023'!$A$1:$E$183,5,FALSE),0) -> 105105-Hospital Combarbalá | C10: 4 | D10: 4 | E10: 1
A11: 105105 | B11: =IFERROR(VLOOKUP(A11,'[1]Establecimiento 2023'!$A$1:$E$183,5,FALSE),0) -> 105105-Hospital Combarbalá | C11: 5 | D11: 5 | E11: 1
A12: 105106 | B12: =IFERROR(VLOOKUP(A12,'[1]Establecimiento 2023'!$A$1:$E$183,5,FALSE),0) -> 105106-Hospital Andacollo | C12: 1 | D12: 0 | E12: 1
A13: 105106 | B13: =IFERROR(VLOOKUP(A13,'[1]Establecimiento 2023'!$A$1:$E$183,5,FALSE),0) -> 105106-Hospital Andacollo | C13: 2 | D13: 7 | E13: 1
... A1016: 105300 | B1016: =IFERROR(VLOOKUP(A1016,'[1]Establecimiento 2023'!$A$1:$E$183,5,FALSE),0) -> 04101-La Serena | C1016: 5 | D1016: 2 | E1016: 5
A1017: 105301 | B1017: =IFERROR(VLOOKUP(A1017,'[1]Establecimiento 2023'!$A$1:$E$183,5,FALSE),0) -> 04101-La Serena | C1017: 2 | D1017: 12 | E1017: 5 | H1017: Mes | I1017: (Todas)
A1018: 105301 | B1018: =IFERROR(VLOOKUP(A1018,'[1]Establecimiento 2023'!$A$1:$E$183,5,FALSE),0) -> 04101-La Serena | C1018: 3 | D1018: 3 | E1018: 5
A1019: 105301 | B1019: =IFERROR(VLOOKUP(A1019,'[1]Establecimiento 2023'!$A$1:$E$183,5,FALSE),0) -> 04101-La Serena | C1019: 4 | D1019: 4 | E1019: 5 | H1019: Suma de Total | I1019: Etiquetas de columna
A1020: 105302 | B1020: =IFERROR(VLOOKUP(A1020,'[1]Establecimiento 2023'!$A$1:$E$183,5,FALSE),0) -> 04101-La Serena | C1020: 2 | D1020: 6 | E1020: 5 | H1020: Etiquetas de fila | I1020: 1 | J1020: 2 | K1020: 3 | L1020: 4 | M1020: 5 | N1020: Total general
A1021: 105302 | B1021: =IFERROR(VLOOKUP(A1021,'[1]Establecimiento 2023'!$A$1:$E$183,5,FALSE),0) -> 04101-La Serena | C1021: 3 | D1021: 2 | E1021: 5 | H1021: 04101-La Serena | I1021: 114 | J1021: 277 | K1021: 932 | L1021: 1122 | M1021: 76 | N1021: 2521
A1022: 105302 | B1022: =IFERROR(VLOOKUP(A1022,'[1]Establecimiento 2023'!$A$1:$E$183,5,FALSE),0) -> 04101-La Serena | C1022: 4 | D1022: 2 | E1022: 5 | H1022: 04102-Coquimbo | I1022: 14 | J1022: 49 | K1022: 871 | L1022: 798 | M1022: 9 | N1022: 1741
A1023: 105302 | B1023: =IFERROR(VLOOKUP(A1023,'[1]Establecimiento 2023'!$A$1:$E$183,5,FALSE),0) -> 04101-La Serena | C1023: 5 | D1023: 4 | E1023: 5 | H1023: 04104-La Higuera | I1023: 1 | J1023: 5 | K1023: 34 | L1023: 7 | N1023: 47
A1024: 105304 | B1024: =IFERROR(VLOOKUP(A1024,'[1]Establecimiento 2023'!$A$1:$E$183,5,FALSE),0) -> 04102-Coquimbo | C1024: 5 | D1024: 9 | E1024: 5 | H1024: 04105-Paihuano | I1024: 14 | J1024: 8 | K1024: 14 | L1024: 21 | N1024: 57
A1025: 105313 | B1025: =IFERROR(VLOOKUP(A1025,'[1]Establecimiento 2023'!$A$1:$E$183,5,FALSE),0) -> 04101-La Serena | C1025: 1 | D1025: 1 | E1025: 5 | H1025: 04106-Vicuña | I1025: 17 | J1025: 6 | K1025: 45 | L1025: 59 | N1025: 127
A1026: 105313 | B1026: =IFERROR(VLOOKUP(A1026,'[1]Establecimiento 2023'!$A$1:$E$183,5,FALSE),0) -> 04101-La Serena | C1026: 2 | D1026: 1 | E1026: 5 | H1026: 04201-Illapel | I1026: 3 | J1026: 34 | K1026: 105 | L1026: 253 | M1026: 3 | N1026: 398
A1027: 105313 | B1027: =IFERROR(VLOOKUP(A1027,'[1]Establecimiento 2023'!$A$1:$E$183,5,FALSE),0) -> 04101-La Serena | C1027: 3 | D1027: 2 | E1027: 5 | H1027: 04202-Canela | I1027: 0 | J1027: 2 | K1027: 24 | L1027: 177 | N1027: 203
A1028: 105313 | B1028: =IFERROR(VLOOKUP(A1028,'[1]Establecimiento 2023'!$A$1:$E$183,5,FALSE),0) -> 04101-La Serena | C1028: 4 | D1028: 2 | E1028: 5 | H1028: 04203-Los Vilos | I1028: 0 | J1028: 2 | K1028: 16 | L1028: 71 | N1028: 89
A1029: 105319 | B1029: =IFERROR(VLOOKUP(A1029,'[1]Establecimiento 2023'!$A$1:$E$183,5,FALSE),0) -> 04101-La Serena | C1029: 1 | D1029: 2 | E1029: 5 | H1029: 04204-Salamanca | I1029: 0 | J1029: 8 | K1029: 20 | L1029: 141 | N1029: 169
A1030: 105319 | B1030: =IFERROR(VLOOKUP(A1030,'[1]Establecimiento 2023'!$A$1:$E$183,5,FALSE),0) -> 04101-La Serena | C1030: 2 | D1030: 1 | E1030: 5 | H1030: 04301-Ovalle | I1030: 20 | J1030: 30 | K1030: 410 | L1030: 909 | M1030: 16 | N1030: 1385
A1031: 105319 | B1031: =IFERROR(VLOOKUP(A1031,'[1]Establecimiento 2023'!$A$1:$E$183,5,FALSE),0) -> 04101-La Serena | C1031: 3 | D1031: 3 | E1031: 5 | H1031: 04302-Combarbalá | I1031: 2 | J1031: 3 | K1031: 4 | L1031: 11 | N1031: 20
A1032: 105319 | B1032: =IFERROR(VLOOKUP(A1032,'[1]Establecimiento 2023'!$A$1:$E$183,5,FALSE),0) -> 04101-La Serena | C1032: 4 | D1032: 8 | E1032: 5 | H1032: 04303-Monte Patria | I1032: 28 | J1032: 18 | K1032: 121 | L1032: 680 | N1032: 847
A1033: 105319 | B1033: =IFERROR(VLOOKUP(A1033,'[1]Establecimiento 2023'!$A$1:$E$183,5,FALSE),0) -> 04101-La Serena | C1033: 5 | D1033: 7 | E1033: 5 | H1033: 04304-Punitaqui | I1033: 3 | J1033: 19 | K1033: 42 | L1033: 74 | N1033: 138
A1034: 105443 | B1034: =IFERROR(VLOOKUP(A1034,'[1]Establecimiento 2023'!$A$1:$E$183,5,FALSE),0) -> 04201-Illapel | C1034: 2 | D1034: 1 | E1034: 5 | H1034: 04305-Rio Hurtado | K1034: 13 | L1034: 21 | N1034: 34
A1035: 105448 | B1035: =IFERROR(VLOOKUP(A1035,'[1]Establecimiento 2023'!$A$1:$E$183,5,FALSE),0) -> 04201-Illapel | C1035: 2 | D1035: 1 | E1035: 5 | H1035: 105104-Hospital Salamanca | I1035: 2 | J1035: 20 | K1035: 84 | L1035: 635 | M1035: 7 | N1035: 748
A1036: 105486 | B1036: =IFERROR(VLOOKUP(A1036,'[1]Establecimiento 2023'!$A$1:$E$183,5,FALSE),0) -> 04201-Illapel | C1036: 5 | D1036: 1 | E1036: 5 | H1036: 105105-Hospital Combarbalá | I1036: 9 | J1036: 19 | K1036: 19 | L1036: 128 | M1036: 3 | N1036: 178
A1037: 200569 | B1037: =IFERROR(VLOOKUP(A1037,'[1]Establecimiento 2023'!$A$1:$E$183,5,FALSE),0) -> 04301-Ovalle | C1037: 3 | D1037: 5 | E1037: 5 | H1037: 105106-Hospital Andacollo | I1037: 26 | J1037: 19 | K1037: 41 | L1037: 141 | M1037: 1 | N1037: 228
A1038: 200569 | B1038: =IFERROR(VLOOKUP(A1038,'[1]Establecimiento 2023'!$A$1:$E$183,5,FALSE),0) -> 04301-Ovalle | C1038: 4 | D1038: 5 | E1038: 5 | H1038: 105107-Hospital Vicuña | I1038: 18 | J1038: 34 | K1038: 63 | L1038: 101 | N1038: 216
A1039: 200569 | B1039: =IFERROR(VLOOKUP(A1039,'[1]Establecimiento 2023'!$A$1:$E$183,5,FALSE),0) -> 04301-Ovalle | C1039: 5 | D1039: 6 | E1039: 5 | H1039: 105108-Hospital Los Vilos | I1039: 4 | J1039: 36 | K1039: 64 | L1039: 66 | N1039: 170
H1040: Total general | I1040: 275 | J1040: 589 | K1040: 2922 | L1040: 5415 | M1040: 115 | N1040: 9316
